Workbook

Sheet Indice
C4: ESTADÍSTICA MENSUAL DE MOVILIDAD DE CARTERA DE COTIZANTES DEL SISTEMA ISAPRE A NIVEL REGIONAL
D6: AGOSTO | E6: =CONCATENATE(2025," ","Y"," ",D6," ",2026) -> 2025 Y AGOSTO 2026
B8: CONTENIDO
B10: La Estadística Mensual de Movilidad de Cartera de Cotizantes del Sistema Isapre a Nivel Regional contiene los siguientes cuadros de información, a Nivel Nacional y para cada Región del país:
B11: (1) Cotizantes que abandonan el Sistema Isapre, Cotización Pactada promedio y Número de cargas promedio, por Sexo y Tramo de Edad.
B12: (2) Cotizantes que ingresan al Sistema Isapre, Cotización Pactada promedio y Número de cargas promedio, por Sexo y Tramo de Edad.
B13: (3) Diferencia de Cotizantes que abandonan y los que ingresan al Sistema Isapre, Cotización Pactada promedio y Número de cargas promedio, por Sexo y Tramo de Edad.
B14: (4) Cotizantes que se cambian de Isapre, Cotización Pactada promedio y Número de cargas promedio, por Sexo y Tramo de Edad.
B15: (5) Cotizantes Vigentes, Cotización Pactada promedio y Número de cargas promedio, por Sexo y Tramo de Edad.
B18: INDICE
B20: HOJA | C20: CONTENIDO
B22: Nacional | C22: Estadística Mensual de Movilidad de Cartera de Cotizantes del Sistema Isapre - Nivel Nacional
B23: XV | C23: Estadística Mensual de Movilidad de Cartera de Cotizantes del Sistema Isapre a Nivel Regional - Región de Arica y Parinacota
B24: I | C24: Estadística Mensual de Movilidad de Cartera de Cotizantes del Sistema Isapre a Nivel Regional - Región de Tarapacá
B25: II | C25: Estadística Mensual de Movilidad de Cartera de Cotizantes del Sistema Isapre a Nivel Regional - Región de Antofagasta
B26: III | C26: Estadística Mensual de Movilidad de Cartera de Cotizantes del Sistema Isapre a Nivel Regional - Región de Atacama
B27: IV | C27: Estadística Mensual de Movilidad de Cartera de Cotizantes del Sistema Isapre a Nivel Regional - Región de Coquimbo
B28: V | C28: Estadística Mensual de Movilidad de Cartera de Cotizantes del Sistema Isapre a Nivel Regional - Región de Valparaíso
B29: VI | C29: Estadística Mensual de Movilidad de Cartera de Cotizantes del Sistema Isapre a Nivel Regional - Región del Libertador Bernardo O´higgins
B30: VII | C30: Estadística Mensual de Movilidad de Cartera de Cotizantes del Sistema Isapre a Nivel Regional - Región del Maule
B31: XVI | C31: Estadística Mensual de Movilidad de Cartera de Cotizantes del Sistema Isapre a Nivel Regional - Región de Ñuble
B32: VIII | C32: Estadística Mensual de Movilidad de Cartera de Cotizantes del Sistema Isapre a Nivel Regional - Región del Biobío
... B40: Ficha Metadatos | C40: Ficha Metadatos de la Estadística.

Sheet Notas
C4: ESTADÍSTICA MENSUAL DE MOVILIDAD DE CARTERA DE COTIZANTES DEL SISTEMA ISAPRE A NIVEL REGIONAL
C6: =CONCATENATE(Indice!D6," ",Indice!E6) -> AGOSTO 2025 Y AGOSTO 2026
B8: NOTAS
B10: N° | C10: DESCRIPCIÓN
B12: 1 | C12: Los Cotizantes que abandonan el Sistema Isapre son aquellos Cotizantes que se encontraban con beneficios vigentes en el periodo 1 de información (del año anterior) y no se encuentran en el periodo 2 de información (del año actual). Se infiere que estos cotizantes se cambiaron a FONASA, a otro Sistema de Salud, o que han fallecido. Para ellos se incorpora el porcentaje que significan respecto al total de Cotizantes Vigentes (del periodo de información 2), la Cotización Pactada promedio (actualizada según variación del IPC entre ambos periodos) y el Número de Cargas promedio, para cada Tramo de Edad, Sexo y Región, que fueron informados en el periodo de información 1.
B13: 2 | C13: Los Cotizantes que ingresan al Sistema Isapre son aquellos Cotizantes que no se encontraban en el periodo 1 de información (del año anterior) y se encuentran con beneficios vigentes en el periodo 2 de información (del año actual). Se infiere que estos cotizantes vienen de FONASA u otro Sistema de Salud o que ingresan por primera vez a trabajar. Para ellos se incorpora el porcentaje que significan respecto al total de Cotizantes Vigentes, la Cotización Pactada promedio y el Número de Cargas promedio, para cada Tramo de Edad, Sexo y Región, que fueron informados en el periodo de información 2.
B14: 3 | C14: La Diferencia de Cotizantes corresponde al resultado neto entre los cotizantes que ingresan al Sistema Isapre (Cuadro 2) y los que lo abandonan (Cuadro 1), considerando también las diferencias en la Cotización Pactada promedio y Número de Cargas promedio, para cada Tramo de Edad, Sexo y Región.
B15: 4 | C15: Los Cotizantes que se cambian de Isapre son aquellos Cotizantes que en el periodo de información 2 (año actual) se encuentran con beneficios vigentes en una Isapre distinta a la que se encontraban en el periodo de información 1 (año anterior). Para ellos se incorpora el porcentaje que significan respecto al total de Cotizantes Vigentes, la Cotización Pactada promedio y el Número de Cargas promedio, para cada tramo de edad, Sexo y Región, que fueron informados en el periodo de información 2.
B16: 5 | C16: Los Cotizantes que se movilizan en el Sistema Isapre corresponde a la sumatoria de aquellos que ingresaron al Sistema, los que lo abandonaron y los que se cambiaron de Isapre.
B17: 6 | C17: La categoría S/I corresponde a "Sin dato disponible" al momento de la elaboración del producto estadístico.
B18: 7 | C18: La información presentada corresponde a "Información provisional" dado que se genera desde los datos suministrados mensualmente por las Instituciones de Salud Previsional (Isapres), por lo que están sujetas a modificación producto de revisiones posteriores de la Superintendencia de Salud.
B19: 8 | C19: Fuente de Información: Superintendencia de Salud, Archivos Maestros de Cotizantes y Cargas de Isapres, Contratos y Cotizaciones de Salud.

Sheet Nacional
A2: NIVEL NACIONAL
A3: =+Notas!C6 -> AGOSTO 2025 Y AGOSTO 2026
A6: N° | B6: Cuadro | C6: Tramo de Edad | D6: Sistema Isapre | H6: Sexo Femenino | K6: Sexo Masculino | N6: Sin Información Sexo
D7: N° Cotizantes | E7: % de Cotizantes Vigentes | F7: Cotización Pactada Promedio por Cotizante ($) | G7: N° Cargas Promedio por Cotizante | H7: N° Cotizantes | I7: Cotización Pactada Promedio por Cotizante ($) | J7: N° Cargas Promedio por Cotizante | K7: N° Cotizantes | L7: Cotización Pactada Promedio por Cotizante ($) | M7: N° Cargas Promedio por Cotizante | N7: N° Cotizantes | O7: Cotización Pactada Promedio por Cotizante ($) | P7: N° Cargas Promedio por Cotizante
A8: 1 | B8: Cotizantes que abandonan el Sistema Isapre | C8: 0 a 19 años | D8: 181 | E8: 0.105601 | F8: 91071.268 | G8: 0.20442 | H8: 98 | I8: 98049.382 | J8: 0.22449 | K8: 83 | L8: 82832.048 | M8: 0.180723 | N8: 0 | O8: 0 | P8: 0
C9: 20 a 24 años | D9: 1402 | E9: 0.123972 | F9: 135169.71 | G9: 0.145506 | H9: 537 | I9: 142918.52 | J9: 0.206704 | K9: 865 | L9: 130359.18 | M9: 0.107514 | N9: 0 | O9: 0 | P9: 0
C10: 25 a 29 años | D10: 8027 | E10: 0.094734 | F10: 153445.04 | G10: 0.154354 | H10: 3344 | I10: 161628.81 | J10: 0.223983 | K10: 4683 | L10: 147601.24 | M10: 0.104634 | N10: 0 | O10: 0 | P10: 0
C11: 30 a 34 años | D11: 16531 | E11: 0.090891 | F11: 175226.98 | G11: 0.294054 | H11: 6718 | I11: 187884.11 | J11: 0.43376 | K11: 9813 | L11: 166561.88 | M11: 0.19841 | N11: 0 | O11: 0 | P11: 0
C12: 35 a 39 años | D12: 18986 | E12: 0.077061 | F12: 201242.77 | G12: 0.484199 | H12: 7516 | I12: 218446.2 | J12: 0.636642 | K12: 11470 | L12: 189969.8 | M12: 0.384307 | N12: 0 | O12: 0 | P12: 0
C13: 40 a 44 años | D13: 14998 | E13: 0.068315 | F13: 225254.53 | G13: 0.661755 | H13: 5399 | I13: 236492.22 | J13: 0.707353 | K13: 9599 | L13: 218933.84 | M13: 0.636108 | N13: 0 | O13: 0 | P13: 0
C14: 45 a 49 años | D14: 11577 | E14: 0.061268 | F14: 235779.82 | G14: 0.764965 | H14: 3991 | I14: 231107.44 | J14: 0.640942 | K14: 7586 | L14: 238237.95 | M14: 0.830214 | N14: 0 | O14: 0 | P14: 0
C15: 50 a 54 años | D15: 9690 | E15: 0.058729 | F15: 237901.44 | G15: 0.771104 | H15: 3291 | I15: 225696.68 | J15: 0.587056 | K15: 6399 | L15: 244178.33 | M15: 0.86576 | N15: 0 | O15: 0 | P15: 0
C16: 55 a 59 años | D16: 7303 | E16: 0.056677 | F16: 236976.7 | G16: 0.667671 | H16: 2500 | I16: 213672.99 | J16: 0.3816 | K16: 4803 | L16: 249106.47 | M16: 0.816573 | N16: 0 | O16: 0 | P16: 0
C17: 60 a 64 años | D17: 7443 | E17: 0.070058 | F17: 239895.4 | G17: 0.527072 | H17: 2907 | I17: 216146.27 | J17: 0.212246 | K17: 4536 | L17: 255115.58 | M17: 0.728836 | N17: 0 | O17: 0 | P17: 0
C18: 65 y más años | D18: 11397 | E18: 0.052625 | F18: 253174.99 | G18: 0.384136 | H18: 4239 | I18: 217110.4 | J18: 0.092475 | K18: 7158 | L18: 274532.6 | M18: 0.556859 | N18: 0 | O18: 0 | P18: 0
C19: Total | D19: 107535 | E19: 0.069325 | F19: 213605.25 | G19: 0.511127 | H19: 40540 | I19: 211042.91 | J19: 0.465047 | K19: 66995 | L19: 215155.77 | M19: 0.53901 | N19: 0 | O19: 0 | P19: 0
A20: 2 | B20: Cotizantes que ingresan al Sistema Isapre | C20: 0 a 19 años | D20: 630 | E20: 0.367561 | F20: 96800.157 | G20: 0.12381 | H20: 248 | I20: 96793.351 | J20: 0.137097 | K20: 382 | L20: 96804.576 | M20: 0.115183 | N20: 0 | O20: 0 | P20: 0
C21: 20 a 24 años | D21: 6225 | E21: 0.550447 | F21: 132250.23 | G21: 0.063775 | H21: 2497 | I21: 135275.76 | J21: 0.060473 | K21: 3728 | L21: 130223.74 | M21: 0.065987 | N21: 0 | O21: 0 | P21: 0
C22: 25 a 29 años | D22: 25939 | E22: 0.30613 | F22: 147519.32 | G22: 0.064652 | H22: 11692 | I22: 150947.15 | J22: 0.065173 | K22: 14247 | L22: 144706.22 | M22: 0.064224 | N22: 0 | O22: 0 | P22: 0
C23: 30 a 34 años | D23: 20679 | E23: 0.113697 | F23: 162520.85 | G23: 0.183374 | H23: 9010 | I23: 165404.45 | J23: 0.193119 | K23: 11669 | L23: 160294.33 | M23: 0.175851 | N23: 0 | O23: 0 | P23: 0
C24: 35 a 39 años | D24: 15038 | E24: 0.061037 | F24: 187394.07 | G24: 0.329299 | H24: 6104 | I24: 193050.19 | J24: 0.3596 | K24: 8934 | L24: 183529.62 | M24: 0.308596 | N24: 0 | O24: 0 | P24: 0
C25: 40 a 44 años | D25: 9980 | E25: 0.045458 | F25: 203113.68 | G25: 0.462124 | H25: 3831 | I25: 204932.43 | J25: 0.459932 | K25: 6149 | L25: 201980.55 | M25: 0.46349 | N25: 0 | O25: 0 | P25: 0
C26: 45 a 49 años | D26: 6717 | E26: 0.035548 | F26: 212058.26 | G26: 0.502605 | H26: 2670 | I26: 208891.9 | J26: 0.450562 | K26: 4047 | L26: 214147.27 | M26: 0.536941 | N26: 0 | O26: 0 | P26: 0
C27: 50 a 54 años | D27: 5014 | E27: 0.030389 | F27: 210394.66 | G27: 0.469485 | H27: 1921 | I27: 199595.32 | J27: 0.350859 | K27: 3093 | L27: 217101.91 | M27: 0.543162 | N27: 0 | O27: 0 | P27: 0
C28: 55 a 59 años | D28: 2235 | E28: 0.017345 | F28: 234612.45 | G28: 0.422819 | H28: 818 | I28: 225579.61 | J28: 0.311736 | K28: 1417 | L28: 239826.89 | M28: 0.486944 | N28: 0 | O28: 0 | P28: 0
C29: 60 a 64 años | D29: 1119 | E29: 0.010533 | F29: 234892.86 | G29: 0.300268 | H29: 481 | I29: 211981.11 | J29: 0.128898 | K29: 638 | L29: 252166.45 | M29: 0.429467 | N29: 0 | O29: 0 | P29: 0
C30: 65 y más años | D30: 1461 | E30: 0.006746 | F30: 180477.2 | G30: 0.105407 | H30: 1181 | I30: 148501.44 | J30: 0.055038 | K30: 280 | L30: 315346.4 | M30: 0.317857 | N30: 0 | O30: 0 | P30: 0
C31: Total | D31: 95037 | E31: 0.061268 | F31: 173056.98 | G31: 0.23857 | H31: 40453 | I31: 172631.5 | J31: 0.220083 | K31: 54584 | L31: 173372.3 | M31: 0.252272 | N31: 0 | O31: 0 | P31: 0
A32: 3 | B32: Diferencia de Cotizantes | C32: 0 a 19 años | D32: 449 | E32: 0 | F32: 5728.8896 | G32: -0.08061 | H32: 150 | I32: -1256.0309 | J32: -0.087393 | K32: 299 | L32: 13972.527 | M32: -0.06554 | N32: 0 | O32: 0 | P32: 0
C33: 20 a 24 años | D33: 4823 | E33: 0 | F33: -2919.486 | G33: -0.081731 | H33: 1960 | I33: -7642.7609 | J33: -0.146231 | K33: 2863 | L33: -135.44463 | M33: -0.041527 | N33: 0 | O33: 0 | P33: 0
C34: 25 a 29 años | D34: 17912 | E34: 0 | F34: -5925.7232 | G34: -0.089702 | H34: 8348 | I34: -10681.659 | J34: -0.15881 | K34: 9564 | L34: -2895.0211 | M34: -0.04041 | N34: 0 | O34: 0 | P34: 0
C35: 30 a 34 años | D35: 4148 | E35: 0 | F35: -12706.128 | G35: -0.110679 | H35: 2292 | I35: -22479.664 | J35: -0.240641 | K35: 1856 | L35: -6267.5445 | M35: -0.02256 | N35: 0 | O35: 0 | P35: 0
C36: 35 a 39 años | D36: -3948 | E36: 0 | F36: -13848.698 | G36: -0.1549 | H36: -1412 | I36: -25396.004 | J36: -0.277042 | K36: -2536 | L36: -6440.1757 | M36: -0.075711 | N36: 0 | O36: 0 | P36: 0
C37: 40 a 44 años | D37: -5018 | E37: 0 | F37: -22140.848 | G37: -0.199631 | H37: -1568 | I37: -31559.782 | J37: -0.247421 | K37: -3450 | L37: -16953.296 | M37: -0.172618 | N37: 0 | O37: 0 | P37: 0
C38: 45 a 49 años | D38: -4860 | E38: 0 | F38: -23721.552 | G38: -0.26236 | H38: -1321 | I38: -22215.547 | J38: -0.19038 | K38: -3539 | L38: -24090.686 | M38: -0.293273 | N38: 0 | O38: 0 | P38: 0
C39: 50 a 54 años | D39: -4676 | E39: 0 | F39: -27506.778 | G39: -0.301619 | H39: -1370 | I39: -26101.362 | J39: -0.236197 | K39: -3306 | L39: -27076.421 | M39: -0.322598 | N39: 0 | O39: 0 | P39: 0
C40: 55 a 59 años | D40: -5068 | E40: 0 | F40: -2364.2536 | G40: -0.244852 | H40: -1682 | I40: 11906.621 | J40: -0.069864 | K40: -3386 | L40: -9279.5829 | M40: -0.329629 | N40: 0 | O40: 0 | P40: 0
C41: 60 a 64 años | D41: -6324 | E41: 0 | F41: -5002.5473 | G41: -0.226804 | H41: -2426 | I41: -4165.1617 | J41: -0.083348 | K41: -3898 | L41: -2949.1355 | M41: -0.299369 | N41: 0 | O41: 0 | P41: 0
C42: 65 y más años | D42: -9936 | E42: 0 | F42: -72697.785 | G42: -0.278729 | H42: -3058 | I42: -68608.954 | J42: -0.037437 | K42: -6878 | L42: 40813.797 | M42: -0.239002 | N42: 0 | O42: 0 | P42: 0
C43: Total | D43: -12498 | E43: 0 | F43: -40548.274 | G43: -0.272556 | H43: -87 | I43: -38411.407 | J43: -0.244964 | K43: -12411 | L43: -41783.472 | M43: -0.286739 | N43: 0 | O43: 0 | P43: 0
A44: 4 | B44: Cotizantes que se cambian de Isapre | C44: 0 a 19 años | D44: 6 | E44: 0.003501 | F44: 166245.17 | G44: 0.5 | H44: 5 | I44: 122019.8 | J44: 0 | K44: 1 | L44: 387372 | M44: 3 | N44: 0 | O44: 0 | P44: 0
C45: 20 a 24 años | D45: 464 | E45: 0.041029 | F45: 152593.04 | G45: 0.142241 | H45: 150 | I45: 154423.65 | J45: 0.166667 | K45: 314 | L45: 151718.55 | M45: 0.130573 | N45: 0 | O45: 0 | P45: 0
C46: 25 a 29 años | D46: 7554 | E46: 0.089152 | F46: 174593.17 | G46: 0.155017 | H46: 2959 | I46: 173879.08 | J46: 0.137209 | K46: 4595 | L46: 175053.02 | M46: 0.166485 | N46: 0 | O46: 0 | P46: 0
C47: 30 a 34 años | D47: 20481 | E47: 0.112608 | F47: 196861.55 | G47: 0.323812 | H47: 7975 | I47: 197390.39 | J47: 0.326646 | K47: 12506 | L47: 196524.31 | M47: 0.322005 | N47: 0 | O47: 0 | P47: 0
C48: 35 a 39 años | D48: 24218 | E48: 0.098297 | F48: 228938.93 | G48: 0.588983 | H48: 8944 | I48: 232064.49 | J48: 0.614602 | K48: 15274 | L48: 227108.7 | M48: 0.573982 | N48: 0 | O48: 0 | P48: 0
C49: 40 a 44 años | D49: 19036 | E49: 0.086707 | F49: 250552.52 | G49: 0.807785 | H49: 7103 | I49: 249817.28 | J49: 0.762917 | K49: 11933 | L49: 250990.16 | M49: 0.834493 | N49: 0 | O49: 0 | P49: 0
C50: 45 a 49 años | D50: 12489 | E50: 0.066094 | F50: 263770.66 | G50: 0.929938 | H50: 4481 | I50: 253193.41 | J50: 0.77929 | K50: 8008 | L50: 269689.33 | M50: 1.014236 | N50: 0 | O50: 0 | P50: 0
C51: 50 a 54 años | D51: 8311 | E51: 0.050371 | F51: 262858.64 | G51: 0.877752 | H51: 3019 | I51: 249218.18 | J51: 0.690626 | K51: 5292 | L51: 270640.3 | M51: 0.984505 | N51: 0 | O51: 0 | P51: 0
C52: 55 a 59 años | D52: 3502 | E52: 0.027178 | F52: 272040.46 | G52: 0.706739 | H52: 1192 | I52: 250092.24 | J52: 0.447987 | K52: 2310 | L52: 283366.13 | M52: 0.84026 | N52: 0 | O52: 0 | P52: 0
C53: 60 a 64 años | D53: 1506 | E53: 0.014175 | F53: 285605.25 | G53: 0.578353 | H53: 530 | I53: 253474.35 | J53: 0.237736 | K53: 976 | L53: 303053.38 | M53: 0.76332 | N53: 0 | O53: 0 | P53: 0
C54: 65 y más años | D54: 508 | E54: 0.002346 | F54: 319375.67 | G54: 0.403543 | H54: 194 | I54: 278298.98 | J54: 0.087629 | K54: 314 | L54: 344754.25 | M54: 0.598726 | N54: 0 | O54: 0 | P54: 0
C55: Total | D55: 98075 | E55: 0.063227 | F55: 232071.98 | G55: 0.611501 | H55: 36552 | I55: 228055.86 | J55: 0.552801 | K55: 61523 | L55: 234458.04 | M55: 0.646376 | N55: 0 | O55: 0 | P55: 0
A56: 5 | B56: Cotizantes Vigentes | C56: 0 a 19 años | D56: 1714 | E56: 1 | F56: 70581.849 | G56: 0.086348 | H56: 778 | I56: 69661.911 | J56: 0.087404 | K56: 936 | L56: 71346.498 | M56: 0.08547 | N56: 0 | O56: 0 | P56: 0
C57: 20 a 24 años | D57: 11309 | E57: 1 | F57: 137594.31 | G57: 0.081263 | H57: 4621 | I57: 141035.95 | J57: 0.089591 | K57: 6688 | L57: 135216.34 | M57: 0.075508 | N57: 0 | O57: 0 | P57: 0
C58: 25 a 29 años | D58: 84732 | E58: 1 | F58: 166596.3 | G58: 0.092421 | H58: 37973 | I58: 170594.66 | J58: 0.105154 | K58: 46759 | L58: 163349.24 | M58: 0.08208 | N58: 0 | O58: 0 | P58: 0
C59: 30 a 34 años | D59: 181878 | E59: 1 | F59: 198933.06 | G59: 0.255842 | H59: 79648 | I59: 206297.61 | J59: 0.316819 | K59: 102230 | L59: 193195.3 | M59: 0.208334 | N59: 0 | O59: 0 | P59: 0
C60: 35 a 39 años | D60: 246377 | E60: 1 | F60: 235431.01 | G60: 0.500091 | H60: 103560 | I60: 247959.06 | J60: 0.587263 | K60: 142817 | L60: 226346.62 | M60: 0.436881 | N60: 0 | O60: 0 | P60: 0
C61: 40 a 44 años | D61: 219543 | E61: 1 | F61: 266606.35 | G61: 0.742228 | H61: 88908 | I61: 271621.25 | J61: 0.71691 | K61: 130635 | L61: 263193.29 | M61: 0.75946 | N61: 0 | O61: 0 | P61: 0
C62: 45 a 49 años | D62: 188957 | E62: 1 | F62: 284103.55 | G62: 0.916976 | H62: 75654 | I62: 272522.62 | J62: 0.732374 | K62: 113303 | L62: 291836.3 | M62: 1.040237 | N62: 0 | O62: 0 | P62: 0
C63: 50 a 54 años | D63: 164996 | E63: 1 | F63: 290650.03 | G63: 0.959157 | H63: 66365 | I63: 267618.09 | J63: 0.677013 | K63: 98631 | L63: 306147.33 | M63: 1.149 | N63: 0 | O63: 0 | P63: 0
C64: 55 a 59 años | D64: 128852 | E64: 1 | F64: 287777.03 | G64: 0.845357 | H64: 51016 | I64: 253567.03 | J64: 0.493845 | K64: 77836 | L64: 310199.27 | M64: 1.075749 | N64: 0 | O64: 0 | P64: 0
C65: 60 a 64 años | D65: 106241 | E65: 1 | F65: 287651.33 | G65: 0.653957 | H65: 40828 | I65: 249442.2 | J65: 0.290707 | K65: 65413 | L65: 311499.83 | M65: 0.880681 | N65: 0 | O65: 0 | P65: 0
C66: 65 y más años | D66: 216570 | E66: 1 | F66: 284062.77 | G66: 0.387736 | H66: 92816 | I66: 232598.98 | J66: 0.091633 | K66: 123754 | L66: 322660.83 | M66: 0.609815 | N66: 0 | O66: 0 | P66: 0
C67: Total | D67: 1551169 | E67: 1 | F67: 257425.78 | G67: 0.603089 | H67: 642167 | I67: 243752.89 | J67: 0.467433 | K67: 909002 | L67: 267085.04 | M67: 0.698924 | N67: 0 | O67: 0 | P67: 0
A69: Fecha extracción de información: | D69: 46295

Sheet XV
A2: XV - REGIÓN DE ARICA Y PARINACOTA
A3: =+Notas!C6 -> AGOSTO 2025 Y AGOSTO 2026
A6: N° | B6: Cuadro | C6: Tramo de Edad | D6: Sistema Isapre | H6: Sexo Femenino | K6: Sexo Masculino | N6: Sin Información Sexo
D7: N° Cotizantes | E7: % de Cotizantes Vigentes | F7: Cotización Pactada Promedio por Cotizante ($) | G7: N° Cargas Promedio por Cotizante | H7: N° Cotizantes | I7: Cotización Pactada Promedio por Cotizante ($) | J7: N° Cargas Promedio por Cotizante | K7: N° Cotizantes | L7: Cotización Pactada Promedio por Cotizante ($) | M7: N° Cargas Promedio por Cotizante | N7: N° Cotizantes | O7: Cotización Pactada Promedio por Cotizante ($) | P7: N° Cargas Promedio por Cotizante
A8: 1 | B8: Cotizantes que abandonan el Sistema Isapre | C8: 0 a 19 años | D8: 1 | E8: 0.111111 | F8: 109215.89 | G8: 0 | H8: 1 | I8: 109215.89 | J8: 0 | K8: 0 | L8: 0 | M8: 0 | N8: 0 | O8: 0 | P8: 0
C9: 20 a 24 años | D9: 11 | E9: 0.458333 | F9: 159231.03 | G9: 0.181818 | H9: 2 | I9: 182244.81 | J9: 0 | K9: 9 | L9: 154116.86 | M9: 0.222222 | N9: 0 | O9: 0 | P9: 0
C10: 25 a 29 años | D10: 45 | E10: 0.171756 | F10: 158084.92 | G10: 0.2 | H10: 15 | I10: 151145.67 | J10: 0.133333 | K10: 30 | L10: 161554.55 | M10: 0.233333 | N10: 0 | O10: 0 | P10: 0
C11: 30 a 34 años | D11: 111 | E11: 0.138577 | F11: 169197.6 | G11: 0.225225 | H11: 32 | I11: 174427.93 | J11: 0.3125 | K11: 79 | L11: 167078.99 | M11: 0.189873 | N11: 0 | O11: 0 | P11: 0
C12: 35 a 39 años | D12: 198 | E12: 0.150456 | F12: 188126.81 | G12: 0.378788 | H12: 74 | I12: 201689.65 | J12: 0.513514 | K12: 124 | L12: 180032.86 | M12: 0.298387 | N12: 0 | O12: 0 | P12: 0
C13: 40 a 44 años | D13: 173 | E13: 0.120474 | F13: 206384.79 | G13: 0.526012 | H13: 49 | I13: 216596.29 | J13: 0.510204 | K13: 124 | L13: 202349.6 | M13: 0.532258 | N13: 0 | O13: 0 | P13: 0
C14: 45 a 49 años | D14: 146 | E14: 0.106336 | F14: 229605.5 | G14: 0.691781 | H14: 43 | I14: 220736.39 | J14: 0.534884 | K14: 103 | L14: 233308.14 | M14: 0.757282 | N14: 0 | O14: 0 | P14: 0
C15: 50 a 54 años | D15: 133 | E15: 0.106999 | F15: 222212.49 | G15: 0.684211 | H15: 40 | I15: 230831.78 | J15: 0.725 | K15: 93 | L15: 218505.27 | M15: 0.666667 | N15: 0 | O15: 0 | P15: 0
C16: 55 a 59 años | D16: 104 | E16: 0.109244 | F16: 217079.57 | G16: 0.548077 | H16: 29 | I16: 200020.42 | J16: 0.241379 | K16: 75 | L16: 223675.77 | M16: 0.666667 | N16: 0 | O16: 0 | P16: 0
C17: 60 a 64 años | D17: 101 | E17: 0.131169 | F17: 234124.24 | G17: 0.445545 | H17: 37 | I17: 216636.23 | J17: 0.162162 | K17: 64 | L17: 244234.5 | M17: 0.609375 | N17: 0 | O17: 0 | P17: 0
C18: 65 y más años | D18: 141 | E18: 0.116529 | F18: 248160.04 | G18: 0.304965 | H18: 54 | I18: 219546.74 | J18: 0.092593 | K18: 87 | L18: 265920.01 | M18: 0.436782 | N18: 0 | O18: 0 | P18: 0
C19: Total | D19: 1164 | E19: 0.123883 | F19: 210480.45 | G19: 0.463058 | H19: 376 | I19: 208131.46 | J19: 0.385638 | K19: 788 | L19: 211601.29 | M19: 0.5 | N19: 0 | O19: 0 | P19: 0
A20: 2 | B20: Cotizantes que ingresan al Sistema Isapre | C20: 0 a 19 años | D20: 2 | E20: 0.222222 | F20: 24977 | G20: 0 | H20: 1 | I20: 24977 | J20: 0 | K20: 1 | L20: 24977 | M20: 0 | N20: 0 | O20: 0 | P20: 0
C21: 20 a 24 años | D21: 13 | E21: 0.541667 | F21: 118616.54 | G21: 0 | H21: 4 | I21: 114324.75 | J21: 0 | K21: 9 | L21: 120524 | M21: 0 | N21: 0 | O21: 0 | P21: 0
C22: 25 a 29 años | D22: 89 | E22: 0.339695 | F22: 147166.88 | G22: 0.067416 | H22: 26 | I22: 151245.88 | J22: 0.115385 | K22: 63 | L22: 145483.48 | M22: 0.047619 | N22: 0 | O22: 0 | P22: 0
C23: 30 a 34 años | D23: 95 | E23: 0.118602 | F23: 174049.15 | G23: 0.189474 | H23: 22 | I23: 192206.27 | J23: 0.181818 | K23: 73 | L23: 168577.14 | M23: 0.191781 | N23: 0 | O23: 0 | P23: 0
C24: 35 a 39 años | D24: 108 | E24: 0.082067 | F24: 164458.06 | G24: 0.231481 | H24: 29 | I24: 181455.21 | J24: 0.310345 | K24: 79 | L24: 158218.61 | M24: 0.202532 | N24: 0 | O24: 0 | P24: 0
C25: 40 a 44 años | D25: 87 | E25: 0.060585 | F25: 179403.06 | G25: 0.275862 | H25: 14 | I25: 211293.07 | J25: 0.571429 | K25: 73 | L25: 173287.16 | M25: 0.219178 | N25: 0 | O25: 0 | P25: 0
C26: 45 a 49 años | D26: 60 | E26: 0.0437 | F26: 189024.1 | G26: 0.35 | H26: 15 | I26: 186649.93 | J26: 0.333333 | K26: 45 | L26: 189815.49 | M26: 0.355556 | N26: 0 | O26: 0 | P26: 0
C27: 50 a 54 años | D27: 40 | E27: 0.03218 | F27: 193968.85 | G27: 0.3 | H27: 10 | I27: 201475.1 | J27: 0.4 | K27: 30 | L27: 191466.77 | M27: 0.266667 | N27: 0 | O27: 0 | P27: 0
C28: 55 a 59 años | D28: 27 | E28: 0.028361 | F28: 208995.19 | G28: 0.333333 | H28: 4 | I28: 199853.5 | J28: 0.25 | K28: 23 | L28: 210585.04 | M28: 0.347826 | N28: 0 | O28: 0 | P28: 0
C29: 60 a 64 años | D29: 11 | E29: 0.014286 | F29: 242046.18 | G29: 0.272727 | H29: 1 | I29: 267860 | J29: 0 | K29: 10 | L29: 239464.8 | M29: 0.3 | N29: 0 | O29: 0 | P29: 0
C30: 65 y más años | D30: 4 | E30: 0.003306 | F30: 131553.25 | G30: 0 | H30: 4 | I30: 131553.25 | J30: 0 | K30: 0 | L30: 0 | M30: 0 | N30: 0 | O30: 0 | P30: 0
C31: Total | D31: 536 | E31: 0.057046 | F31: 172622.79 | G31: 0.220149 | H31: 130 | I31: 179011.52 | J31: 0.261538 | K31: 406 | L31: 170577.14 | M31: 0.206897 | N31: 0 | O31: 0 | P31: 0
A32: 3 | B32: Diferencia de Cotizantes | C32: 0 a 19 años | D32: 1 | E32: 0 | F32: -84238.887 | G32: 0 | H32: 0 | I32: -84238.887 | J32: 0 | K32: 1 | L32: 24977 | M32: 0 | N32: 0 | O32: 0 | P32: 0
C33: 20 a 24 años | D33: 2 | E33: 0 | F33: -40614.496 | G33: -0.181818 | H33: 2 | I33: -67920.059 | J33: 0 | K33: 0 | L33: -33592.863 | M33: -0.222222 | N33: 0 | O33: 0 | P33: 0
C34: 25 a 29 años | D34: 44 | E34: 0 | F34: -10918.046 | G34: -0.132584 | H34: 11 | I34: 100.21319 | J34: -0.017949 | K34: 33 | L34: -16071.072 | M34: -0.185714 | N34: 0 | O34: 0 | P34: 0
C35: 30 a 34 años | D35: -16 | E35: 0 | F35: 4851.5439 | G35: -0.035752 | H35: -10 | I35: 17778.339 | J35: -0.130682 | K35: -6 | L35: 1498.1482 | M35: 0.001907 | N35: 0 | O35: 0 | P35: 0
C36: 35 a 39 años | D36: -90 | E36: 0 | F36: -23668.744 | G36: -0.147306 | H36: -45 | I36: -20234.439 | J36: -0.203169 | K36: -45 | L36: -21814.25 | M36: -0.095855 | N36: 0 | O36: 0 | P36: 0
C37: 40 a 44 años | D37: -86 | E37: 0 | F37: -26981.734 | G37: -0.250149 | H37: -35 | I37: -5303.2143 | J37: 0.061224 | K37: -51 | L37: -29062.44 | M37: -0.31308 | N37: 0 | O37: 0 | P37: 0
C38: 45 a 49 años | D38: -86 | E38: 0 | F38: -40581.404 | G38: -0.341781 | H38: -28 | I38: -34086.455 | J38: -0.20155 | K38: -58 | L38: -43492.656 | M38: -0.401726 | N38: 0 | O38: 0 | P38: 0
C39: 50 a 54 años | D39: -93 | E39: 0 | F39: -28243.642 | G39: -0.384211 | H39: -30 | I39: -29356.679 | J39: -0.325 | K39: -63 | L39: -27038.505 | M39: -0.4 | N39: 0 | O39: 0 | P39: 0
C40: 55 a 59 años | D40: -77 | E40: 0 | F40: -8084.3831 | G40: -0.214744 | H40: -25 | I40: -166.91931 | J40: 0.008621 | K40: -52 | L40: -13090.729 | M40: -0.318841 | N40: 0 | O40: 0 | P40: 0
C41: 60 a 64 años | D41: -90 | E41: 0 | F41: 7921.9391 | G41: -0.172817 | H41: -36 | I41: 51223.774 | J41: -0.162162 | K41: -54 | L41: -4769.7021 | M41: -0.309375 | N41: 0 | O41: 0 | P41: 0
C42: 65 y más años | D42: -137 | E42: 0 | F42: -116606.79 | G42: -0.304965 | H42: -50 | I42: -87993.49 | J42: -0.092593 | K42: -87 | L42: -265920.01 | M42: -0.436782 | N42: 0 | O42: 0 | P42: 0
C43: Total | D43: -628 | E43: 0 | F43: -37857.655 | G43: -0.242909 | H43: -246 | I43: -29119.936 | J43: -0.1241 | K43: -382 | L43: -41024.145 | M43: -0.293103 | N43: 0 | O43: 0 | P43: 0
A44: 4 | B44: Cotizantes que se cambian de Isapre | C44: 0 a 19 años | D44: 0 | E44: 0 | F44: 0 | G44: 0 | H44: 0 | I44: 0 | J44: 0 | K44: 0 | L44: 0 | M44: 0 | N44: 0 | O44: 0 | P44: 0
C45: 20 a 24 años | D45: 1 | E45: 0.041667 | F45: 161092 | G45: 0 | H45: 0 | I45: 0 | J45: 0 | K45: 1 | L45: 161092 | M45: 0 | N45: 0 | O45: 0 | P45: 0
C46: 25 a 29 años | D46: 18 | E46: 0.068702 | F46: 177652.17 | G46: 0.277778 | H46: 4 | I46: 160959 | J46: 0.25 | K46: 14 | L46: 182421.64 | M46: 0.285714 | N46: 0 | O46: 0 | P46: 0
C47: 30 a 34 años | D47: 74 | E47: 0.092385 | F47: 182332.95 | G47: 0.283784 | H47: 12 | I47: 165193.67 | J47: 0.333333 | K47: 62 | L47: 185650.23 | M47: 0.274194 | N47: 0 | O47: 0 | P47: 0
C48: 35 a 39 años | D48: 137 | E48: 0.104103 | F48: 192848.06 | G48: 0.255474 | H48: 24 | I48: 213063.58 | J48: 0.583333 | K48: 113 | L48: 188554.5 | M48: 0.185841 | N48: 0 | O48: 0 | P48: 0
C49: 40 a 44 años | D49: 123 | E49: 0.085655 | F49: 205195.02 | G49: 0.317073 | H49: 30 | I49: 217784.37 | J49: 0.533333 | K49: 93 | L49: 201133.94 | M49: 0.247312 | N49: 0 | O49: 0 | P49: 0
C50: 45 a 49 años | D50: 113 | E50: 0.082302 | F50: 218432.21 | G50: 0.513274 | H50: 21 | I50: 220336.33 | J50: 0.380952 | K50: 92 | L50: 217997.58 | M50: 0.543478 | N50: 0 | O50: 0 | P50: 0
C51: 50 a 54 años | D51: 90 | E51: 0.072405 | F51: 233630.42 | G51: 0.655556 | H51: 20 | I51: 209689.05 | J51: 0.45 | K51: 70 | L51: 240470.81 | M51: 0.714286 | N51: 0 | O51: 0 | P51: 0
C52: 55 a 59 años | D52: 53 | E52: 0.055672 | F52: 237947.13 | G52: 0.433962 | H52: 12 | I52: 235922.92 | J52: 0.25 | K52: 41 | L52: 238539.59 | M52: 0.487805 | N52: 0 | O52: 0 | P52: 0
C53: 60 a 64 años | D53: 15 | E53: 0.019481 | F53: 250356.8 | G53: 0.4 | H53: 3 | I53: 246838.67 | J53: 0.333333 | K53: 12 | L53: 251236.33 | M53: 0.416667 | N53: 0 | O53: 0 | P53: 0
C54: 65 y más años | D54: 5 | E54: 0.004132 | F54: 277483 | G54: 0.6 | H54: 0 | I54: 0 | J54: 0 | K54: 5 | L54: 277483 | M54: 0.6 | N54: 0 | O54: 0 | P54: 0
C55: Total | D55: 629 | E55: 0.066943 | F55: 209815.87 | G55: 0.395866 | H55: 126 | I55: 211632.16 | J55: 0.444444 | K55: 503 | L55: 209360.9 | M55: 0.383698 | N55: 0 | O55: 0 | P55: 0
A56: 5 | B56: Cotizantes Vigentes | C56: 0 a 19 años | D56: 9 | E56: 1 | F56: 29979 | G56: 0 | H56: 6 | I56: 22028 | J56: 0 | K56: 3 | L56: 45881 | M56: 0 | N56: 0 | O56: 0 | P56: 0
C57: 20 a 24 años | D57: 24 | E57: 1 | F57: 113434.67 | G57: 0.041667 | H57: 5 | I57: 100406.4 | J57: 0 | K57: 19 | L57: 116863.16 | M57: 0.052632 | N57: 0 | O57: 0 | P57: 0
C58: 25 a 29 años | D58: 262 | E58: 1 | F58: 150138.32 | G58: 0.083969 | H58: 85 | I58: 153742.41 | J58: 0.094118 | K58: 177 | L58: 148407.55 | M58: 0.079096 | N58: 0 | O58: 0 | P58: 0
C59: 30 a 34 años | D59: 801 | E59: 1 | F59: 182138.48 | G59: 0.17603 | H59: 250 | I59: 189686.76 | J59: 0.204 | K59: 551 | L59: 178713.67 | M59: 0.163339 | N59: 0 | O59: 0 | P59: 0
C60: 35 a 39 años | D60: 1316 | E60: 1 | F60: 201848.72 | G60: 0.31003 | H60: 382 | I60: 217878.99 | J60: 0.424084 | K60: 934 | L60: 195292.44 | M60: 0.263383 | N60: 0 | O60: 0 | P60: 0
C61: 40 a 44 años | D61: 1436 | E61: 1 | F61: 228879.84 | G61: 0.488162 | H61: 414 | I61: 231406.76 | J61: 0.461353 | K61: 1022 | L61: 227856.22 | M61: 0.499022 | N61: 0 | O61: 0 | P61: 0
C62: 45 a 49 años | D62: 1373 | E62: 1 | F62: 241302.24 | G62: 0.642389 | H62: 462 | I62: 234798.3 | J62: 0.517316 | K62: 911 | L62: 244600.61 | M62: 0.705818 | N62: 0 | O62: 0 | P62: 0
C63: 50 a 54 años | D63: 1243 | E63: 1 | F63: 256002.48 | G63: 0.735318 | H63: 431 | I63: 235406.03 | J63: 0.519722 | K63: 812 | L63: 266934.83 | M63: 0.849754 | N63: 0 | O63: 0 | P63: 0
C64: 55 a 59 años | D64: 952 | E64: 1 | F64: 258202.45 | G64: 0.695378 | H64: 325 | I64: 238975.27 | J64: 0.436923 | K64: 627 | L64: 268168.68 | M64: 0.829346 | N64: 0 | O64: 0 | P64: 0
C65: 60 a 64 años | D65: 770 | E65: 1 | F65: 263537.69 | G65: 0.57013 | H65: 277 | I65: 243297.05 | J65: 0.270758 | K65: 493 | L65: 274910.22 | M65: 0.738337 | N65: 0 | O65: 0 | P65: 0
C66: 65 y más años | D66: 1210 | E66: 1 | F66: 254509.99 | G66: 0.335537 | H66: 529 | I66: 221408.32 | J66: 0.096408 | K66: 681 | L66: 280223.33 | M66: 0.521292 | N66: 0 | O66: 0 | P66: 0
C67: Total | D67: 9396 | E67: 1 | F67: 232943.24 | G67: 0.487016 | H67: 3166 | I67: 224977.33 | J67: 0.361023 | K67: 6230 | L67: 236991.4 | M67: 0.551043 | N67: 0 | O67: 0 | P67: 0
A69: Fecha extracción de información: | D69: =+Nacional!D69 -> 46295

Sheet I
A2: I - REGIÓN DE TARAPACÁ
A3: =+Notas!C6 -> AGOSTO 2025 Y AGOSTO 2026
A6: N° | B6: Cuadro | C6: Tramo de Edad | D6: Sistema Isapre | H6: Sexo Femenino | K6: Sexo Masculino | N6: Sin Información Sexo
D7: N° Cotizantes | E7: % de Cotizantes Vigentes | F7: Cotización Pactada Promedio por Cotizante ($) | G7: N° Cargas Promedio por Cotizante | H7: N° Cotizantes | I7: Cotización Pactada Promedio por Cotizante ($) | J7: N° Cargas Promedio por Cotizante | K7: N° Cotizantes | L7: Cotización Pactada Promedio por Cotizante ($) | M7: N° Cargas Promedio por Cotizante | N7: N° Cotizantes | O7: Cotización Pactada Promedio por Cotizante ($) | P7: N° Cargas Promedio por Cotizante
A8: 1 | B8: Cotizantes que abandonan el Sistema Isapre | C8: 0 a 19 años | D8: 4 | E8: 0.108108 | F8: 83024.047 | G8: 0 | H8: 0 | I8: 0 | J8: 0 | K8: 4 | L8: 83024.047 | M8: 0 | N8: 0 | O8: 0 | P8: 0
C9: 20 a 24 años | D9: 27 | E9: 0.090909 | F9: 121620.84 | G9: 0.074074 | H9: 6 | I9: 116195.52 | J9: 0.333333 | K9: 21 | L9: 123170.93 | M9: 0 | N9: 0 | O9: 0 | P9: 0
C10: 25 a 29 años | D10: 141 | E10: 0.139328 | F10: 154820.97 | G10: 0.170213 | H10: 42 | I10: 161176.2 | J10: 0.142857 | K10: 99 | L10: 152124.81 | M10: 0.181818 | N10: 0 | O10: 0 | P10: 0
C11: 30 a 34 años | D11: 277 | E11: 0.13532 | F11: 181963.35 | G11: 0.375451 | H11: 96 | I11: 191334.28 | J11: 0.635417 | K11: 181 | L11: 176993.14 | M11: 0.237569 | N11: 0 | O11: 0 | P11: 0
C12: 35 a 39 años | D12: 346 | E12: 0.115603 | F12: 200119.48 | G12: 0.517341 | H12: 131 | I12: 208053.46 | J12: 0.648855 | K12: 215 | L12: 195285.29 | M12: 0.437209 | N12: 0 | O12: 0 | P12: 0
C13: 40 a 44 años | D13: 333 | E13: 0.110411 | F13: 217651.74 | G13: 0.624625 | H13: 98 | I13: 224484.6 | J13: 0.663265 | K13: 235 | L13: 214802.29 | M13: 0.608511 | N13: 0 | O13: 0 | P13: 0
C14: 45 a 49 años | D14: 263 | E14: 0.099021 | F14: 222407.83 | G14: 0.593156 | H14: 73 | I14: 226759.89 | J14: 0.589041 | K14: 190 | L14: 220735.72 | M14: 0.594737 | N14: 0 | O14: 0 | P14: 0
C15: 50 a 54 años | D15: 200 | E15: 0.087108 | F15: 221380.78 | G15: 0.545 | H15: 62 | I15: 214852.15 | J15: 0.403226 | K15: 138 | L15: 224313.93 | M15: 0.608696 | N15: 0 | O15: 0 | P15: 0
C16: 55 a 59 años | D16: 147 | E16: 0.081712 | F16: 239065.16 | G16: 0.564626 | H16: 39 | I16: 217915.41 | J16: 0.282051 | K16: 108 | L16: 246702.57 | M16: 0.666667 | N16: 0 | O16: 0 | P16: 0
C17: 60 a 64 años | D17: 117 | E17: 0.089313 | F17: 248055.22 | G17: 0.478632 | H17: 37 | I17: 213050.67 | J17: 0.162162 | K17: 80 | L17: 264244.82 | M17: 0.625 | N17: 0 | O17: 0 | P17: 0
C18: 65 y más años | D18: 160 | E18: 0.08089 | F18: 244007.61 | G18: 0.34375 | H18: 57 | I18: 222942.32 | J18: 0.105263 | K18: 103 | L18: 255665.1 | M18: 0.475728 | N18: 0 | O18: 0 | P18: 0
C19: Total | D19: 2015 | E19: 0.103647 | F19: 210195.78 | G19: 0.484367 | H19: 641 | I19: 209130.66 | J19: 0.483619 | K19: 1374 | L19: 210692.69 | M19: 0.484716 | N19: 0 | O19: 0 | P19: 0
A20: 2 | B20: Cotizantes que ingresan al Sistema Isapre | C20: 0 a 19 años | D20: 17 | E20: 0.459459 | F20: 126017 | G20: 0.235294 | H20: 2 | I20: 53353.5 | J20: 0.5 | K20: 15 | L20: 135705.47 | M20: 0.2 | N20: 0 | O20: 0 | P20: 0
C21: 20 a 24 años | D21: 127 | E21: 0.427609 | F21: 139822.43 | G21: 0.070866 | H21: 28 | I21: 151569.25 | J21: 0.035714 | K21: 99 | L21: 136500.1 | M21: 0.080808 | N21: 0 | O21: 0 | P21: 0
C22: 25 a 29 años | D22: 250 | E22: 0.247036 | F22: 156654.16 | G22: 0.108 | H22: 95 | I22: 161798.48 | J22: 0.105263 | K22: 155 | L22: 153501.19 | M22: 0.109677 | N22: 0 | O22: 0 | P22: 0
C23: 30 a 34 años | D23: 222 | E23: 0.108451 | F23: 166959.34 | G23: 0.220721 | H23: 72 | I23: 171735.08 | J23: 0.263889 | K23: 150 | L23: 164666.98 | M23: 0.2 | N23: 0 | O23: 0 | P23: 0
C24: 35 a 39 años | D24: 203 | E24: 0.067825 | F24: 180640.33 | G24: 0.270936 | H24: 56 | I24: 196222.89 | J24: 0.339286 | K24: 147 | L24: 174704.11 | M24: 0.244898 | N24: 0 | O24: 0 | P24: 0
C25: 40 a 44 años | D25: 174 | E25: 0.057692 | F25: 187452.09 | G25: 0.390805 | H25: 53 | I25: 197650.34 | J25: 0.433962 | K25: 121 | L25: 182985.08 | M25: 0.371901 | N25: 0 | O25: 0 | P25: 0
C26: 45 a 49 años | D26: 113 | E26: 0.042545 | F26: 198693.63 | G26: 0.442478 | H26: 25 | I26: 194577.32 | J26: 0.36 | K26: 88 | L26: 199863.03 | M26: 0.465909 | N26: 0 | O26: 0 | P26: 0
C27: 50 a 54 años | D27: 79 | E27: 0.034408 | F27: 197380.95 | G27: 0.329114 | H27: 20 | I27: 171438.55 | J27: 0.1 | K27: 59 | L27: 206174.98 | M27: 0.40678 | N27: 0 | O27: 0 | P27: 0
C28: 55 a 59 años | D28: 40 | E28: 0.022235 | F28: 247651.23 | G28: 0.5 | H28: 5 | I28: 373754.2 | J28: 1 | K28: 35 | L28: 229636.51 | M28: 0.428571 | N28: 0 | O28: 0 | P28: 0
C29: 60 a 64 años | D29: 18 | E29: 0.01374 | F29: 229146.28 | G29: 0.333333 | H29: 4 | I29: 244456.5 | J29: 0.5 | K29: 14 | L29: 224771.93 | M29: 0.285714 | N29: 0 | O29: 0 | P29: 0
C30: 65 y más años | D30: 11 | E30: 0.005561 | F30: 237338.09 | G30: 0.090909 | H30: 6 | I30: 185735.17 | J30: 0 | K30: 5 | L30: 299261.6 | M30: 0.2 | N30: 0 | O30: 0 | P30: 0
C31: Total | D31: 1254 | E31: 0.064503 | F31: 175519.76 | G31: 0.251196 | H31: 366 | I31: 179793.96 | J31: 0.248634 | K31: 888 | L31: 173758.09 | M31: 0.252252 | N31: 0 | O31: 0 | P31: 0
A32: 3 | B32: Diferencia de Cotizantes | C32: 0 a 19 años | D32: 13 | E32: 0 | F32: 42992.953 | G32: 0.235294 | H32: 2 | I32: 53353.5 | J32: 0.5 | K32: 11 | L32: 52681.42 | M32: 0.2 | N32: 0 | O32: 0 | P32: 0
C33: 20 a 24 años | D33: 100 | E33: 0 | F33: 18201.591 | G33: -0.003208 | H33: 22 | I33: 35373.732 | J33: -0.297619 | K33: 78 | L33: 13329.166 | M33: 0.080808 | N33: 0 | O33: 0 | P33: 0
C34: 25 a 29 años | D34: 109 | E34: 0 | F34: 1833.1892 | G34: -0.062213 | H34: 53 | I34: 622.28788 | J34: -0.037594 | K34: 56 | L34: 1376.3726 | M34: -0.072141 | N34: 0 | O34: 0 | P34: 0
C35: 30 a 34 años | D35: -55 | E35: 0 | F35: -15004.014 | G35: -0.154731 | H35: -24 | I35: -19599.194 | J35: -0.371528 | K35: -31 | L35: -12326.157 | M35: -0.037569 | N35: 0 | O35: 0 | P35: 0
C36: 35 a 39 años | D36: -143 | E36: 0 | F36: -19479.157 | G36: -0.246405 | H36: -75 | I36: -11830.57 | J36: -0.309569 | K36: -68 | L36: -20581.18 | M36: -0.192311 | N36: 0 | O36: 0 | P36: 0
C37: 40 a 44 años | D37: -159 | E37: 0 | F37: -30199.651 | G37: -0.23382 | H37: -45 | I37: -26834.265 | J37: -0.229303 | K37: -114 | L37: -31817.203 | M37: -0.23661 | N37: 0 | O37: 0 | P37: 0
C38: 45 a 49 años | D38: -150 | E38: 0 | F38: -23714.201 | G38: -0.150678 | H38: -48 | I38: -32182.573 | J38: -0.229041 | K38: -102 | L38: -20872.686 | M38: -0.128828 | N38: 0 | O38: 0 | P38: 0
C39: 50 a 54 años | D39: -121 | E39: 0 | F39: -23999.827 | G39: -0.215886 | H39: -42 | I39: -43413.598 | J39: -0.303226 | K39: -79 | L39: -18138.945 | M39: -0.201916 | N39: 0 | O39: 0 | P39: 0
C40: 55 a 59 años | D40: -107 | E40: 0 | F40: 8586.0608 | G40: -0.064626 | H40: -34 | I40: 155838.79 | J40: 0.717949 | K40: -73 | L40: -17066.06 | M40: -0.238095 | N40: 0 | O40: 0 | P40: 0
C41: 60 a 64 años | D41: -99 | E41: 0 | F41: -18908.941 | G41: -0.145299 | H41: -33 | I41: 31405.825 | J41: 0.337838 | K41: -66 | L41: -39472.892 | M41: -0.339286 | N41: 0 | O41: 0 | P41: 0
C42: 65 y más años | D42: -149 | E42: 0 | F42: -6669.517 | G42: -0.252841 | H42: -51 | I42: -37207.156 | J42: -0.105263 | K42: -98 | L42: 43596.504 | M42: -0.275728 | N42: 0 | O42: 0 | P42: 0
C43: Total | D43: -761 | E43: 0 | F43: -34676.026 | G43: -0.233171 | H43: -275 | I43: -29336.698 | J43: -0.234985 | K43: -486 | L43: -36934.595 | M43: -0.232464 | N43: 0 | O43: 0 | P43: 0
A44: 4 | B44: Cotizantes que se cambian de Isapre | C44: 0 a 19 años | D44: 0 | E44: 0 | F44: 0 | G44: 0 | H44: 0 | I44: 0 | J44: 0 | K44: 0 | L44: 0 | M44: 0 | N44: 0 | O44: 0 | P44: 0
C45: 20 a 24 años | D45: 30 | E45: 0.10101 | F45: 196982.23 | G45: 0.133333 | H45: 6 | I45: 209635.83 | J45: 0.166667 | K45: 24 | L45: 193818.83 | M45: 0.125 | N45: 0 | O45: 0 | P45: 0
C46: 25 a 29 años | D46: 121 | E46: 0.119565 | F46: 202022.89 | G46: 0.38843 | H46: 20 | I46: 201252.5 | J46: 0.45 | K46: 101 | L46: 202175.45 | M46: 0.376238 | N46: 0 | O46: 0 | P46: 0
C47: 30 a 34 años | D47: 253 | E47: 0.123596 | F47: 201996.94 | G47: 0.335968 | H47: 65 | I47: 198723.82 | J47: 0.307692 | K47: 188 | L47: 203128.61 | M47: 0.345745 | N47: 0 | O47: 0 | P47: 0
C48: 35 a 39 años | D48: 291 | E48: 0.097227 | F48: 218508.18 | G48: 0.56701 | H48: 76 | I48: 221410.53 | J48: 0.592105 | K48: 215 | L48: 217482.23 | M48: 0.55814 | N48: 0 | O48: 0 | P48: 0
C49: 40 a 44 años | D49: 261 | E49: 0.086538 | F49: 232975.31 | G49: 0.636015 | H49: 76 | I49: 233654.8 | J49: 0.618421 | K49: 185 | L49: 232696.17 | M49: 0.643243 | N49: 0 | O49: 0 | P49: 0
C50: 45 a 49 años | D50: 229 | E50: 0.08622 | F50: 243702.76 | G50: 0.820961 | H50: 58 | I50: 229756.33 | J50: 0.568966 | K50: 171 | L50: 248433.13 | M50: 0.906433 | N50: 0 | O50: 0 | P50: 0
C51: 50 a 54 años | D51: 141 | E51: 0.061411 | F51: 249884.56 | G51: 0.836879 | H51: 30 | I51: 215573.37 | J51: 0.533333 | K51: 111 | L51: 259157.86 | M51: 0.918919 | N51: 0 | O51: 0 | P51: 0
C52: 55 a 59 años | D52: 60 | E52: 0.033352 | F52: 252899.47 | G52: 0.683333 | H52: 12 | I52: 271621.25 | J52: 0.5 | K52: 48 | L52: 248219.02 | M52: 0.729167 | N52: 0 | O52: 0 | P52: 0
C53: 60 a 64 años | D53: 17 | E53: 0.012977 | F53: 304163.82 | G53: 0.823529 | H53: 3 | I53: 228935 | J53: 0 | K53: 14 | L53: 320284.29 | M53: 1 | N53: 0 | O53: 0 | P53: 0
C54: 65 y más años | D54: 6 | E54: 0.003033 | F54: 298343.83 | G54: 0.333333 | H54: 2 | I54: 299024.5 | J54: 0 | K54: 4 | L54: 298003.5 | M54: 0.5 | N54: 0 | O54: 0 | P54: 0
C55: Total | D55: 1409 | E55: 0.072476 | F55: 226421.84 | G55: 0.58907 | H55: 348 | I55: 221615.68 | J55: 0.508621 | K55: 1061 | L55: 227998.23 | M55: 0.615457 | N55: 0 | O55: 0 | P55: 0
A56: 5 | B56: Cotizantes Vigentes | C56: 0 a 19 años | D56: 37 | E56: 1 | F56: 84019 | G56: 0.135135 | H56: 6 | I56: 25960.5 | J56: 0.166667 | K56: 31 | L56: 95256.129 | M56: 0.129032 | N56: 0 | O56: 0 | P56: 0
C57: 20 a 24 años | D57: 297 | E57: 1 | F57: 166986.84 | G57: 0.104377 | H57: 69 | I57: 174762.9 | J57: 0.130435 | K57: 228 | L57: 164633.55 | M57: 0.096491 | N57: 0 | O57: 0 | P57: 0
C58: 25 a 29 años | D58: 1012 | E58: 1 | F58: 188689.15 | G58: 0.240119 | H58: 299 | I58: 186652.67 | J58: 0.207358 | K58: 713 | L58: 189543.16 | M58: 0.253857 | N58: 0 | O58: 0 | P58: 0
C59: 30 a 34 años | D59: 2047 | E59: 1 | F59: 195197.57 | G59: 0.294577 | H59: 687 | I59: 203020.48 | J59: 0.3377 | K59: 1360 | L59: 191245.85 | M59: 0.272794 | N59: 0 | O59: 0 | P59: 0
C60: 35 a 39 años | D60: 2993 | E60: 1 | F60: 220500.82 | G60: 0.485466 | H60: 940 | I60: 224846.67 | J60: 0.488298 | K60: 2053 | L60: 218511 | M60: 0.48417 | N60: 0 | O60: 0 | P60: 0
C61: 40 a 44 años | D61: 3016 | E61: 1 | F61: 244300.33 | G61: 0.671419 | H61: 1006 | I61: 244751.83 | J61: 0.607356 | K61: 2010 | L61: 244074.36 | M61: 0.703483 | N61: 0 | O61: 0 | P61: 0
C62: 45 a 49 años | D62: 2656 | E62: 1 | F62: 261303.89 | G62: 0.84262 | H62: 909 | I62: 239483.14 | J62: 0.533553 | K62: 1747 | L62: 272657.67 | M62: 1.003434 | N62: 0 | O62: 0 | P62: 0
C63: 50 a 54 años | D63: 2296 | E63: 1 | F63: 271426.64 | G63: 0.893293 | H63: 710 | I63: 247279.14 | J63: 0.559155 | K63: 1586 | L63: 282236.68 | M63: 1.042875 | N63: 0 | O63: 0 | P63: 0
C64: 55 a 59 años | D64: 1799 | E64: 1 | F64: 264445.26 | G64: 0.751529 | H64: 561 | I64: 228299.31 | J64: 0.329768 | K64: 1238 | L64: 280824.8 | M64: 0.942649 | N64: 0 | O64: 0 | P64: 0
C65: 60 a 64 años | D65: 1310 | E65: 1 | F65: 277670.01 | G65: 0.642748 | H65: 426 | I65: 238894.1 | J65: 0.244131 | K65: 884 | L65: 296356.14 | M65: 0.834842 | N65: 0 | O65: 0 | P65: 0
C66: 65 y más años | D66: 1978 | E66: 1 | F66: 284696.88 | G66: 0.417594 | H66: 759 | I66: 237227.51 | J66: 0.100132 | K66: 1219 | L66: 314253.28 | M66: 0.615258 | N66: 0 | O66: 0 | P66: 0
C67: Total | D67: 19441 | E67: 1 | F67: 244834.59 | G67: 0.600226 | H67: 6372 | I67: 230419.6 | J67: 0.411331 | K67: 13069 | L67: 251862.85 | M67: 0.692325 | N67: 0 | O67: 0 | P67: 0
A69: Fecha extracción de información: | D69: =+Nacional!D69 -> 46295

Sheet II
A2: II - REGIÓN DE ANTOFAGASTA
A3: =+Notas!C6 -> AGOSTO 2025 Y AGOSTO 2026
A6: N° | B6: Cuadro | C6: Tramo de Edad | D6: Sistema Isapre | H6: Sexo Femenino | K6: Sexo Masculino | N6: Sin Información Sexo
D7: N° Cotizantes | E7: % de Cotizantes Vigentes | F7: Cotización Pactada Promedio por Cotizante ($) | G7: N° Cargas Promedio por Cotizante | H7: N° Cotizantes | I7: Cotización Pactada Promedio por Cotizante ($) | J7: N° Cargas Promedio por Cotizante | K7: N° Cotizantes | L7: Cotización Pactada Promedio por Cotizante ($) | M7: N° Cargas Promedio por Cotizante | N7: N° Cotizantes | O7: Cotización Pactada Promedio por Cotizante ($) | P7: N° Cargas Promedio por Cotizante
A8: 1 | B8: Cotizantes que abandonan el Sistema Isapre | C8: 0 a 19 años | D8: 13 | E8: 0.1625 | F8: 77497.954 | G8: 0.153846 | H8: 7 | I8: 95673.798 | J8: 0.285714 | K8: 6 | L8: 56292.802 | M8: 0 | N8: 0 | O8: 0 | P8: 0
C9: 20 a 24 años | D9: 109 | E9: 0.178982 | F9: 124595.2 | G9: 0.119266 | H9: 30 | I9: 128719.91 | J9: 0.1 | K9: 79 | L9: 123028.86 | M9: 0.126582 | N9: 0 | O9: 0 | P9: 0
C10: 25 a 29 años | D10: 489 | E10: 0.134304 | F10: 155372.83 | G10: 0.202454 | H10: 169 | I10: 160339.43 | J10: 0.248521 | K10: 320 | L10: 152749.85 | M10: 0.178125 | N10: 0 | O10: 0 | P10: 0
C11: 30 a 34 años | D11: 886 | E11: 0.108062 | F11: 182029.79 | G11: 0.356659 | H11: 291 | I11: 181858.2 | J11: 0.419244 | K11: 595 | L11: 182113.71 | M11: 0.32605 | N11: 0 | O11: 0 | P11: 0
C12: 35 a 39 años | D12: 978 | E12: 0.091163 | F12: 206212.53 | G12: 0.615542 | H12: 338 | I12: 201133.98 | J12: 0.523669 | K12: 640 | L12: 208894.64 | M12: 0.664063 | N12: 0 | O12: 0 | P12: 0
C13: 40 a 44 años | D13: 772 | E13: 0.08262 | F13: 226772.01 | G13: 0.765544 | H13: 250 | I13: 214012.68 | J13: 0.54 | K13: 522 | L13: 232882.8 | M13: 0.873563 | N13: 0 | O13: 0 | P13: 0
C14: 45 a 49 años | D14: 566 | E14: 0.06751 | F14: 238643.97 | G14: 0.892226 | H14: 162 | I14: 209120.35 | J14: 0.450617 | K14: 404 | L14: 250482.65 | M14: 1.069307 | N14: 0 | O14: 0 | P14: 0
C15: 50 a 54 años | D15: 515 | E15: 0.067347 | F15: 238769.56 | G15: 0.809709 | H15: 158 | I15: 207433.22 | J15: 0.443038 | K15: 357 | L15: 252638.31 | M15: 0.971989 | N15: 0 | O15: 0 | P15: 0
C16: 55 a 59 años | D16: 382 | E16: 0.067194 | F16: 244637.33 | G16: 0.769634 | H16: 95 | I16: 207274.58 | J16: 0.315789 | K16: 287 | L16: 257004.79 | M16: 0.919861 | N16: 0 | O16: 0 | P16: 0
C17: 60 a 64 años | D17: 384 | E17: 0.087372 | F17: 239226.12 | G17: 0.627604 | H17: 115 | I17: 208203.93 | J17: 0.191304 | K17: 269 | L17: 252488.4 | M17: 0.814126 | N17: 0 | O17: 0 | P17: 0
C18: 65 y más años | D18: 452 | E18: 0.064205 | F18: 261722.78 | G18: 0.548673 | H18: 123 | I18: 210818.79 | J18: 0.113821 | K18: 329 | L18: 280753.75 | M18: 0.711246 | N18: 0 | O18: 0 | P18: 0
C19: Total | D19: 5546 | E19: 0.084347 | F19: 214612.28 | G19: 0.600072 | H19: 1738 | I19: 196923.51 | J19: 0.397008 | K19: 3808 | L19: 222685.57 | M19: 0.692752 | N19: 0 | O19: 0 | P19: 0
A20: 2 | B20: Cotizantes que ingresan al Sistema Isapre | C20: 0 a 19 años | D20: 39 | E20: 0.4875 | F20: 92918.538 | G20: 0.051282 | H20: 19 | I20: 88373.105 | J20: 0.105263 | K20: 20 | L20: 97236.7 | M20: 0 | N20: 0 | O20: 0 | P20: 0
C21: 20 a 24 años | D21: 308 | E21: 0.505747 | F21: 133212.78 | G21: 0.084416 | H21: 102 | I21: 145943.27 | J21: 0.098039 | K21: 206 | L21: 126909.33 | M21: 0.07767 | N21: 0 | O21: 0 | P21: 0
C22: 25 a 29 años | D22: 921 | E22: 0.252952 | F22: 152198.87 | G22: 0.115092 | H22: 351 | I22: 161019.41 | J22: 0.094017 | K22: 570 | L22: 146767.27 | M22: 0.12807 | N22: 0 | O22: 0 | P22: 0
C23: 30 a 34 años | D23: 851 | E23: 0.103793 | F23: 167993.66 | G23: 0.239718 | H23: 298 | I23: 176138.87 | J23: 0.255034 | K23: 553 | L23: 163604.38 | M23: 0.231465 | N23: 0 | O23: 0 | P23: 0
C24: 35 a 39 años | D24: 652 | E24: 0.060776 | F24: 186120.13 | G24: 0.378834 | H24: 216 | I24: 191233.76 | J24: 0.384259 | K24: 436 | L24: 183586.77 | M24: 0.376147 | N24: 0 | O24: 0 | P24: 0
C25: 40 a 44 años | D25: 458 | E25: 0.049015 | F25: 199028.26 | G25: 0.467249 | H25: 165 | I25: 195812.5 | J25: 0.375758 | K25: 293 | L25: 200839.19 | M25: 0.518771 | N25: 0 | O25: 0 | P25: 0
C26: 45 a 49 años | D26: 335 | E26: 0.039957 | F26: 206417.82 | G26: 0.495522 | H26: 114 | I26: 198667.68 | J26: 0.342105 | K26: 221 | L26: 210415.64 | M26: 0.574661 | N26: 0 | O26: 0 | P26: 0
C27: 50 a 54 años | D27: 260 | E27: 0.034 | F27: 202802.15 | G27: 0.430769 | H27: 63 | I27: 184108.59 | J27: 0.238095 | K27: 197 | L27: 208780.3 | M27: 0.492386 | N27: 0 | O27: 0 | P27: 0
C28: 55 a 59 años | D28: 116 | E28: 0.020405 | F28: 210346.98 | G28: 0.396552 | H28: 33 | I28: 195376.58 | J28: 0.212121 | K28: 83 | L28: 216299.07 | M28: 0.46988 | N28: 0 | O28: 0 | P28: 0
C29: 60 a 64 años | D29: 52 | E29: 0.011832 | F29: 220779.88 | G29: 0.307692 | H29: 12 | I29: 163594.25 | J29: 0 | K29: 40 | L29: 237935.58 | M29: 0.4 | N29: 0 | O29: 0 | P29: 0
C30: 65 y más años | D30: 52 | E30: 0.007386 | F30: 159940.4 | G30: 0.096154 | H30: 43 | I30: 134520 | J30: 0.023256 | K30: 9 | L30: 281393.44 | M30: 0.444444 | N30: 0 | O30: 0 | P30: 0
C31: Total | D31: 4044 | E31: 0.061504 | F31: 174671.77 | G31: 0.282888 | H31: 1416 | I31: 174879.89 | J31: 0.231638 | K31: 2628 | L31: 174559.63 | M31: 0.310502 | N31: 0 | O31: 0 | P31: 0
A32: 3 | B32: Diferencia de Cotizantes | C32: 0 a 19 años | D32: 26 | E32: 0 | F32: 15420.585 | G32: -0.102564 | H32: 12 | I32: -7300.6926 | J32: -0.180451 | K32: 14 | L32: 40943.898 | M32: 0 | N32: 0 | O32: 0 | P32: 0
C33: 20 a 24 años | D33: 199 | E33: 0 | F33: 8617.5791 | G33: -0.03485 | H33: 72 | I33: 17223.365 | J33: -0.001961 | K33: 127 | L33: 3880.4755 | M33: -0.048912 | N33: 0 | O33: 0 | P33: 0
C34: 25 a 29 años | D34: 432 | E34: 0 | F34: -3173.9648 | G34: -0.087362 | H34: 182 | I34: 679.98314 | J34: -0.154504 | K34: 250 | L34: -5982.5792 | M34: -0.050055 | N34: 0 | O34: 0 | P34: 0
C35: 30 a 34 años | D35: -35 | E35: 0 | F35: -14036.13 | G35: -0.116941 | H35: 7 | I35: -5719.3305 | J35: -0.16421 | K35: -42 | L35: -18509.331 | M35: -0.094586 | N35: 0 | O35: 0 | P35: 0
C36: 35 a 39 años | D36: -326 | E36: 0 | F36: -20092.403 | G36: -0.236708 | H36: -122 | I36: -9900.2115 | J36: -0.139409 | K36: -204 | L36: -25307.876 | M36: -0.287916 | N36: 0 | O36: 0 | P36: 0
C37: 40 a 44 años | D37: -314 | E37: 0 | F37: -27743.748 | G37: -0.298295 | H37: -85 | I37: -18200.188 | J37: -0.164242 | K37: -229 | L37: -32043.61 | M37: -0.354792 | N37: 0 | O37: 0 | P37: 0
C38: 45 a 49 años | D38: -231 | E38: 0 | F38: -32226.145 | G38: -0.396704 | H38: -48 | I38: -10452.672 | J38: -0.108512 | K38: -183 | L38: -40067.011 | M38: -0.494646 | N38: 0 | O38: 0 | P38: 0
C39: 50 a 54 años | D39: -255 | E39: 0 | F39: -35967.409 | G39: -0.37894 | H39: -95 | I39: -23324.637 | J39: -0.204943 | K39: -160 | L39: -43858.007 | M39: -0.479603 | N39: 0 | O39: 0 | P39: 0
C40: 55 a 59 años | D40: -266 | E40: 0 | F40: -34290.346 | G40: -0.373082 | H40: -62 | I40: -11898.008 | J40: -0.103668 | K40: -204 | L40: -40705.716 | M40: -0.449981 | N40: 0 | O40: 0 | P40: 0
C41: 60 a 64 años | D41: -332 | E41: 0 | F41: -18446.238 | G41: -0.319912 | H41: -103 | I41: -44609.682 | J41: -0.191304 | K41: -229 | L41: -14552.822 | M41: -0.414126 | N41: 0 | O41: 0 | P41: 0
C42: 65 y más años | D42: -400 | E42: 0 | F42: -101782.37 | G42: -0.452519 | H42: -80 | I42: -76298.791 | J42: -0.090565 | K42: -320 | L42: 639.69558 | M42: -0.266802 | N42: 0 | O42: 0 | P42: 0
C43: Total | D43: -1502 | E43: 0 | F43: -39940.513 | G43: -0.317184 | H43: -322 | I43: -22043.619 | J43: -0.16537 | K43: -1180 | L43: -48125.941 | M43: -0.38225 | N43: 0 | O43: 0 | P43: 0
A44: 4 | B44: Cotizantes que se cambian de Isapre | C44: 0 a 19 años | D44: 0 | E44: 0 | F44: 0 | G44: 0 | H44: 0 | I44: 0 | J44: 0 | K44: 0 | L44: 0 | M44: 0 | N44: 0 | O44: 0 | P44: 0
C45: 20 a 24 años | D45: 29 | E45: 0.047619 | F45: 156049.72 | G45: 0.137931 | H45: 3 | I45: 238356.67 | J45: 0.333333 | K45: 26 | L45: 146552.77 | M45: 0.115385 | N45: 0 | O45: 0 | P45: 0
C46: 25 a 29 años | D46: 359 | E46: 0.098599 | F46: 188330.6 | G46: 0.311978 | H46: 74 | I46: 190939.34 | J46: 0.297297 | K46: 285 | L46: 187653.24 | M46: 0.315789 | N46: 0 | O46: 0 | P46: 0
C47: 30 a 34 años | D47: 898 | E47: 0.109526 | F47: 205174.54 | G47: 0.454343 | H47: 229 | I47: 202991.38 | J47: 0.375546 | K47: 669 | L47: 205921.84 | M47: 0.481315 | N47: 0 | O47: 0 | P47: 0
C48: 35 a 39 años | D48: 1074 | E48: 0.100112 | F48: 229481.15 | G48: 0.654562 | H48: 242 | I48: 227549.1 | J48: 0.582645 | K48: 832 | L48: 230043.12 | M48: 0.675481 | N48: 0 | O48: 0 | P48: 0
C49: 40 a 44 años | D49: 839 | E49: 0.08979 | F49: 247541.25 | G49: 0.891538 | H49: 215 | I49: 239477.22 | J49: 0.734884 | K49: 624 | L49: 250319.73 | M49: 0.945513 | N49: 0 | O49: 0 | P49: 0
C50: 45 a 49 años | D50: 576 | E50: 0.068702 | F50: 260073.06 | G50: 0.996528 | H50: 128 | I50: 231502.09 | J50: 0.617188 | K50: 448 | L50: 268236.19 | M50: 1.104911 | N50: 0 | O50: 0 | P50: 0
C51: 50 a 54 años | D51: 454 | E51: 0.05937 | F51: 264407.01 | G51: 0.953744 | H51: 93 | I51: 240362.51 | J51: 0.580645 | K51: 361 | L51: 270601.3 | M51: 1.049861 | N51: 0 | O51: 0 | P51: 0
C52: 55 a 59 años | D52: 188 | E52: 0.033069 | F52: 266017.5 | G52: 0.718085 | H52: 33 | I52: 242250.58 | J52: 0.272727 | K52: 155 | L52: 271077.55 | M52: 0.812903 | N52: 0 | O52: 0 | P52: 0
C53: 60 a 64 años | D53: 69 | E53: 0.0157 | F53: 281634.38 | G53: 0.57971 | H53: 9 | I53: 289530.44 | J53: 0.222222 | K53: 60 | L53: 280449.97 | M53: 0.633333 | N53: 0 | O53: 0 | P53: 0
C54: 65 y más años | D54: 15 | E54: 0.002131 | F54: 264061.47 | G54: 0.4 | H54: 4 | I54: 260222 | J54: 0.25 | K54: 11 | L54: 265457.64 | M54: 0.454545 | N54: 0 | O54: 0 | P54: 0
C55: Total | D55: 4501 | E55: 0.068454 | F55: 234121.43 | G55: 0.702733 | H55: 1030 | I55: 224767.96 | J55: 0.536893 | K55: 3471 | L55: 236897.03 | M55: 0.751945 | N55: 0 | O55: 0 | P55: 0
A56: 5 | B56: Cotizantes Vigentes | C56: 0 a 19 años | D56: 80 | E56: 1 | F56: 77507.688 | G56: 0.0375 | H56: 38 | I56: 71295.737 | J56: 0.052632 | K56: 42 | L56: 83128.024 | M56: 0.02381 | N56: 0 | O56: 0 | P56: 0
C57: 20 a 24 años | D57: 609 | E57: 1 | F57: 142466.08 | G57: 0.103448 | H57: 195 | I57: 161949.62 | J57: 0.169231 | K57: 414 | L57: 133289.06 | M57: 0.072464 | N57: 0 | O57: 0 | P57: 0
C58: 25 a 29 años | D58: 3641 | E58: 1 | F58: 173754.69 | G58: 0.165888 | H58: 1258 | I58: 185022.3 | J58: 0.177266 | K58: 2383 | L58: 167806.45 | M58: 0.159883 | N58: 0 | O58: 0 | P58: 0
C59: 30 a 34 años | D59: 8199 | E59: 1 | F59: 205801.78 | G59: 0.37285 | H59: 2822 | I59: 209566.04 | J59: 0.352232 | K59: 5377 | L59: 203826.19 | M59: 0.383671 | N59: 0 | O59: 0 | P59: 0
C60: 35 a 39 años | D60: 10728 | E60: 1 | F60: 239516.33 | G60: 0.660608 | H60: 3516 | I60: 234786.24 | J60: 0.543515 | K60: 7212 | L60: 241822.34 | M60: 0.717693 | N60: 0 | O60: 0 | P60: 0
C61: 40 a 44 años | D61: 9344 | E61: 1 | F61: 264836.03 | G61: 0.899294 | H61: 3089 | I61: 247251.93 | J61: 0.631272 | K61: 6255 | L61: 273519.84 | M61: 1.031655 | N61: 0 | O61: 0 | P61: 0
C62: 45 a 49 años | D62: 8384 | E62: 1 | F62: 283925.04 | G62: 1.064766 | H62: 2613 | I62: 248126.61 | J62: 0.59204 | K62: 5771 | L62: 300133.89 | M62: 1.278808 | N62: 0 | O62: 0 | P62: 0
C63: 50 a 54 años | D63: 7647 | E63: 1 | F63: 292722.69 | G63: 1.090493 | H63: 2201 | I63: 246305.6 | J63: 0.542481 | K63: 5446 | L63: 311482.15 | M63: 1.311972 | N63: 0 | O63: 0 | P63: 0
C64: 55 a 59 años | D64: 5685 | E64: 1 | F64: 288735.99 | G64: 0.935444 | H64: 1601 | I64: 235663.81 | J64: 0.377264 | K64: 4084 | L64: 309541.22 | M64: 1.154261 | N64: 0 | O64: 0 | P64: 0
C65: 60 a 64 años | D65: 4395 | E65: 1 | F65: 290305.75 | G65: 0.815245 | H65: 1092 | I65: 234276.93 | J65: 0.22619 | K65: 3303 | L65: 308829.35 | M65: 1.009991 | N65: 0 | O65: 0 | P65: 0
C66: 65 y más años | D66: 7040 | E66: 1 | F66: 284023.18 | G66: 0.55483 | H66: 2159 | I66: 220130.65 | J66: 0.092172 | K66: 4881 | L66: 312284.6 | M66: 0.759476 | N66: 0 | O66: 0 | P66: 0
C67: Total | D67: 65752 | E67: 1 | F67: 258439.14 | G67: 0.749635 | H67: 20584 | I67: 230595.42 | J67: 0.432569 | K67: 45168 | L67: 271128.1 | M67: 0.894129 | N67: 0 | O67: 0 | P67: 0
A69: Fecha extracción de información: | D69: =+Nacional!D69 -> 46295

Sheet III
A2: III - REGIÓN DE ATACAMA
A3: =+Notas!C6 -> AGOSTO 2025 Y AGOSTO 2026
A6: N° | B6: Cuadro | C6: Tramo de Edad | D6: Sistema Isapre | H6: Sexo Femenino | K6: Sexo Masculino | N6: Sin Información Sexo
D7: N° Cotizantes | E7: % de Cotizantes Vigentes | F7: Cotización Pactada Promedio por Cotizante ($) | G7: N° Cargas Promedio por Cotizante | H7: N° Cotizantes | I7: Cotización Pactada Promedio por Cotizante ($) | J7: N° Cargas Promedio por Cotizante | K7: N° Cotizantes | L7: Cotización Pactada Promedio por Cotizante ($) | M7: N° Cargas Promedio por Cotizante | N7: N° Cotizantes | O7: Cotización Pactada Promedio por Cotizante ($) | P7: N° Cargas Promedio por Cotizante
A8: 1 | B8: Cotizantes que abandonan el Sistema Isapre | C8: 0 a 19 años | D8: 3 | E8: 0.142857 | F8: 60734.732 | G8: 0 | H8: 2 | I8: 71824.633 | J8: 0 | K8: 1 | L8: 38554.931 | M8: 0 | N8: 0 | O8: 0 | P8: 0
C9: 20 a 24 años | D9: 14 | E9: 0.147368 | F9: 124174.4 | G9: 0 | H9: 0 | I9: 0 | J9: 0 | K9: 14 | L9: 124174.4 | M9: 0 | N9: 0 | O9: 0 | P9: 0
C10: 25 a 29 años | D10: 93 | E10: 0.138599 | F10: 147382.53 | G10: 0.16129 | H10: 25 | I10: 143672.72 | J10: 0.12 | K10: 68 | L10: 148746.43 | M10: 0.176471 | N10: 0 | O10: 0 | P10: 0
C11: 30 a 34 años | D11: 209 | E11: 0.103057 | F11: 172231.85 | G11: 0.272727 | H11: 66 | I11: 174735.27 | J11: 0.378788 | K11: 143 | L11: 171076.42 | M11: 0.223776 | N11: 0 | O11: 0 | P11: 0
C12: 35 a 39 años | D12: 274 | E12: 0.096275 | F12: 200542.82 | G12: 0.529197 | H12: 68 | I12: 205008.22 | J12: 0.602941 | K12: 206 | L12: 199068.8 | M12: 0.504854 | N12: 0 | O12: 0 | P12: 0
C13: 40 a 44 años | D13: 236 | E13: 0.092296 | F13: 222979.07 | G13: 0.733051 | H13: 62 | I13: 219450.86 | J13: 0.612903 | K13: 174 | L13: 224236.24 | M13: 0.775862 | N13: 0 | O13: 0 | P13: 0
C14: 45 a 49 años | D14: 171 | E14: 0.072396 | F14: 230439.33 | G14: 0.807018 | H14: 38 | I14: 226714.56 | J14: 0.578947 | K14: 133 | L14: 231503.55 | M14: 0.87218 | N14: 0 | O14: 0 | P14: 0
C15: 50 a 54 años | D15: 135 | E15: 0.069124 | F15: 235108.78 | G15: 0.844444 | H15: 29 | I15: 202947.5 | J15: 0.37931 | K15: 106 | L15: 243907.62 | M15: 0.971698 | N15: 0 | O15: 0 | P15: 0
C16: 55 a 59 años | D16: 120 | E16: 0.077922 | F16: 239539.83 | G16: 0.65 | H16: 26 | I16: 220929.62 | J16: 0.423077 | K16: 94 | L16: 244687.33 | M16: 0.712766 | N16: 0 | O16: 0 | P16: 0
C17: 60 a 64 años | D17: 124 | E17: 0.107732 | F17: 265086.83 | G17: 0.774194 | H17: 28 | I17: 199549.23 | J17: 0.178571 | K17: 96 | L17: 284201.97 | M17: 0.947917 | N17: 0 | O17: 0 | P17: 0
C18: 65 y más años | D18: 135 | E18: 0.096913 | F18: 254129.48 | G18: 0.614815 | H18: 32 | I18: 209651.29 | J18: 0.15625 | K18: 103 | L18: 267947.95 | M18: 0.757282 | N18: 0 | O18: 0 | P18: 0
C19: Total | D19: 1514 | E19: 0.091112 | F19: 215497.56 | G19: 0.593791 | H19: 376 | I19: 200413.64 | J19: 0.428191 | K19: 1138 | L19: 220481.35 | M19: 0.648506 | N19: 0 | O19: 0 | P19: 0
A20: 2 | B20: Cotizantes que ingresan al Sistema Isapre | C20: 0 a 19 años | D20: 6 | E20: 0.285714 | F20: 68470.833 | G20: 0.333333 | H20: 2 | I20: 47904.5 | J20: 0.5 | K20: 4 | L20: 78754 | M20: 0.25 | N20: 0 | O20: 0 | P20: 0
C21: 20 a 24 años | D21: 49 | E21: 0.515789 | F21: 128657.35 | G21: 0.081633 | H21: 11 | I21: 147792.36 | J21: 0 | K21: 38 | L21: 123118.26 | M21: 0.105263 | N21: 0 | O21: 0 | P21: 0
C22: 25 a 29 años | D22: 201 | E22: 0.299553 | F22: 158458.81 | G22: 0.124378 | H22: 62 | I22: 176245.4 | J22: 0.16129 | K22: 139 | L22: 150525.22 | M22: 0.107914 | N22: 0 | O22: 0 | P22: 0
C23: 30 a 34 años | D23: 242 | E23: 0.119329 | F23: 172527.09 | G23: 0.210744 | H23: 76 | I23: 184025.67 | J23: 0.25 | K23: 166 | L23: 167262.68 | M23: 0.192771 | N23: 0 | O23: 0 | P23: 0
C24: 35 a 39 años | D24: 180 | E24: 0.063247 | F24: 192401.28 | G24: 0.394444 | H24: 57 | I24: 208841.74 | J24: 0.578947 | K24: 123 | L24: 184782.54 | M24: 0.308943 | N24: 0 | O24: 0 | P24: 0
C25: 40 a 44 años | D25: 120 | E25: 0.04693 | F25: 201048.4 | G25: 0.516667 | H25: 28 | I25: 206515.89 | J25: 0.5 | K25: 92 | L25: 199384.38 | M25: 0.521739 | N25: 0 | O25: 0 | P25: 0
C26: 45 a 49 años | D26: 92 | E26: 0.03895 | F26: 219314.5 | G26: 0.565217 | H26: 28 | I26: 214539.21 | J26: 0.607143 | K26: 64 | L26: 221403.69 | M26: 0.546875 | N26: 0 | O26: 0 | P26: 0
C27: 50 a 54 años | D27: 65 | E27: 0.033282 | F27: 207125.91 | G27: 0.507692 | H27: 15 | I27: 183714.4 | J27: 0.266667 | K27: 50 | L27: 214149.36 | M27: 0.58 | N27: 0 | O27: 0 | P27: 0
C28: 55 a 59 años | D28: 28 | E28: 0.018182 | F28: 207148.75 | G28: 0.357143 | H28: 4 | I28: 136864.5 | J28: 0 | K28: 24 | L28: 218862.79 | M28: 0.416667 | N28: 0 | O28: 0 | P28: 0
C29: 60 a 64 años | D29: 13 | E29: 0.011295 | F29: 213913.54 | G29: 0.461538 | H29: 5 | I29: 153682.6 | J29: 0.2 | K29: 8 | L29: 251557.88 | M29: 0.625 | N29: 0 | O29: 0 | P29: 0
C30: 65 y más años | D30: 10 | E30: 0.007179 | F30: 164185.2 | G30: 0 | H30: 6 | I30: 98921.5 | J30: 0 | K30: 4 | L30: 262080.75 | M30: 0 | N30: 0 | O30: 0 | P30: 0
C31: Total | D31: 1006 | E31: 0.06054 | F31: 181846.78 | G31: 0.314115 | H31: 294 | I31: 187052.14 | J31: 0.336735 | K31: 712 | L31: 179697.38 | M31: 0.304775 | N31: 0 | O31: 0 | P31: 0
A32: 3 | B32: Diferencia de Cotizantes | C32: 0 a 19 años | D32: 3 | E32: 0 | F32: 7736.1008 | G32: 0.333333 | H32: 0 | I32: -23920.133 | J32: 0.5 | K32: 3 | L32: 40199.069 | M32: 0.25 | N32: 0 | O32: 0 | P32: 0
C33: 20 a 24 años | D33: 35 | E33: 0 | F33: 4482.95 | G33: 0.081633 | H33: 11 | I33: 147792.36 | J33: 0 | K33: 24 | L33: -1056.1337 | M33: 0.105263 | N33: 0 | O33: 0 | P33: 0
C34: 25 a 29 años | D34: 108 | E34: 0 | F34: 11076.278 | G34: -0.036912 | H34: 37 | I34: 32572.686 | J34: 0.04129 | K34: 71 | L34: 1778.787 | M34: -0.068557 | N34: 0 | O34: 0 | P34: 0
C35: 30 a 34 años | D35: 33 | E35: 0 | F35: 295.2413 | G35: -0.061983 | H35: 10 | I35: 9290.3997 | J35: -0.128788 | K35: 23 | L35: -3813.7435 | M35: -0.031005 | N35: 0 | O35: 0 | P35: 0
C36: 35 a 39 años | D36: -94 | E36: 0 | F36: -8141.533 | G36: -0.134753 | H36: -11 | I36: 3833.5161 | J36: -0.023994 | K36: -83 | L36: -14286.263 | M36: -0.195911 | N36: 0 | O36: 0 | P36: 0
C37: 40 a 44 años | D37: -116 | E37: 0 | F37: -21930.667 | G37: -0.216384 | H37: -34 | I37: -12934.966 | J37: -0.112903 | K37: -82 | L37: -24851.864 | M37: -0.254123 | N37: 0 | O37: 0 | P37: 0
C38: 45 a 49 años | D38: -79 | E38: 0 | F38: -11124.832 | G38: -0.2418 | H38: -10 | I38: -12175.341 | J38: 0.028195 | K38: -69 | L38: -10099.867 | M38: -0.325305 | N38: 0 | O38: 0 | P38: 0
C39: 50 a 54 años | D39: -70 | E39: 0 | F39: -27982.87 | G39: -0.336752 | H39: -14 | I39: -19233.102 | J39: -0.112644 | K39: -56 | L39: -29758.258 | M39: -0.391698 | N39: 0 | O39: 0 | P39: 0
C40: 55 a 59 años | D40: -92 | E40: 0 | F40: -32391.081 | G40: -0.292857 | H40: -22 | I40: -84065.124 | J40: -0.423077 | K40: -70 | L40: -25824.543 | M40: -0.296099 | N40: 0 | O40: 0 | P40: 0
C41: 60 a 64 años | D41: -111 | E41: 0 | F41: -51173.296 | G41: -0.312655 | H41: -23 | I41: -45866.63 | J41: 0.021429 | K41: -88 | L41: -32644.094 | M41: -0.322917 | N41: 0 | O41: 0 | P41: 0
C42: 65 y más años | D42: -125 | E42: 0 | F42: -89944.28 | G42: -0.614815 | H42: -26 | I42: -110729.79 | J42: -0.15625 | K42: -99 | L42: -5867.1987 | M42: -0.757282 | N42: 0 | O42: 0 | P42: 0
C43: Total | D43: -508 | E43: 0 | F43: -33650.78 | G43: -0.279676 | H43: -82 | I43: -13361.498 | J43: -0.091457 | K43: -426 | L43: -40783.976 | M43: -0.343731 | N43: 0 | O43: 0 | P43: 0
A44: 4 | B44: Cotizantes que se cambian de Isapre | C44: 0 a 19 años | D44: 0 | E44: 0 | F44: 0 | G44: 0 | H44: 0 | I44: 0 | J44: 0 | K44: 0 | L44: 0 | M44: 0 | N44: 0 | O44: 0 | P44: 0
C45: 20 a 24 años | D45: 7 | E45: 0.073684 | F45: 229296.86 | G45: 0.428571 | H45: 3 | I45: 256587 | J45: 1 | K45: 4 | L45: 208829.25 | M45: 0 | N45: 0 | O45: 0 | P45: 0
C46: 25 a 29 años | D46: 60 | E46: 0.089419 | F46: 169971.53 | G46: 0.133333 | H46: 14 | I46: 166361 | J46: 0 | K46: 46 | L46: 171070.39 | M46: 0.173913 | N46: 0 | O46: 0 | P46: 0
C47: 30 a 34 años | D47: 203 | E47: 0.100099 | F47: 192312.57 | G47: 0.334975 | H47: 43 | I47: 190345.23 | J47: 0.44186 | K47: 160 | L47: 192841.29 | M47: 0.30625 | N47: 0 | O47: 0 | P47: 0
C48: 35 a 39 años | D48: 289 | E48: 0.101546 | F48: 219103.25 | G48: 0.519031 | H48: 62 | I48: 236802.37 | J48: 0.629032 | K48: 227 | L48: 214269.13 | M48: 0.488987 | N48: 0 | O48: 0 | P48: 0
C49: 40 a 44 años | D49: 217 | E49: 0.084865 | F49: 252410.59 | G49: 0.78341 | H49: 35 | I49: 272989.31 | J49: 0.742857 | K49: 182 | L49: 248453.14 | M49: 0.791209 | N49: 0 | O49: 0 | P49: 0
C50: 45 a 49 años | D50: 182 | E50: 0.077053 | F50: 258330.34 | G50: 0.961538 | H50: 35 | I50: 246884.69 | J50: 0.742857 | K50: 147 | L50: 261055.49 | M50: 1.013605 | N50: 0 | O50: 0 | P50: 0
C51: 50 a 54 años | D51: 96 | E51: 0.049155 | F51: 246791.02 | G51: 0.822917 | H51: 16 | I51: 220753.5 | J51: 0.625 | K51: 80 | L51: 251998.52 | M51: 0.8625 | N51: 0 | O51: 0 | P51: 0
C52: 55 a 59 años | D52: 51 | E52: 0.033117 | F52: 272184.8 | G52: 0.882353 | H52: 8 | I52: 265843.38 | J52: 0.75 | K52: 43 | L52: 273364.6 | M52: 0.906977 | N52: 0 | O52: 0 | P52: 0
C53: 60 a 64 años | D53: 19 | E53: 0.016507 | F53: 320504.63 | G53: 1.052632 | H53: 4 | I53: 210749 | J53: 0 | K53: 15 | L53: 349772.8 | M53: 1.333333 | N53: 0 | O53: 0 | P53: 0
C54: 65 y más años | D54: 3 | E54: 0.002154 | F54: 243163 | G54: 0 | H54: 0 | I54: 0 | J54: 0 | K54: 3 | L54: 243163 | M54: 0 | N54: 0 | O54: 0 | P54: 0
C55: Total | D55: 1127 | E55: 0.067822 | F55: 231007.38 | G55: 0.63709 | H55: 220 | I55: 230285.44 | J55: 0.586364 | K55: 907 | L55: 231182.5 | M55: 0.649394 | N55: 0 | O55: 0 | P55: 0
A56: 5 | B56: Cotizantes Vigentes | C56: 0 a 19 años | D56: 21 | E56: 1 | F56: 44412.571 | G56: 0.095238 | H56: 9 | I56: 26835 | J56: 0.111111 | K56: 12 | L56: 57595.75 | M56: 0.083333 | N56: 0 | O56: 0 | P56: 0
C57: 20 a 24 años | D57: 95 | E57: 1 | F57: 137899.34 | G57: 0.084211 | H57: 22 | I57: 176644.09 | J57: 0.136364 | K57: 73 | L57: 126222.84 | M57: 0.068493 | N57: 0 | O57: 0 | P57: 0
C58: 25 a 29 años | D58: 671 | E58: 1 | F58: 167863.79 | G58: 0.138599 | H58: 205 | I58: 183464.59 | J58: 0.195122 | K58: 466 | L58: 161000.78 | M58: 0.113734 | N58: 0 | O58: 0 | P58: 0
C59: 30 a 34 años | D59: 2028 | E59: 1 | F59: 198696.17 | G59: 0.284024 | H59: 627 | I59: 205278.4 | J59: 0.330144 | K59: 1401 | L59: 195750.37 | M59: 0.263383 | N59: 0 | O59: 0 | P59: 0
C60: 35 a 39 años | D60: 2846 | E60: 1 | F60: 230112.56 | G60: 0.562544 | H60: 850 | I60: 232860.49 | J60: 0.558824 | K60: 1996 | L60: 228942.35 | M60: 0.564128 | N60: 0 | O60: 0 | P60: 0
C61: 40 a 44 años | D61: 2557 | E61: 1 | F61: 258973.79 | G61: 0.843958 | H61: 733 | I61: 251076.31 | J61: 0.676671 | K61: 1824 | L61: 262147.5 | M61: 0.911184 | N61: 0 | O61: 0 | P61: 0
C62: 45 a 49 años | D62: 2362 | E62: 1 | F62: 273250.21 | G62: 0.982642 | H62: 708 | I62: 251094.46 | J62: 0.669492 | K62: 1654 | L62: 282734.05 | M62: 1.116687 | N62: 0 | O62: 0 | P62: 0
C63: 50 a 54 años | D63: 1953 | E63: 1 | F63: 277584.03 | G63: 1.019457 | H63: 537 | I63: 241073.07 | J63: 0.560521 | K63: 1416 | L63: 291430.35 | M63: 1.193503 | N63: 0 | O63: 0 | P63: 0
C64: 55 a 59 años | D64: 1540 | E64: 1 | F64: 275434.39 | G64: 0.87013 | H64: 412 | I64: 226656.64 | J64: 0.334951 | K64: 1128 | L64: 293250.38 | M64: 1.065603 | N64: 0 | O64: 0 | P64: 0
C65: 60 a 64 años | D65: 1151 | E65: 1 | F65: 283313.42 | G65: 0.758471 | H65: 324 | I65: 236620.55 | J65: 0.277778 | K65: 827 | L65: 301606.64 | M65: 0.946796 | N65: 0 | O65: 0 | P65: 0
C66: 65 y más años | D66: 1393 | E66: 1 | F66: 274846.48 | G66: 0.47308 | H66: 449 | I66: 218259.51 | J66: 0.082405 | K66: 944 | L66: 301761.25 | M66: 0.658898 | N66: 0 | O66: 0 | P66: 0
C67: Total | D67: 16617 | E67: 1 | F67: 250790.42 | G67: 0.699404 | H67: 4876 | I67: 231274.63 | J67: 0.463905 | K67: 11741 | L67: 258895.26 | M67: 0.797206 | N67: 0 | O67: 0 | P67: 0
A69: Fecha extracción de información: | D69: =+Nacional!D69 -> 46295

Sheet IV
A2: IV - REGIÓN DE COQUIMBO
A3: =+Notas!C6 -> AGOSTO 2025 Y AGOSTO 2026
A6: N° | B6: Cuadro | C6: Tramo de Edad | D6: Sistema Isapre | H6: Sexo Femenino | K6: Sexo Masculino | N6: Sin Información Sexo
D7: N° Cotizantes | E7: % de Cotizantes Vigentes | F7: Cotización Pactada Promedio por Cotizante ($) | G7: N° Cargas Promedio por Cotizante | H7: N° Cotizantes | I7: Cotización Pactada Promedio por Cotizante ($) | J7: N° Cargas Promedio por Cotizante | K7: N° Cotizantes | L7: Cotización Pactada Promedio por Cotizante ($) | M7: N° Cargas Promedio por Cotizante | N7: N° Cotizantes | O7: Cotización Pactada Promedio por Cotizante ($) | P7: N° Cargas Promedio por Cotizante
A8: 1 | B8: Cotizantes que abandonan el Sistema Isapre | C8: 0 a 19 años | D8: 8 | E8: 0.285714 | F8: 81519.728 | G8: 0.125 | H8: 7 | I8: 78351.711 | J8: 0.142857 | K8: 1 | L8: 103695.84 | M8: 0 | N8: 0 | O8: 0 | P8: 0
C9: 20 a 24 años | D9: 37 | E9: 0.159483 | F9: 116975.22 | G9: 0.054054 | H9: 14 | I9: 118913.94 | J9: 0.071429 | K9: 23 | L9: 115795.14 | M9: 0.043478 | N9: 0 | O9: 0 | P9: 0
C10: 25 a 29 años | D10: 189 | E10: 0.120844 | F10: 149754.45 | G10: 0.148148 | H10: 74 | I10: 151015.35 | J10: 0.216216 | K10: 115 | L10: 148943.08 | M10: 0.104348 | N10: 0 | O10: 0 | P10: 0
C11: 30 a 34 años | D11: 428 | E11: 0.111749 | F11: 177355.48 | G11: 0.308411 | H11: 149 | I11: 189523.32 | J11: 0.442953 | K11: 279 | L11: 170857.24 | M11: 0.236559 | N11: 0 | O11: 0 | P11: 0
C12: 35 a 39 años | D12: 561 | E12: 0.097667 | F12: 209673.86 | G12: 0.579323 | H12: 174 | I12: 211873.41 | J12: 0.597701 | K12: 387 | L12: 208684.91 | M12: 0.571059 | N12: 0 | O12: 0 | P12: 0
C13: 40 a 44 años | D13: 451 | E13: 0.085417 | F13: 224146.54 | G13: 0.75388 | H13: 129 | I13: 211612.64 | J13: 0.511628 | K13: 322 | L13: 229167.89 | M13: 0.850932 | N13: 0 | O13: 0 | P13: 0
C14: 45 a 49 años | D14: 356 | E14: 0.075169 | F14: 249921.97 | G14: 0.969101 | H14: 75 | I14: 233361.12 | J14: 0.666667 | K14: 281 | L14: 254342.13 | M14: 1.049822 | N14: 0 | O14: 0 | P14: 0
C15: 50 a 54 años | D15: 285 | E15: 0.068052 | F15: 253083.94 | G15: 0.968421 | H15: 74 | I15: 205140.84 | J15: 0.432432 | K15: 211 | L15: 269898.11 | M15: 1.156398 | N15: 0 | O15: 0 | P15: 0
C16: 55 a 59 años | D16: 204 | E16: 0.065197 | F16: 259362.62 | G16: 0.926471 | H16: 48 | I16: 217716.73 | J16: 0.416667 | K16: 156 | L16: 272176.74 | M16: 1.083333 | N16: 0 | O16: 0 | P16: 0
C17: 60 a 64 años | D17: 244 | E17: 0.099796 | F17: 260822.92 | G17: 0.72541 | H17: 74 | I17: 226833.73 | J17: 0.256757 | K17: 170 | L17: 275618.21 | M17: 0.929412 | N17: 0 | O17: 0 | P17: 0
C18: 65 y más años | D18: 303 | E18: 0.072436 | F18: 246444.98 | G18: 0.541254 | H18: 102 | I18: 201370.81 | J18: 0.107843 | K18: 201 | L18: 269318.43 | M18: 0.761194 | N18: 0 | O18: 0 | P18: 0
C19: Total | D19: 3066 | E19: 0.086711 | F19: 221863.61 | G19: 0.645466 | H19: 920 | I19: 202445.43 | J19: 0.419565 | K19: 2146 | L19: 230188.28 | M19: 0.742311 | N19: 0 | O19: 0 | P19: 0
A20: 2 | B20: Cotizantes que ingresan al Sistema Isapre | C20: 0 a 19 años | D20: 17 | E20: 0.607143 | F20: 78464.882 | G20: 0 | H20: 4 | I20: 110041.25 | J20: 0 | K20: 13 | L20: 68749.077 | M20: 0 | N20: 0 | O20: 0 | P20: 0
C21: 20 a 24 años | D21: 125 | E21: 0.538793 | F21: 134133.57 | G21: 0.088 | H21: 27 | I21: 143520.22 | J21: 0.111111 | K21: 98 | L21: 131547.45 | M21: 0.081633 | N21: 0 | O21: 0 | P21: 0
C22: 25 a 29 años | D22: 533 | E22: 0.340793 | F22: 160612.1 | G22: 0.120075 | H22: 168 | I22: 172271.33 | J22: 0.130952 | K22: 365 | L22: 155245.66 | M22: 0.115068 | N22: 0 | O22: 0 | P22: 0
C23: 30 a 34 años | D23: 584 | E23: 0.15248 | F23: 173932.16 | G23: 0.282534 | H23: 202 | I23: 182969.04 | J23: 0.242574 | K23: 382 | L23: 169153.49 | M23: 0.303665 | N23: 0 | O23: 0 | P23: 0
C24: 35 a 39 años | D24: 472 | E24: 0.082173 | F24: 190202.75 | G24: 0.411017 | H24: 127 | I24: 186154.41 | J24: 0.370079 | K24: 345 | L24: 191693 | M24: 0.426087 | N24: 0 | O24: 0 | P24: 0
C25: 40 a 44 años | D25: 342 | E25: 0.064773 | F25: 206379.08 | G25: 0.549708 | H25: 80 | I25: 205888.15 | J25: 0.475 | K25: 262 | L25: 206528.98 | M25: 0.572519 | N25: 0 | O25: 0 | P25: 0
C26: 45 a 49 años | D26: 237 | E26: 0.050042 | F26: 210187.42 | G26: 0.611814 | H26: 70 | I26: 212721.01 | J26: 0.585714 | K26: 167 | L26: 209125.44 | M26: 0.622754 | N26: 0 | O26: 0 | P26: 0
C27: 50 a 54 años | D27: 159 | E27: 0.037966 | F27: 210289.11 | G27: 0.509434 | H27: 51 | I27: 192594.49 | J27: 0.333333 | K27: 108 | L27: 218644.91 | M27: 0.592593 | N27: 0 | O27: 0 | P27: 0
C28: 55 a 59 años | D28: 73 | E28: 0.02333 | F28: 237569.9 | G28: 0.547945 | H28: 16 | I28: 246712.81 | J28: 0.5 | K28: 57 | L28: 235003.47 | M28: 0.561404 | N28: 0 | O28: 0 | P28: 0
C29: 60 a 64 años | D29: 39 | E29: 0.015951 | F29: 227425.44 | G29: 0.333333 | H29: 8 | I29: 206692.62 | J29: 0.25 | K29: 31 | L29: 232775.84 | M29: 0.354839 | N29: 0 | O29: 0 | P29: 0
C30: 65 y más años | D30: 29 | E30: 0.006933 | F30: 184446.45 | G30: 0.068966 | H30: 20 | I30: 115324.95 | J30: 0 | K30: 9 | L30: 338049.78 | M30: 0.222222 | N30: 0 | O30: 0 | P30: 0
C31: Total | D31: 2610 | E31: 0.073814 | F31: 184081.26 | G31: 0.345977 | H31: 773 | I31: 184928.12 | J31: 0.293661 | K31: 1837 | L31: 183724.91 | M31: 0.367991 | N31: 0 | O31: 0 | P31: 0
A32: 3 | B32: Diferencia de Cotizantes | C32: 0 a 19 años | D32: 9 | E32: 0 | F32: -3054.8453 | G32: -0.125 | H32: -3 | I32: 31689.539 | J32: -0.142857 | K32: 12 | L32: -34946.765 | M32: 0 | N32: 0 | O32: 0 | P32: 0
C33: 20 a 24 años | D33: 88 | E33: 0 | F33: 17158.344 | G33: 0.033946 | H33: 13 | I33: 24606.284 | J33: 0.039683 | K33: 75 | L33: 15752.311 | M33: 0.038154 | N33: 0 | O33: 0 | P33: 0
C34: 25 a 29 años | D34: 344 | E34: 0 | F34: 10857.65 | G34: -0.028073 | H34: 94 | I34: 21255.977 | J34: -0.085264 | K34: 250 | L34: 6302.5744 | M34: 0.010721 | N34: 0 | O34: 0 | P34: 0
C35: 30 a 34 años | D35: 156 | E35: 0 | F35: -3423.3166 | G35: -0.025877 | H35: 53 | I35: -6554.2786 | J35: -0.200379 | K35: 103 | L35: -1703.7427 | M35: 0.067106 | N35: 0 | O35: 0 | P35: 0
C36: 35 a 39 años | D36: -89 | E36: 0 | F36: -19471.11 | G36: -0.168306 | H36: -47 | I36: -25718.996 | J36: -0.227622 | K36: -42 | L36: -16991.908 | M36: -0.144972 | N36: 0 | O36: 0 | P36: 0
C37: 40 a 44 años | D37: -109 | E37: 0 | F37: -17767.466 | G37: -0.204173 | H37: -49 | I37: -5724.4858 | J37: -0.036628 | K37: -60 | L37: -22638.912 | M37: -0.278413 | N37: 0 | O37: 0 | P37: 0
C38: 45 a 49 años | D38: -119 | E38: 0 | F38: -39734.551 | G38: -0.357287 | H38: -5 | I38: -20640.104 | J38: -0.080952 | K38: -114 | L38: -45216.693 | M38: -0.427068 | N38: 0 | O38: 0 | P38: 0
C39: 50 a 54 años | D39: -126 | E39: 0 | F39: -42794.824 | G39: -0.458987 | H39: -23 | I39: -12546.348 | J39: -0.099099 | K39: -103 | L39: -51253.198 | M39: -0.563806 | N39: 0 | O39: 0 | P39: 0
C40: 55 a 59 años | D40: -131 | E40: 0 | F40: -21792.714 | G40: -0.378525 | H40: -32 | I40: 28996.079 | J40: 0.083333 | K40: -99 | L40: -37173.262 | M40: -0.52193 | N40: 0 | O40: 0 | P40: 0
C41: 60 a 64 años | D41: -205 | E41: 0 | F41: -33397.485 | G41: -0.392077 | H41: -66 | I41: -20141.109 | J41: -0.006757 | K41: -139 | L41: -42842.375 | M41: -0.574573 | N41: 0 | O41: 0 | P41: 0
C42: 65 y más años | D42: -274 | E42: 0 | F42: -61998.529 | G42: -0.472289 | H42: -82 | I42: -86045.863 | J42: -0.107843 | K42: -192 | L42: 68731.344 | M42: -0.538972 | N42: 0 | O42: 0 | P42: 0
C43: Total | D43: -456 | E43: 0 | F43: -37782.35 | G43: -0.299489 | H43: -147 | I43: -17517.313 | J43: -0.125904 | K43: -309 | L43: -46463.365 | M43: -0.37432 | N43: 0 | O43: 0 | P43: 0
A44: 4 | B44: Cotizantes que se cambian de Isapre | C44: 0 a 19 años | D44: 0 | E44: 0 | F44: 0 | G44: 0 | H44: 0 | I44: 0 | J44: 0 | K44: 0 | L44: 0 | M44: 0 | N44: 0 | O44: 0 | P44: 0
C45: 20 a 24 años | D45: 13 | E45: 0.056034 | F45: 188216 | G45: 0.307692 | H45: 3 | I45: 259323.67 | J45: 0.666667 | K45: 10 | L45: 166883.7 | M45: 0.2 | N45: 0 | O45: 0 | P45: 0
C46: 25 a 29 años | D46: 163 | E46: 0.10422 | F46: 186304.8 | G46: 0.245399 | H46: 36 | I46: 197805.69 | J46: 0.222222 | K46: 127 | L46: 183044.7 | M46: 0.251969 | N46: 0 | O46: 0 | P46: 0
C47: 30 a 34 años | D47: 511 | E47: 0.13342 | F47: 202849.76 | G47: 0.399217 | H47: 123 | I47: 196271.95 | J47: 0.317073 | K47: 388 | L47: 204935 | M47: 0.425258 | N47: 0 | O47: 0 | P47: 0
C48: 35 a 39 años | D48: 677 | E48: 0.117862 | F48: 227488.63 | G48: 0.666174 | H48: 147 | I48: 232514.13 | J48: 0.687075 | K48: 530 | L48: 226094.76 | M48: 0.660377 | N48: 0 | O48: 0 | P48: 0
C49: 40 a 44 años | D49: 544 | E49: 0.10303 | F49: 250022.97 | G49: 0.895221 | H49: 101 | I49: 247608.1 | J49: 0.821782 | K49: 443 | L49: 250573.54 | M49: 0.911964 | N49: 0 | O49: 0 | P49: 0
C50: 45 a 49 años | D50: 393 | E50: 0.082981 | F50: 252359.98 | G50: 0.890585 | H50: 75 | I50: 231533.41 | J50: 0.626667 | K50: 318 | L50: 257271.91 | M50: 0.95283 | N50: 0 | O50: 0 | P50: 0
C51: 50 a 54 años | D51: 272 | E51: 0.064947 | F51: 265406.92 | G51: 1 | H51: 59 | I51: 242717.15 | J51: 0.474576 | K51: 213 | L51: 271691.88 | M51: 1.14554 | N51: 0 | O51: 0 | P51: 0
C52: 55 a 59 años | D52: 110 | E52: 0.035155 | F52: 265692.77 | G52: 0.772727 | H52: 19 | I52: 251584.63 | J52: 0.578947 | K52: 91 | L52: 268638.43 | M52: 0.813187 | N52: 0 | O52: 0 | P52: 0
C53: 60 a 64 años | D53: 58 | E53: 0.023722 | F53: 290626.95 | G53: 0.844828 | H53: 12 | I53: 219928.75 | J53: 0.416667 | K53: 46 | L53: 309069.96 | M53: 0.956522 | N53: 0 | O53: 0 | P53: 0
C54: 65 y más años | D54: 14 | E54: 0.003347 | F54: 313466.36 | G54: 0.571429 | H54: 2 | I54: 227097 | J54: 0.5 | K54: 12 | L54: 327861.25 | M54: 0.583333 | N54: 0 | O54: 0 | P54: 0
C55: Total | D55: 2755 | E55: 0.077915 | F55: 235329.32 | G55: 0.707804 | H55: 577 | I55: 226667.57 | J55: 0.563258 | K55: 2178 | L55: 237624.01 | M55: 0.746097 | N55: 0 | O55: 0 | P55: 0
A56: 5 | B56: Cotizantes Vigentes | C56: 0 a 19 años | D56: 28 | E56: 1 | F56: 54899.536 | G56: 0 | H56: 10 | I56: 56489.8 | J56: 0 | K56: 18 | L56: 54016.056 | M56: 0 | N56: 0 | O56: 0 | P56: 0
C57: 20 a 24 años | D57: 232 | E57: 1 | F57: 138914.32 | G57: 0.081897 | H57: 69 | I57: 148431.86 | J57: 0.101449 | K57: 163 | L57: 134885.42 | M57: 0.07362 | N57: 0 | O57: 0 | P57: 0
C58: 25 a 29 años | D58: 1564 | E58: 1 | F58: 173981.55 | G58: 0.157928 | H58: 545 | I58: 185126.48 | J58: 0.168807 | K58: 1019 | L58: 168020.82 | M58: 0.15211 | N58: 0 | O58: 0 | P58: 0
C59: 30 a 34 años | D59: 3830 | E59: 1 | F59: 205707.89 | G59: 0.339948 | H59: 1329 | I59: 211873.71 | J59: 0.332581 | K59: 2501 | L59: 202431.45 | M59: 0.343862 | N59: 0 | O59: 0 | P59: 0
C60: 35 a 39 años | D60: 5744 | E60: 1 | F60: 237746.73 | G60: 0.620822 | H60: 1707 | I60: 239272.94 | J60: 0.561804 | K60: 4037 | L60: 237101.38 | M60: 0.645777 | N60: 0 | O60: 0 | P60: 0
C61: 40 a 44 años | D61: 5280 | E61: 1 | F61: 267198.01 | G61: 0.897159 | H61: 1466 | I61: 256175.62 | J61: 0.673261 | K61: 3814 | L61: 271434.72 | M61: 0.98322 | N61: 0 | O61: 0 | P61: 0
C62: 45 a 49 años | D62: 4736 | E62: 1 | F62: 283539.05 | G62: 1.094383 | H62: 1362 | I62: 255964.56 | J62: 0.685756 | K62: 3374 | L62: 294670.19 | M62: 1.259336 | N62: 0 | O62: 0 | P62: 0
C63: 50 a 54 años | D63: 4188 | E63: 1 | F63: 291308.52 | G63: 1.121777 | H63: 1218 | I63: 246525.39 | J63: 0.561576 | K63: 2970 | L63: 309674.12 | M63: 1.351515 | N63: 0 | O63: 0 | P63: 0
C64: 55 a 59 años | D64: 3129 | E64: 1 | F64: 299332.73 | G64: 1.048897 | H64: 899 | I64: 254896.5 | J64: 0.502781 | K64: 2230 | L64: 317246.71 | M64: 1.269058 | N64: 0 | O64: 0 | P64: 0
C65: 60 a 64 años | D65: 2445 | E65: 1 | F65: 291348.29 | G65: 0.764008 | H65: 742 | I65: 245456.4 | J65: 0.27628 | K65: 1703 | L65: 311343.47 | M65: 0.976512 | N65: 0 | O65: 0 | P65: 0
C66: 65 y más años | D66: 4183 | E66: 1 | F66: 283131.37 | G66: 0.473105 | H66: 1456 | I66: 229081.35 | J66: 0.103709 | K66: 2727 | L66: 311989.76 | M66: 0.670334 | N66: 0 | O66: 0 | P66: 0
C67: Total | D67: 35359 | E67: 1 | F67: 262063.25 | G67: 0.760231 | H67: 10803 | I67: 237988.32 | J67: 0.454781 | K67: 24556 | L67: 272654.61 | M67: 0.894608 | N67: 0 | O67: 0 | P67: 0
A69: Fecha extracción de información: | D69: =+Nacional!D69 -> 46295

Sheet V
A2: V - REGIÓN DE VALPARAISO
A3: =+Notas!C6 -> AGOSTO 2025 Y AGOSTO 2026
A6: N° | B6: Cuadro | C6: Tramo de Edad | D6: Sistema Isapre | H6: Sexo Femenino | K6: Sexo Masculino | N6: Sin Información Sexo
D7: N° Cotizantes | E7: % de Cotizantes Vigentes | F7: Cotización Pactada Promedio por Cotizante ($) | G7: N° Cargas Promedio por Cotizante | H7: N° Cotizantes | I7: Cotización Pactada Promedio por Cotizante ($) | J7: N° Cargas Promedio por Cotizante | K7: N° Cotizantes | L7: Cotización Pactada Promedio por Cotizante ($) | M7: N° Cargas Promedio por Cotizante | N7: N° Cotizantes | O7: Cotización Pactada Promedio por Cotizante ($) | P7: N° Cargas Promedio por Cotizante
A8: 1 | B8: Cotizantes que abandonan el Sistema Isapre | C8: 0 a 19 años | D8: 7 | E8: 0.055118 | F8: 106937.03 | G8: 0.428571 | H8: 2 | I8: 81718.23 | J8: 0 | K8: 5 | L8: 117024.55 | M8: 0.6 | N8: 0 | O8: 0 | P8: 0
C9: 20 a 24 años | D9: 101 | E9: 0.17265 | F9: 133720.89 | G9: 0.138614 | H9: 43 | I9: 133274.1 | J9: 0.186047 | K9: 58 | L9: 134052.14 | M9: 0.103448 | N9: 0 | O9: 0 | P9: 0
C10: 25 a 29 años | D10: 544 | E10: 0.12291 | F10: 150114.83 | G10: 0.117647 | H10: 215 | I10: 153837.68 | J10: 0.162791 | K10: 329 | L10: 147681.96 | M10: 0.088146 | N10: 0 | O10: 0 | P10: 0
C11: 30 a 34 años | D11: 1198 | E11: 0.107569 | F11: 178790.84 | G11: 0.297997 | H11: 507 | I11: 193987.33 | J11: 0.447732 | K11: 691 | L11: 167640.88 | M11: 0.188133 | N11: 0 | O11: 0 | P11: 0
C12: 35 a 39 años | D12: 1463 | E12: 0.08663 | F12: 198603.56 | G12: 0.456596 | H12: 554 | I12: 212934.97 | J12: 0.575812 | K12: 909 | L12: 189869.12 | M12: 0.383938 | N12: 0 | O12: 0 | P12: 0
C13: 40 a 44 años | D13: 1175 | E13: 0.074698 | F13: 231532.67 | G13: 0.730213 | H13: 426 | I13: 233062.99 | J13: 0.71831 | K13: 749 | L13: 230662.29 | M13: 0.736983 | N13: 0 | O13: 0 | P13: 0
C14: 45 a 49 años | D14: 943 | E14: 0.067808 | F14: 232043.6 | G14: 0.794274 | H14: 300 | I14: 222217.63 | J14: 0.573333 | K14: 643 | L14: 236628.03 | M14: 0.897356 | N14: 0 | O14: 0 | P14: 0
C15: 50 a 54 años | D15: 778 | E15: 0.063578 | F15: 235779.15 | G15: 0.787918 | H15: 228 | I15: 226579.53 | J15: 0.675439 | K15: 550 | L15: 239592.81 | M15: 0.834545 | N15: 0 | O15: 0 | P15: 0
C16: 55 a 59 años | D16: 622 | E16: 0.061226 | F16: 240004.29 | G16: 0.733119 | H16: 186 | I16: 208109.34 | J16: 0.387097 | K16: 436 | L16: 253610.84 | M16: 0.880734 | N16: 0 | O16: 0 | P16: 0
C17: 60 a 64 años | D17: 692 | E17: 0.080418 | F17: 240848.11 | G17: 0.611272 | H17: 254 | I17: 211969.82 | J17: 0.208661 | K17: 438 | L17: 257594.88 | M17: 0.844749 | N17: 0 | O17: 0 | P17: 0
C18: 65 y más años | D18: 1173 | E18: 0.056429 | F18: 253895.53 | G18: 0.436488 | H18: 418 | I18: 204667.63 | J18: 0.098086 | K18: 755 | L18: 281150.18 | M18: 0.623841 | N18: 0 | O18: 0 | P18: 0
C19: Total | D19: 8696 | E19: 0.075889 | F19: 217196.23 | G19: 0.542433 | H19: 3133 | I19: 207787.06 | J19: 0.442707 | K19: 5563 | L19: 222495.34 | M19: 0.598598 | N19: 0 | O19: 0 | P19: 0
A20: 2 | B20: Cotizantes que ingresan al Sistema Isapre | C20: 0 a 19 años | D20: 43 | E20: 0.338583 | F20: 102421.53 | G20: 0.209302 | H20: 18 | I20: 77918.5 | J20: 0.055556 | K20: 25 | L20: 120063.72 | M20: 0.32 | N20: 0 | O20: 0 | P20: 0
C21: 20 a 24 años | D21: 316 | E21: 0.540171 | F21: 128505.88 | G21: 0.050633 | H21: 124 | I21: 126973.42 | J21: 0.040323 | K21: 192 | L21: 129495.59 | M21: 0.057292 | N21: 0 | O21: 0 | P21: 0
C22: 25 a 29 años | D22: 1457 | E22: 0.329191 | F22: 153038.68 | G22: 0.096774 | H22: 661 | I22: 155631.74 | J22: 0.077156 | K22: 796 | L22: 150885.4 | M22: 0.113065 | N22: 0 | O22: 0 | P22: 0
C23: 30 a 34 años | D23: 1291 | E23: 0.11592 | F23: 167097.53 | G23: 0.192874 | H23: 513 | I23: 167196.39 | J23: 0.181287 | K23: 778 | L23: 167032.35 | M23: 0.200514 | N23: 0 | O23: 0 | P23: 0
C24: 35 a 39 años | D24: 1030 | E24: 0.06099 | F24: 187765.16 | G24: 0.334951 | H24: 395 | I24: 194508.49 | J24: 0.359494 | K24: 635 | L24: 183570.49 | M24: 0.319685 | N24: 0 | O24: 0 | P24: 0
C25: 40 a 44 años | D25: 739 | E25: 0.04698 | F25: 200546.13 | G25: 0.447903 | H25: 251 | I25: 200258.89 | J25: 0.438247 | K25: 488 | L25: 200693.87 | M25: 0.452869 | N25: 0 | O25: 0 | P25: 0
C26: 45 a 49 años | D26: 541 | E26: 0.038901 | F26: 208373.9 | G26: 0.502773 | H26: 196 | I26: 199037.81 | J26: 0.408163 | K26: 345 | L26: 213677.88 | M26: 0.556522 | N26: 0 | O26: 0 | P26: 0
C27: 50 a 54 años | D27: 381 | E27: 0.031135 | F27: 202647.91 | G27: 0.509186 | H27: 131 | I27: 182805.5 | J27: 0.335878 | K27: 250 | L27: 213045.33 | M27: 0.6 | N27: 0 | O27: 0 | P27: 0
C28: 55 a 59 años | D28: 180 | E28: 0.017718 | F28: 240299.01 | G28: 0.555556 | H28: 66 | I28: 228859.94 | J28: 0.393939 | K28: 114 | L28: 246921.63 | M28: 0.649123 | N28: 0 | O28: 0 | P28: 0
C29: 60 a 64 años | D29: 79 | E29: 0.009181 | F29: 242062.84 | G29: 0.417722 | H29: 33 | I29: 207973.12 | J29: 0.121212 | K29: 46 | L29: 266518.5 | M29: 0.630435 | N29: 0 | O29: 0 | P29: 0
C30: 65 y más años | D30: 144 | E30: 0.006927 | F30: 157732.06 | G30: 0.125 | H30: 121 | I30: 132809.28 | J30: 0.090909 | K30: 23 | L30: 288847.52 | M30: 0.304348 | N30: 0 | O30: 0 | P30: 0
C31: Total | D31: 6201 | E31: 0.054116 | F31: 177446.1 | G31: 0.275439 | H31: 2509 | I31: 172931.1 | J31: 0.225986 | K31: 3692 | L31: 180514.4 | M31: 0.309047 | N31: 0 | O31: 0 | P31: 0
A32: 3 | B32: Diferencia de Cotizantes | C32: 0 a 19 años | D32: 36 | E32: 0 | F32: -4515.4944 | G32: -0.219269 | H32: 16 | I32: -3799.7296 | J32: 0.055556 | K32: 20 | L32: 3039.1708 | M32: -0.28 | N32: 0 | O32: 0 | P32: 0
C33: 20 a 24 años | D33: 215 | E33: 0 | F33: -5215.0183 | G33: -0.087981 | H33: 81 | I33: -6300.6767 | J33: -0.145724 | K33: 134 | L33: -4556.5538 | M33: -0.046157 | N33: 0 | O33: 0 | P33: 0
C34: 25 a 29 años | D34: 913 | E34: 0 | F34: 2923.8501 | G34: -0.020873 | H34: 446 | I34: 1794.0616 | J34: -0.085635 | K34: 467 | L34: 3203.4322 | M34: 0.024919 | N34: 0 | O34: 0 | P34: 0
C35: 30 a 34 años | D35: 93 | E35: 0 | F35: -11693.307 | G35: -0.105123 | H35: 6 | I35: -26790.942 | J35: -0.266445 | K35: 87 | L35: -608.53301 | M35: 0.012381 | N35: 0 | O35: 0 | P35: 0
C36: 35 a 39 años | D36: -433 | E36: 0 | F36: -10838.396 | G36: -0.121645 | H36: -159 | I36: -18426.482 | J36: -0.216319 | K36: -274 | L36: -6298.6278 | M36: -0.064253 | N36: 0 | O36: 0 | P36: 0
C37: 40 a 44 años | D37: -436 | E37: 0 | F37: -30986.543 | G37: -0.28231 | H37: -175 | I37: -32804.099 | J37: -0.280063 | K37: -261 | L37: -29968.423 | M37: -0.284114 | N37: 0 | O37: 0 | P37: 0
C38: 45 a 49 años | D38: -402 | E38: 0 | F38: -23669.698 | G38: -0.291501 | H38: -104 | I38: -23179.828 | J38: -0.16517 | K38: -298 | L38: -22950.145 | M38: -0.340834 | N38: 0 | O38: 0 | P38: 0
C39: 50 a 54 años | D39: -397 | E39: 0 | F39: -33131.245 | G39: -0.278731 | H39: -97 | I39: -43774.027 | J39: -0.339561 | K39: -300 | L39: -26547.486 | M39: -0.234545 | N39: 0 | O39: 0 | P39: 0
C40: 55 a 59 años | D40: -442 | E40: 0 | F40: 294.72559 | G40: -0.177563 | H40: -120 | I40: 20750.595 | J40: 0.006843 | K40: -322 | L40: -6689.2115 | M40: -0.231611 | N40: 0 | O40: 0 | P40: 0
C41: 60 a 64 años | D41: -613 | E41: 0 | F41: 1214.7261 | G41: -0.19355 | H41: -221 | I41: -3996.7035 | J41: -0.087449 | K41: -392 | L41: 8923.6229 | M41: -0.214314 | N41: 0 | O41: 0 | P41: 0
C42: 65 y más años | D42: -1029 | E42: 0 | F42: -96163.47 | G42: -0.311488 | H42: -297 | I42: -71858.347 | J42: -0.007177 | K42: -732 | L42: 7697.3461 | M42: -0.319493 | N42: 0 | O42: 0 | P42: 0
C43: Total | D43: -2495 | E43: 0 | F43: -39750.131 | G43: -0.266994 | H43: -624 | I43: -34855.967 | J43: -0.21672 | K43: -1871 | L43: -41980.94 | M43: -0.289551 | N43: 0 | O43: 0 | P43: 0
A44: 4 | B44: Cotizantes que se cambian de Isapre | C44: 0 a 19 años | D44: 0 | E44: 0 | F44: 0 | G44: 0 | H44: 0 | I44: 0 | J44: 0 | K44: 0 | L44: 0 | M44: 0 | N44: 0 | O44: 0 | P44: 0
C45: 20 a 24 años | D45: 19 | E45: 0.032479 | F45: 162233.37 | G45: 0.105263 | H45: 3 | I45: 180561 | J45: 0 | K45: 16 | L45: 158796.94 | M45: 0.125 | N45: 0 | O45: 0 | P45: 0
C46: 25 a 29 años | D46: 353 | E46: 0.079756 | F46: 181062.36 | G46: 0.232295 | H46: 124 | I46: 180095.27 | J46: 0.201613 | K46: 229 | L46: 181586.03 | M46: 0.248908 | N46: 0 | O46: 0 | P46: 0
C47: 30 a 34 años | D47: 1166 | E47: 0.104696 | F47: 201614.31 | G47: 0.336192 | H47: 392 | I47: 198400.19 | J47: 0.313776 | K47: 774 | L47: 203242.14 | M47: 0.347545 | N47: 0 | O47: 0 | P47: 0
C48: 35 a 39 años | D48: 1614 | E48: 0.095571 | F48: 227121.56 | G48: 0.560719 | H48: 492 | I48: 226352.82 | J48: 0.591463 | K48: 1122 | L48: 227458.66 | M48: 0.547237 | N48: 0 | O48: 0 | P48: 0
C49: 40 a 44 años | D49: 1375 | E49: 0.087413 | F49: 247724.78 | G49: 0.834182 | H49: 419 | I49: 244621.63 | J49: 0.844869 | K49: 956 | L49: 249084.85 | M49: 0.829498 | N49: 0 | O49: 0 | P49: 0
C50: 45 a 49 años | D50: 958 | E50: 0.068886 | F50: 258938.02 | G50: 0.922756 | H50: 295 | I50: 240188.05 | J50: 0.708475 | K50: 663 | L50: 267280.77 | M50: 1.0181 | N50: 0 | O50: 0 | P50: 0
C51: 50 a 54 años | D51: 665 | E51: 0.054343 | F51: 262314.33 | G51: 0.918797 | H51: 212 | I51: 249149.06 | J51: 0.773585 | K51: 453 | L51: 268475.56 | M51: 0.986755 | N51: 0 | O51: 0 | P51: 0
C52: 55 a 59 años | D52: 302 | E52: 0.029727 | F52: 264920.83 | G52: 0.642384 | H52: 86 | I52: 235547.64 | J52: 0.348837 | K52: 216 | L52: 276615.72 | M52: 0.759259 | N52: 0 | O52: 0 | P52: 0
C53: 60 a 64 años | D53: 137 | E53: 0.015921 | F53: 271394.85 | G53: 0.459854 | H53: 41 | I53: 249173.12 | J53: 0.170732 | K53: 96 | L53: 280885.39 | M53: 0.583333 | N53: 0 | O53: 0 | P53: 0
C54: 65 y más años | D54: 38 | E54: 0.001828 | F54: 272910.13 | G54: 0.236842 | H54: 14 | I54: 274829.93 | J54: 0 | K54: 24 | L54: 271790.25 | M54: 0.375 | N54: 0 | O54: 0 | P54: 0
C55: Total | D55: 6627 | E55: 0.057833 | F55: 235300.28 | G55: 0.647201 | H55: 2078 | I55: 227384.17 | J55: 0.578922 | K55: 4549 | L55: 238916.38 | M55: 0.678391 | N55: 0 | O55: 0 | P55: 0
A56: 5 | B56: Cotizantes Vigentes | C56: 0 a 19 años | D56: 127 | E56: 1 | F56: 63088.827 | G56: 0.094488 | H56: 57 | I56: 64292.053 | J56: 0.052632 | K56: 70 | L56: 62109.057 | M56: 0.128571 | N56: 0 | O56: 0 | P56: 0
C57: 20 a 24 años | D57: 585 | E57: 1 | F57: 132916.08 | G57: 0.066667 | H57: 239 | I57: 131781.19 | J57: 0.062762 | K57: 346 | L57: 133700.01 | M57: 0.069364 | N57: 0 | O57: 0 | P57: 0
C58: 25 a 29 años | D58: 4426 | E58: 1 | F58: 166659.36 | G58: 0.10958 | H58: 1930 | I58: 168135.47 | J58: 0.10829 | K58: 2496 | L58: 165517.99 | M58: 0.110577 | N58: 0 | O58: 0 | P58: 0
C59: 30 a 34 años | D59: 11137 | E59: 1 | F59: 198451.31 | G59: 0.263177 | H59: 4574 | I59: 201524.62 | J59: 0.306078 | K59: 6563 | L59: 196309.4 | M59: 0.233277 | N59: 0 | O59: 0 | P59: 0
C60: 35 a 39 años | D60: 16888 | E60: 1 | F60: 230124.51 | G60: 0.507875 | H60: 6593 | I60: 237201.07 | J60: 0.569392 | K60: 10295 | L60: 225592.63 | M60: 0.46848 | N60: 0 | O60: 0 | P60: 0
C61: 40 a 44 años | D61: 15730 | E61: 1 | F61: 258398.37 | G61: 0.773999 | H61: 5713 | I61: 259396.61 | J61: 0.714511 | K61: 10017 | L61: 257829.05 | M61: 0.807927 | N61: 0 | O61: 0 | P61: 0
C62: 45 a 49 años | D62: 13907 | E62: 1 | F62: 272895.34 | G62: 0.943554 | H62: 5087 | I62: 255123.06 | J62: 0.709062 | K62: 8820 | L62: 283145.62 | M62: 1.078798 | N62: 0 | O62: 0 | P62: 0
C63: 50 a 54 años | D63: 12237 | E63: 1 | F63: 279800.39 | G63: 0.992645 | H63: 4466 | I63: 250301.37 | J63: 0.637707 | K63: 7771 | L63: 296753.5 | M63: 1.196628 | N63: 0 | O63: 0 | P63: 0
C64: 55 a 59 años | D64: 10159 | E64: 1 | F64: 274257.88 | G64: 0.84654 | H64: 3764 | I64: 239412.32 | J64: 0.4644 | K64: 6395 | L64: 294767.45 | M64: 1.071462 | N64: 0 | O64: 0 | P64: 0
C65: 60 a 64 años | D65: 8605 | E65: 1 | F65: 274548.05 | G65: 0.630215 | H65: 3230 | I65: 240763.35 | J65: 0.265944 | K65: 5375 | L65: 294850.29 | M65: 0.849116 | N65: 0 | O65: 0 | P65: 0
C66: 65 y más años | D66: 20787 | E66: 1 | F66: 270694.39 | G66: 0.391447 | H66: 8701 | I66: 217326.72 | J66: 0.08114 | K66: 12086 | L66: 309115.05 | M66: 0.614844 | N66: 0 | O66: 0 | P66: 0
C67: Total | D67: 114588 | E67: 1 | F67: 252898.84 | G67: 0.625266 | H67: 44354 | I67: 232508.12 | J67: 0.43358 | K67: 70234 | L67: 265775.94 | M67: 0.746319 | N67: 0 | O67: 0 | P67: 0
A69: Fecha extracción de información: | D69: =+Nacional!D69 -> 46295

Sheet VI
A2: VI - REGIÓN DEL LIBERTADOR BERNARDO O´HIGGINS
A3: =+Notas!C6 -> AGOSTO 2025 Y AGOSTO 2026
A6: N° | B6: Cuadro | C6: Tramo de Edad | D6: Sistema Isapre | H6: Sexo Femenino | K6: Sexo Masculino | N6: Sin Información Sexo
D7: N° Cotizantes | E7: % de Cotizantes Vigentes | F7: Cotización Pactada Promedio por Cotizante ($) | G7: N° Cargas Promedio por Cotizante | H7: N° Cotizantes | I7: Cotización Pactada Promedio por Cotizante ($) | J7: N° Cargas Promedio por Cotizante | K7: N° Cotizantes | L7: Cotización Pactada Promedio por Cotizante ($) | M7: N° Cargas Promedio por Cotizante | N7: N° Cotizantes | O7: Cotización Pactada Promedio por Cotizante ($) | P7: N° Cargas Promedio por Cotizante
A8: 1 | B8: Cotizantes que abandonan el Sistema Isapre | C8: 0 a 19 años | D8: 11 | E8: 0.152778 | F8: 80366.926 | G8: 0.181818 | H8: 7 | I8: 86318.714 | J8: 0.285714 | K8: 4 | L8: 69951.296 | M8: 0 | N8: 0 | O8: 0 | P8: 0
C9: 20 a 24 años | D9: 39 | E9: 0.152344 | F9: 114834.03 | G9: 0.153846 | H9: 11 | I9: 118722.11 | J9: 0.272727 | K9: 28 | L9: 113306.57 | M9: 0.107143 | N9: 0 | O9: 0 | P9: 0
C10: 25 a 29 años | D10: 224 | E10: 0.120885 | F10: 151699.33 | G10: 0.169643 | H10: 78 | I10: 165102.44 | J10: 0.24359 | K10: 146 | L10: 144538.76 | M10: 0.130137 | N10: 0 | O10: 0 | P10: 0
C11: 30 a 34 años | D11: 594 | E11: 0.112799 | F11: 173905.06 | G11: 0.33165 | H11: 223 | I11: 191607.9 | J11: 0.538117 | K11: 371 | L11: 163264.27 | M11: 0.207547 | N11: 0 | O11: 0 | P11: 0
C12: 35 a 39 años | D12: 704 | E12: 0.0867 | F12: 205816.91 | G12: 0.546875 | H12: 271 | I12: 229150.55 | J12: 0.763838 | K12: 433 | L12: 191213.17 | M12: 0.411085 | N12: 0 | O12: 0 | P12: 0
C13: 40 a 44 años | D13: 542 | E13: 0.073066 | F13: 226036.87 | G13: 0.743542 | H13: 172 | I13: 234673.42 | J13: 0.80814 | K13: 370 | L13: 222022.04 | M13: 0.713514 | N13: 0 | O13: 0 | P13: 0
C14: 45 a 49 años | D14: 431 | E14: 0.064871 | F14: 229901 | G14: 0.825986 | H14: 147 | I14: 224519.97 | J14: 0.809524 | K14: 284 | L14: 232686.25 | M14: 0.834507 | N14: 0 | O14: 0 | P14: 0
C15: 50 a 54 años | D15: 310 | E15: 0.054148 | F15: 228101.56 | G15: 0.812903 | H15: 117 | I15: 210228.07 | J15: 0.65812 | K15: 193 | L15: 238936.78 | M15: 0.906736 | N15: 0 | O15: 0 | P15: 0
C16: 55 a 59 años | D16: 244 | E16: 0.056079 | F16: 220384.97 | G16: 0.618852 | H16: 90 | I16: 193718.87 | J16: 0.333333 | K16: 154 | L16: 235969.06 | M16: 0.785714 | N16: 0 | O16: 0 | P16: 0
C17: 60 a 64 años | D17: 249 | E17: 0.064424 | F17: 233430.75 | G17: 0.598394 | H17: 104 | I17: 202637.51 | J17: 0.307692 | K17: 145 | L17: 255516.94 | M17: 0.806897 | N17: 0 | O17: 0 | P17: 0
C18: 65 y más años | D18: 510 | E18: 0.046541 | F18: 219645.98 | G18: 0.413725 | H18: 161 | I18: 191384.15 | J18: 0.049689 | K18: 349 | L18: 232683.67 | M18: 0.581662 | N18: 0 | O18: 0 | P18: 0
C19: Total | D19: 3858 | E19: 0.070753 | F19: 208337.57 | G19: 0.557284 | H19: 1381 | I19: 207750.41 | J19: 0.547429 | K19: 2477 | L19: 208664.93 | M19: 0.562778 | N19: 0 | O19: 0 | P19: 0
A20: 2 | B20: Cotizantes que ingresan al Sistema Isapre | C20: 0 a 19 años | D20: 21 | E20: 0.291667 | F20: 88647.714 | G20: 0.047619 | H20: 6 | I20: 76330 | J20: 0 | K20: 15 | L20: 93574.8 | M20: 0.066667 | N20: 0 | O20: 0 | P20: 0
C21: 20 a 24 años | D21: 117 | E21: 0.457031 | F21: 126342.99 | G21: 0.042735 | H21: 36 | I21: 112124.17 | J21: 0.027778 | K21: 81 | L21: 132662.47 | M21: 0.049383 | N21: 0 | O21: 0 | P21: 0
C22: 25 a 29 años | D22: 561 | E22: 0.302752 | F22: 160123.26 | G22: 0.098039 | H22: 229 | I22: 164113 | J22: 0.091703 | K22: 332 | L22: 157371.3 | M22: 0.10241 | N22: 0 | O22: 0 | P22: 0
C23: 30 a 34 años | D23: 581 | E23: 0.11033 | F23: 168465.28 | G23: 0.244406 | H23: 219 | I23: 177244.99 | J23: 0.30137 | K23: 362 | L23: 163153.81 | M23: 0.209945 | N23: 0 | O23: 0 | P23: 0
C24: 35 a 39 años | D24: 420 | E24: 0.051724 | F24: 200963.94 | G24: 0.42381 | H24: 155 | I24: 209664.15 | J24: 0.477419 | K24: 265 | L24: 195875.14 | M24: 0.392453 | N24: 0 | O24: 0 | P24: 0
C25: 40 a 44 años | D25: 282 | E25: 0.038016 | F25: 208546.48 | G25: 0.5 | H25: 105 | I25: 218986.01 | J25: 0.6 | K25: 177 | L25: 202353.54 | M25: 0.440678 | N25: 0 | O25: 0 | P25: 0
C26: 45 a 49 años | D26: 200 | E26: 0.030102 | F26: 218117.8 | G26: 0.54 | H26: 72 | I26: 206717.51 | J26: 0.402778 | K26: 128 | L26: 224530.47 | M26: 0.617188 | N26: 0 | O26: 0 | P26: 0
C27: 50 a 54 años | D27: 149 | E27: 0.026026 | F27: 215508.69 | G27: 0.550336 | H27: 62 | I27: 205497.77 | J27: 0.306452 | K27: 87 | L27: 222642.91 | M27: 0.724138 | N27: 0 | O27: 0 | P27: 0
C28: 55 a 59 años | D28: 59 | E28: 0.01356 | F28: 213701.75 | G28: 0.305085 | H28: 21 | I28: 198351.19 | J28: 0.285714 | K28: 38 | L28: 222184.95 | M28: 0.315789 | N28: 0 | O28: 0 | P28: 0
C29: 60 a 64 años | D29: 31 | E29: 0.008021 | F29: 198945.84 | G29: 0.16129 | H29: 19 | I29: 174459 | J29: 0.052632 | K29: 12 | L29: 237716.67 | M29: 0.333333 | N29: 0 | O29: 0 | P29: 0
C30: 65 y más años | D30: 107 | E30: 0.009765 | F30: 139600.11 | G30: 0.037383 | H30: 97 | I30: 127398.97 | J30: 0 | K30: 10 | L30: 257951.2 | M30: 0.4 | N30: 0 | O30: 0 | P30: 0
C31: Total | D31: 2528 | E31: 0.046362 | F31: 180780.64 | G31: 0.292326 | H31: 1021 | I31: 180065.4 | J31: 0.274241 | K31: 1507 | L31: 181265.22 | M31: 0.304579 | N31: 0 | O31: 0 | P31: 0
A32: 3 | B32: Diferencia de Cotizantes | C32: 0 a 19 años | D32: 10 | E32: 0 | F32: 8280.7888 | G32: -0.134199 | H32: -1 | I32: -9988.7138 | J32: -0.285714 | K32: 11 | L32: 23623.504 | M32: 0.066667 | N32: 0 | O32: 0 | P32: 0
C33: 20 a 24 años | D33: 78 | E33: 0 | F33: 11508.961 | G33: -0.111111 | H33: 25 | I33: -6597.945 | J33: -0.244949 | K33: 53 | L33: 19355.899 | M33: -0.05776 | N33: 0 | O33: 0 | P33: 0
C34: 25 a 29 años | D34: 337 | E34: 0 | F34: 8423.9297 | G34: -0.071604 | H34: 151 | I34: -989.44449 | J34: -0.151887 | K34: 186 | L34: 12832.539 | M34: -0.027727 | N34: 0 | O34: 0 | P34: 0
C35: 30 a 34 años | D35: -13 | E35: 0 | F35: -5439.7736 | G35: -0.087244 | H35: -4 | I35: -14362.91 | J35: -0.236747 | K35: -9 | L35: -110.46115 | M35: 0.002398 | N35: 0 | O35: 0 | P35: 0
C36: 35 a 39 años | D36: -284 | E36: 0 | F36: -4852.9658 | G36: -0.123065 | H36: -116 | I36: -19486.406 | J36: -0.286418 | K36: -168 | L36: 4661.9716 | M36: -0.018633 | N36: 0 | O36: 0 | P36: 0
C37: 40 a 44 años | D37: -260 | E37: 0 | F37: -17490.384 | G37: -0.243542 | H37: -67 | I37: -15687.408 | J37: -0.20814 | K37: -193 | L37: -19668.495 | M37: -0.272836 | N37: 0 | O37: 0 | P37: 0
C38: 45 a 49 años | D38: -231 | E38: 0 | F38: -11783.191 | G38: -0.285986 | H38: -75 | I38: -17802.457 | J38: -0.406746 | K38: -156 | L38: -8155.7767 | M38: -0.21732 | N38: 0 | O38: 0 | P38: 0
C39: 50 a 54 años | D39: -161 | E39: 0 | F39: -12592.866 | G39: -0.262568 | H39: -55 | I39: -4730.2909 | J39: -0.351668 | K39: -106 | L39: -16293.874 | M39: -0.182598 | N39: 0 | O39: 0 | P39: 0
C40: 55 a 59 años | D40: -185 | E40: 0 | F40: -6683.2277 | G40: -0.313768 | H40: -69 | I40: 4632.3254 | J40: -0.047619 | K40: -116 | L40: -13784.115 | M40: -0.469925 | N40: 0 | O40: 0 | P40: 0
C41: 60 a 64 años | D41: -218 | E41: 0 | F41: -34484.914 | G41: -0.437103 | H41: -85 | I41: -28178.51 | J41: -0.255061 | K41: -133 | L41: -17800.274 | M41: -0.473563 | N41: 0 | O41: 0 | P41: 0
C42: 65 y más años | D42: -403 | E42: 0 | F42: -80045.87 | G42: -0.376342 | H42: -64 | I42: -63985.183 | J42: -0.049689 | K42: -339 | L42: 25267.526 | M42: -0.181662 | N42: 0 | O42: 0 | P42: 0
C43: Total | D43: -1330 | E43: 0 | F43: -27556.93 | G43: -0.264958 | H43: -360 | I43: -27685.015 | J43: -0.273188 | K43: -970 | L43: -27399.706 | M43: -0.258199 | N43: 0 | O43: 0 | P43: 0
A44: 4 | B44: Cotizantes que se cambian de Isapre | C44: 0 a 19 años | D44: 0 | E44: 0 | F44: 0 | G44: 0 | H44: 0 | I44: 0 | J44: 0 | K44: 0 | L44: 0 | M44: 0 | N44: 0 | O44: 0 | P44: 0
C45: 20 a 24 años | D45: 6 | E45: 0.023438 | F45: 98231.833 | G45: 0 | H45: 0 | I45: 0 | J45: 0 | K45: 6 | L45: 98231.833 | M45: 0 | N45: 0 | O45: 0 | P45: 0
C46: 25 a 29 años | D46: 141 | E46: 0.076093 | F46: 184681.34 | G46: 0.269504 | H46: 51 | I46: 179899.02 | J46: 0.117647 | K46: 90 | L46: 187391.32 | M46: 0.355556 | N46: 0 | O46: 0 | P46: 0
C47: 30 a 34 años | D47: 541 | E47: 0.102735 | F47: 210001.11 | G47: 0.425139 | H47: 181 | I47: 208451.05 | J47: 0.430939 | K47: 360 | L47: 210780.45 | M47: 0.422222 | N47: 0 | O47: 0 | P47: 0
C48: 35 a 39 años | D48: 725 | E48: 0.089286 | F48: 254067.8 | G48: 0.793103 | H48: 197 | I48: 257676.53 | J48: 0.822335 | K48: 528 | L48: 252721.35 | M48: 0.782197 | N48: 0 | O48: 0 | P48: 0
C49: 40 a 44 años | D49: 565 | E49: 0.076166 | F49: 266405.53 | G49: 0.938053 | H49: 177 | I49: 259279.76 | J49: 0.824859 | K49: 388 | L49: 269656.2 | M49: 0.989691 | N49: 0 | O49: 0 | P49: 0
C50: 45 a 49 años | D50: 375 | E50: 0.056442 | F50: 291886.39 | G50: 1.128 | H50: 105 | I50: 270705.7 | J50: 0.971429 | K50: 270 | L50: 300123.33 | M50: 1.188889 | N50: 0 | O50: 0 | P50: 0
C51: 50 a 54 años | D51: 244 | E51: 0.04262 | F51: 261524.76 | G51: 0.815574 | H51: 72 | I51: 254595.32 | J51: 0.708333 | K51: 172 | L51: 264425.46 | M51: 0.860465 | N51: 0 | O51: 0 | P51: 0
C52: 55 a 59 años | D52: 95 | E52: 0.021834 | F52: 285207.64 | G52: 0.852632 | H52: 27 | I52: 221348.52 | J52: 0.259259 | K52: 68 | L52: 310563.47 | M52: 1.088235 | N52: 0 | O52: 0 | P52: 0
C53: 60 a 64 años | D53: 39 | E53: 0.010091 | F53: 293125.31 | G53: 0.666667 | H53: 13 | I53: 320304.77 | J53: 0.538462 | K53: 26 | L53: 279535.58 | M53: 0.730769 | N53: 0 | O53: 0 | P53: 0
C54: 65 y más años | D54: 9 | E54: 0.000821 | F54: 326309.11 | G54: 0.333333 | H54: 2 | I54: 267860.5 | J54: 0 | K54: 7 | L54: 343008.71 | M54: 0.428571 | N54: 0 | O54: 0 | P54: 0
C55: Total | D55: 2740 | E55: 0.050249 | F55: 251712.11 | G55: 0.768248 | H55: 825 | I55: 243624.65 | J55: 0.677576 | K55: 1915 | L55: 255196.26 | M55: 0.807311 | N55: 0 | O55: 0 | P55: 0
A56: 5 | B56: Cotizantes Vigentes | C56: 0 a 19 años | D56: 72 | E56: 1 | F56: 75104.611 | G56: 0.083333 | H56: 31 | I56: 57298.935 | J56: 0 | K56: 41 | L56: 88567.439 | M56: 0.146341 | N56: 0 | O56: 0 | P56: 0
C57: 20 a 24 años | D57: 256 | E57: 1 | F57: 126791.73 | G57: 0.0625 | H57: 86 | I57: 124335.3 | J57: 0.069767 | K57: 170 | L57: 128034.39 | M57: 0.058824 | N57: 0 | O57: 0 | P57: 0
C58: 25 a 29 años | D58: 1853 | E58: 1 | F58: 171938.85 | G58: 0.131139 | H58: 725 | I58: 179144.22 | J58: 0.14069 | K58: 1128 | L58: 167307.73 | M58: 0.125 | N58: 0 | O58: 0 | P58: 0
C59: 30 a 34 años | D59: 5266 | E59: 1 | F59: 206542.96 | G59: 0.345613 | H59: 2090 | I59: 218112.79 | J59: 0.438756 | K59: 3176 | L59: 198929.3 | M59: 0.28432 | N59: 0 | O59: 0 | P59: 0
C60: 35 a 39 años | D60: 8120 | E60: 1 | F60: 244911.49 | G60: 0.639409 | H60: 2983 | I60: 251194.7 | J60: 0.679182 | K60: 5137 | L60: 241262.89 | M60: 0.616313 | N60: 0 | O60: 0 | P60: 0
C61: 40 a 44 años | D61: 7418 | E61: 1 | F61: 271193.45 | G61: 0.886627 | H61: 2658 | I61: 259837.12 | J61: 0.724229 | K61: 4760 | L61: 277534.86 | M61: 0.977311 | N61: 0 | O61: 0 | P61: 0
C62: 45 a 49 años | D62: 6644 | E62: 1 | F62: 288938.18 | G62: 1.101294 | H62: 2251 | I62: 256744.96 | J62: 0.745891 | K62: 4393 | L62: 305434.18 | M62: 1.283405 | N62: 0 | O62: 0 | P62: 0
C63: 50 a 54 años | D63: 5725 | E63: 1 | F63: 288403.26 | G63: 1.078079 | H63: 1980 | I63: 248392.37 | J63: 0.658081 | K63: 3745 | L63: 309557.21 | M63: 1.300134 | N63: 0 | O63: 0 | P63: 0
C64: 55 a 59 años | D64: 4351 | E64: 1 | F64: 274820.6 | G64: 0.89037 | H64: 1575 | I64: 226416.73 | J64: 0.422857 | K64: 2776 | L64: 302283.17 | M64: 1.15562 | N64: 0 | O64: 0 | P64: 0
C65: 60 a 64 años | D65: 3865 | E65: 1 | F65: 264890.54 | G65: 0.668564 | H65: 1353 | I65: 222077.61 | J65: 0.259424 | K65: 2512 | L65: 287950.22 | M65: 0.888933 | N65: 0 | O65: 0 | P65: 0
C66: 65 y más años | D66: 10958 | E66: 1 | F66: 231608.44 | G66: 0.455466 | H66: 3825 | I66: 182098.22 | J66: 0.050719 | K66: 7133 | L66: 258157.8 | M66: 0.672508 | N66: 0 | O66: 0 | P66: 0
C67: Total | D67: 54528 | E67: 1 | F67: 252582.96 | G67: 0.711414 | H67: 19557 | I67: 228128.96 | J67: 0.468835 | K67: 34971 | L67: 266258.49 | M67: 0.847073 | N67: 0 | O67: 0 | P67: 0
A69: Fecha extracción de información: | D69: =+Nacional!D69 -> 46295

Sheet VII
A2: VII - REGIÓN DEL MAULE
A3: =+Notas!C6 -> AGOSTO 2025 Y AGOSTO 2026
A6: N° | B6: Cuadro | C6: Tramo de Edad | D6: Sistema Isapre | H6: Sexo Femenino | K6: Sexo Masculino | N6: Sin Información Sexo
D7: N° Cotizantes | E7: % de Cotizantes Vigentes | F7: Cotización Pactada Promedio por Cotizante ($) | G7: N° Cargas Promedio por Cotizante | H7: N° Cotizantes | I7: Cotización Pactada Promedio por Cotizante ($) | J7: N° Cargas Promedio por Cotizante | K7: N° Cotizantes | L7: Cotización Pactada Promedio por Cotizante ($) | M7: N° Cargas Promedio por Cotizante | N7: N° Cotizantes | O7: Cotización Pactada Promedio por Cotizante ($) | P7: N° Cargas Promedio por Cotizante
A8: 1 | B8: Cotizantes que abandonan el Sistema Isapre | C8: 0 a 19 años | D8: 6 | E8: 0.130435 | F8: 59353.767 | G8: 0 | H8: 4 | I8: 61907.868 | J8: 0 | K8: 2 | L8: 54245.564 | M8: 0 | N8: 0 | O8: 0 | P8: 0
C9: 20 a 24 años | D9: 21 | E9: 0.15 | F9: 147354.93 | G9: 0.047619 | H9: 5 | I9: 131051.15 | J9: 0 | K9: 16 | L9: 152449.87 | M9: 0.0625 | N9: 0 | O9: 0 | P9: 0
C10: 25 a 29 años | D10: 186 | E10: 0.13829 | F10: 145340.41 | G10: 0.150538 | H10: 62 | I10: 157929.01 | J10: 0.306452 | K10: 124 | L10: 139046.11 | M10: 0.072581 | N10: 0 | O10: 0 | P10: 0
C11: 30 a 34 años | D11: 569 | E11: 0.135154 | F11: 160660.47 | G11: 0.214411 | H11: 208 | I11: 180371.06 | J11: 0.427885 | K11: 361 | L11: 149303.67 | M11: 0.091413 | N11: 0 | O11: 0 | P11: 0
C12: 35 a 39 años | D12: 679 | E12: 0.099414 | F12: 186473.95 | G12: 0.388807 | H12: 241 | I12: 219610.92 | J12: 0.676349 | K12: 438 | L12: 168241.04 | M12: 0.230594 | N12: 0 | O12: 0 | P12: 0
C13: 40 a 44 años | D13: 494 | E13: 0.080957 | F13: 205381.02 | G13: 0.554656 | H13: 162 | I13: 236824.53 | J13: 0.808642 | K13: 332 | L13: 190038.11 | M13: 0.430723 | N13: 0 | O13: 0 | P13: 0
C14: 45 a 49 años | D14: 379 | E14: 0.070407 | F14: 212248.86 | G14: 0.598945 | H14: 124 | I14: 210887.25 | J14: 0.612903 | K14: 255 | L14: 212910.98 | M14: 0.592157 | N14: 0 | O14: 0 | P14: 0
C15: 50 a 54 años | D15: 331 | E15: 0.071506 | F15: 225070.79 | G15: 0.679758 | H15: 102 | I15: 206532.32 | J15: 0.509804 | K15: 229 | L15: 233328.1 | M15: 0.755459 | N15: 0 | O15: 0 | P15: 0
C16: 55 a 59 años | D16: 236 | E16: 0.068426 | F16: 206893.66 | G16: 0.457627 | H16: 81 | I16: 198605.63 | J16: 0.320988 | K16: 155 | L16: 211224.82 | M16: 0.529032 | N16: 0 | O16: 0 | P16: 0
C17: 60 a 64 años | D17: 263 | E17: 0.08606 | F17: 225821.7 | G17: 0.39924 | H17: 132 | I17: 205554.28 | J17: 0.143939 | K17: 131 | L17: 246243.84 | M17: 0.656489 | N17: 0 | O17: 0 | P17: 0
C18: 65 y más años | D18: 375 | E18: 0.066893 | F18: 240351.84 | G18: 0.296 | H18: 157 | I18: 209169.72 | J18: 0.063694 | K18: 218 | L18: 262808.68 | M18: 0.463303 | N18: 0 | O18: 0 | P18: 0
C19: Total | D19: 3539 | E19: 0.086749 | F19: 198718.41 | G19: 0.413959 | H19: 1278 | I19: 205617.88 | J19: 0.457746 | K19: 2261 | L19: 194818.57 | M19: 0.389208 | N19: 0 | O19: 0 | P19: 0
A20: 2 | B20: Cotizantes que ingresan al Sistema Isapre | C20: 0 a 19 años | D20: 12 | E20: 0.26087 | F20: 105397.25 | G20: 0.083333 | H20: 5 | I20: 123177.2 | J20: 0.2 | K20: 7 | L20: 92697.286 | M20: 0 | N20: 0 | O20: 0 | P20: 0
C21: 20 a 24 años | D21: 63 | E21: 0.45 | F21: 135469.87 | G21: 0.111111 | H21: 17 | I21: 148257 | J21: 0.117647 | K21: 46 | L21: 130744.2 | M21: 0.108696 | N21: 0 | O21: 0 | P21: 0
C22: 25 a 29 años | D22: 458 | E22: 0.34052 | F22: 150764.53 | G22: 0.069869 | H22: 198 | I22: 152865.43 | J22: 0.060606 | K22: 260 | L22: 149164.6 | M22: 0.076923 | N22: 0 | O22: 0 | P22: 0
C23: 30 a 34 años | D23: 402 | E23: 0.095487 | F23: 165155.95 | G23: 0.18408 | H23: 148 | I23: 164170.1 | J23: 0.162162 | K23: 254 | L23: 165730.37 | M23: 0.19685 | N23: 0 | O23: 0 | P23: 0
C24: 35 a 39 años | D24: 330 | E24: 0.048316 | F24: 174988.52 | G24: 0.233333 | H24: 126 | I24: 184167.9 | J24: 0.309524 | K24: 204 | L24: 169318.91 | M24: 0.186275 | N24: 0 | O24: 0 | P24: 0
C25: 40 a 44 años | D25: 228 | E25: 0.037365 | F25: 182153.93 | G25: 0.289474 | H25: 68 | I25: 192600.06 | J25: 0.382353 | K25: 160 | L25: 177714.32 | M25: 0.25 | N25: 0 | O25: 0 | P25: 0
C26: 45 a 49 años | D26: 156 | E26: 0.02898 | F26: 195341.54 | G26: 0.403846 | H26: 56 | I26: 202931.54 | J26: 0.428571 | K26: 100 | L26: 191091.14 | M26: 0.39 | N26: 0 | O26: 0 | P26: 0
C27: 50 a 54 años | D27: 118 | E27: 0.025491 | F27: 184087.51 | G27: 0.29661 | H27: 33 | I27: 165318.67 | J27: 0.181818 | K27: 85 | L27: 191374.24 | M27: 0.341176 | N27: 0 | O27: 0 | P27: 0
C28: 55 a 59 años | D28: 42 | E28: 0.012177 | F28: 235273.79 | G28: 0.452381 | H28: 15 | I28: 269499.47 | J28: 0.933333 | K28: 27 | L28: 216259.52 | M28: 0.185185 | N28: 0 | O28: 0 | P28: 0
C29: 60 a 64 años | D29: 22 | E29: 0.007199 | F29: 233330.91 | G29: 0.318182 | H29: 13 | I29: 181170.85 | J29: 0.153846 | K29: 9 | L29: 308673.22 | M29: 0.555556 | N29: 0 | O29: 0 | P29: 0
C30: 65 y más años | D30: 19 | E30: 0.003389 | F30: 160536.26 | G30: 0.210526 | H30: 13 | I30: 113562.85 | J30: 0.153846 | K30: 6 | L30: 262312 | M30: 0.333333 | N30: 0 | O30: 0 | P30: 0
C31: Total | D31: 1850 | E31: 0.045348 | F31: 170151.4 | G31: 0.208108 | H31: 692 | I31: 171526.67 | J31: 0.219653 | K31: 1158 | L31: 169329.56 | M31: 0.201209 | N31: 0 | O31: 0 | P31: 0
A32: 3 | B32: Diferencia de Cotizantes | C32: 0 a 19 años | D32: 6 | E32: 0 | F32: 46043.483 | G32: 0.083333 | H32: 1 | I32: 61269.332 | J32: 0.2 | K32: 5 | L32: 38451.722 | M32: 0 | N32: 0 | O32: 0 | P32: 0
C33: 20 a 24 años | D33: 42 | E33: 0 | F33: -11885.061 | G33: 0.063492 | H33: 12 | I33: 17205.849 | J33: 0.117647 | K33: 30 | L33: -21705.67 | M33: 0.046196 | N33: 0 | O33: 0 | P33: 0
C34: 25 a 29 años | D34: 272 | E34: 0 | F34: 5424.1138 | G34: -0.080669 | H34: 136 | I34: -5063.5759 | J34: -0.245846 | K34: 136 | L34: 10118.49 | M34: 0.004342 | N34: 0 | O34: 0 | P34: 0
C35: 30 a 34 años | D35: -167 | E35: 0 | F35: 4495.4755 | G35: -0.030332 | H35: -60 | I35: -16200.96 | J35: -0.265722 | K35: -107 | L35: 16426.699 | M35: 0.105438 | N35: 0 | O35: 0 | P35: 0
C36: 35 a 39 años | D36: -349 | E36: 0 | F36: -11485.421 | G36: -0.155474 | H36: -115 | I36: -35443.017 | J36: -0.366825 | K36: -234 | L36: 1077.8638 | M36: -0.044319 | N36: 0 | O36: 0 | P36: 0
C37: 40 a 44 años | D37: -266 | E37: 0 | F37: -23227.099 | G37: -0.265182 | H37: -94 | I37: -44224.469 | J37: -0.426289 | K37: -172 | L37: -12323.791 | M37: -0.180723 | N37: 0 | O37: 0 | P37: 0
C38: 45 a 49 años | D38: -223 | E38: 0 | F38: -16907.322 | G38: -0.195098 | H38: -68 | I38: -7955.7128 | J38: -0.184332 | K38: -155 | L38: -21819.837 | M38: -0.202157 | N38: 0 | O38: 0 | P38: 0
C39: 50 a 54 años | D39: -213 | E39: 0 | F39: -40983.282 | G39: -0.383148 | H39: -69 | I39: -41213.651 | J39: -0.327986 | K39: -144 | L39: -41953.867 | M39: -0.414282 | N39: 0 | O39: 0 | P39: 0
C40: 55 a 59 años | D40: -194 | E40: 0 | F40: 28380.128 | G40: -0.005246 | H40: -66 | I40: 70893.838 | J40: 0.612346 | K40: -128 | L40: 5034.6971 | M40: -0.343847 | N40: 0 | O40: 0 | P40: 0
C41: 60 a 64 años | D41: -241 | E41: 0 | F41: 7509.2043 | G41: -0.081058 | H41: -119 | I41: -24383.433 | J41: 0.009907 | K41: -122 | L41: 62429.379 | M41: -0.100933 | N41: 0 | O41: 0 | P41: 0
C42: 65 y más años | D42: -356 | E42: 0 | F42: -79815.574 | G42: -0.085474 | H42: -144 | I42: -95606.877 | J42: 0.090152 | K42: -212 | L42: -496.68112 | M42: -0.129969 | N42: 0 | O42: 0 | P42: 0
C43: Total | D43: -1689 | E43: 0 | F43: -28567.003 | G43: -0.205851 | H43: -586 | I43: -34091.21 | J43: -0.238093 | K43: -1103 | L43: -25489.003 | M43: -0.187999 | N43: 0 | O43: 0 | P43: 0
A44: 4 | B44: Cotizantes que se cambian de Isapre | C44: 0 a 19 años | D44: 0 | E44: 0 | F44: 0 | G44: 0 | H44: 0 | I44: 0 | J44: 0 | K44: 0 | L44: 0 | M44: 0 | N44: 0 | O44: 0 | P44: 0
C45: 20 a 24 años | D45: 4 | E45: 0.028571 | F45: 160019.75 | G45: 0.25 | H45: 2 | I45: 158539 | J45: 0.5 | K45: 2 | L45: 161500.5 | M45: 0 | N45: 0 | O45: 0 | P45: 0
C46: 25 a 29 años | D46: 81 | E46: 0.060223 | F46: 177080.35 | G46: 0.185185 | H46: 29 | I46: 193373.31 | J46: 0.206897 | K46: 52 | L46: 167993.88 | M46: 0.173077 | N46: 0 | O46: 0 | P46: 0
C47: 30 a 34 años | D47: 357 | E47: 0.084798 | F47: 187781.13 | G47: 0.294118 | H47: 111 | I47: 194834.38 | J47: 0.36036 | K47: 246 | L47: 184598.56 | M47: 0.264228 | N47: 0 | O47: 0 | P47: 0
C48: 35 a 39 años | D48: 527 | E48: 0.07716 | F48: 225061.27 | G48: 0.542694 | H48: 151 | I48: 235273.33 | J48: 0.655629 | K48: 376 | L48: 220960.14 | M48: 0.49734 | N48: 0 | O48: 0 | P48: 0
C49: 40 a 44 años | D49: 407 | E49: 0.066699 | F49: 235907.97 | G49: 0.660934 | H49: 108 | I49: 248838.62 | J49: 0.787037 | K49: 299 | L49: 231237.37 | M49: 0.615385 | N49: 0 | O49: 0 | P49: 0
C50: 45 a 49 años | D50: 304 | E50: 0.056474 | F50: 247320.24 | G50: 0.746711 | H50: 91 | I50: 255851.85 | J50: 0.813187 | K50: 213 | L50: 243675.28 | M50: 0.71831 | N50: 0 | O50: 0 | P50: 0
C51: 50 a 54 años | D51: 174 | E51: 0.037589 | F51: 250836.79 | G51: 0.735632 | H51: 69 | I51: 222536.64 | J51: 0.42029 | K51: 105 | L51: 269434.04 | M51: 0.942857 | N51: 0 | O51: 0 | P51: 0
C52: 55 a 59 años | D52: 78 | E52: 0.022615 | F52: 264854.42 | G52: 0.615385 | H52: 29 | I52: 232923.76 | J52: 0.310345 | K52: 49 | L52: 283752.16 | M52: 0.795918 | N52: 0 | O52: 0 | P52: 0
C53: 60 a 64 años | D53: 47 | E53: 0.01538 | F53: 290298.68 | G53: 0.617021 | H53: 18 | I53: 277075.22 | J53: 0.333333 | K53: 29 | L53: 298506.34 | M53: 0.793103 | N53: 0 | O53: 0 | P53: 0
C54: 65 y más años | D54: 12 | E54: 0.002141 | F54: 326571.17 | G54: 0.416667 | H54: 4 | I54: 204908.25 | J54: 0 | K54: 8 | L54: 387402.62 | M54: 0.625 | N54: 0 | O54: 0 | P54: 0
C55: Total | D55: 1991 | E55: 0.048804 | F55: 227873.32 | G55: 0.559016 | H55: 612 | I55: 230640.01 | J55: 0.570261 | K55: 1379 | L55: 226645.46 | M55: 0.554025 | N55: 0 | O55: 0 | P55: 0
A56: 5 | B56: Cotizantes Vigentes | C56: 0 a 19 años | D56: 46 | E56: 1 | F56: 68809.565 | G56: 0.065217 | H56: 24 | I56: 67309 | J56: 0.125 | K56: 22 | L56: 70446.545 | M56: 0 | N56: 0 | O56: 0 | P56: 0
C57: 20 a 24 años | D57: 140 | E57: 1 | F57: 129895.78 | G57: 0.085714 | H57: 51 | I57: 127245.73 | J57: 0.117647 | K57: 89 | L57: 131414.35 | M57: 0.067416 | N57: 0 | O57: 0 | P57: 0
C58: 25 a 29 años | D58: 1345 | E58: 1 | F58: 162190.93 | G58: 0.098141 | H58: 544 | I58: 168933.75 | J58: 0.125 | K58: 801 | L58: 157611.53 | M58: 0.0799 | N58: 0 | O58: 0 | P58: 0
C59: 30 a 34 años | D59: 4210 | E59: 1 | F59: 188769.78 | G59: 0.219477 | H59: 1597 | I59: 203992.36 | J59: 0.33062 | K59: 2613 | L59: 179466.12 | M59: 0.15155 | N59: 0 | O59: 0 | P59: 0
C60: 35 a 39 años | D60: 6830 | E60: 1 | F60: 215504.92 | G60: 0.408638 | H60: 2486 | I60: 234745.68 | J60: 0.569992 | K60: 4344 | L60: 204493.75 | M60: 0.316298 | N60: 0 | O60: 0 | P60: 0
C61: 40 a 44 años | D61: 6102 | E61: 1 | F61: 240797.57 | G61: 0.600295 | H61: 2101 | I61: 257180.32 | J61: 0.719657 | K61: 4001 | L61: 232194.68 | M61: 0.537616 | N61: 0 | O61: 0 | P61: 0
C62: 45 a 49 años | D62: 5383 | E62: 1 | F62: 256734.56 | G62: 0.773175 | H62: 1911 | I62: 257203.24 | J62: 0.718995 | K62: 3472 | L62: 256476.59 | M62: 0.802995 | N62: 0 | O62: 0 | P62: 0
C63: 50 a 54 años | D63: 4629 | E63: 1 | F63: 261101.85 | G63: 0.791316 | H63: 1745 | I63: 250876.04 | J63: 0.649284 | K63: 2884 | L63: 267289.1 | M63: 0.877254 | N63: 0 | O63: 0 | P63: 0
C64: 55 a 59 años | D64: 3449 | E64: 1 | F64: 263306.92 | G64: 0.728617 | H64: 1345 | I64: 235505.75 | J64: 0.446097 | K64: 2104 | L64: 281079.05 | M64: 0.909221 | N64: 0 | O64: 0 | P64: 0
C65: 60 a 64 años | D65: 3056 | E65: 1 | F65: 267545.7 | G65: 0.557264 | H65: 1226 | I65: 238685.89 | J65: 0.27814 | K65: 1830 | L65: 286880.2 | M65: 0.744262 | N65: 0 | O65: 0 | P65: 0
C66: 65 y más años | D66: 5606 | E66: 1 | F66: 271747.42 | G66: 0.339458 | H66: 2377 | I66: 225496.62 | J66: 0.085822 | K66: 3229 | L66: 305794.54 | M66: 0.526169 | N66: 0 | O66: 0 | P66: 0
C67: Total | D67: 40796 | E67: 1 | F67: 240594.36 | G67: 0.526253 | H67: 15407 | I67: 235242.29 | J67: 0.466411 | K67: 25389 | L67: 243842.19 | M67: 0.562566 | N67: 0 | O67: 0 | P67: 0
A69: Fecha extracción de información: | D69: =+Nacional!D69 -> 46295

Sheet XVI
A2: XVI- REGIÓN DE ÑUBLE
A3: =+Notas!C6 -> AGOSTO 2025 Y AGOSTO 2026
A6: N° | B6: Cuadro | C6: Tramo de Edad | D6: Sistema Isapre | H6: Sexo Femenino | K6: Sexo Masculino | N6: Sin Información Sexo
D7: N° Cotizantes | E7: % de Cotizantes Vigentes | F7: Cotización Pactada Promedio por Cotizante ($) | G7: N° Cargas Promedio por Cotizante | H7: N° Cotizantes | I7: Cotización Pactada Promedio por Cotizante ($) | J7: N° Cargas Promedio por Cotizante | K7: N° Cotizantes | L7: Cotización Pactada Promedio por Cotizante ($) | M7: N° Cargas Promedio por Cotizante | N7: N° Cotizantes | O7: Cotización Pactada Promedio por Cotizante ($) | P7: N° Cargas Promedio por Cotizante
A8: 1 | B8: Cotizantes que abandonan el Sistema Isapre | C8: 0 a 19 años | D8: 2 | E8: 0.166667 | F8: 83934.682 | G8: 0 | H8: 0 | I8: 0 | J8: 0 | K8: 2 | L8: 83934.682 | M8: 0 | N8: 0 | O8: 0 | P8: 0
C9: 20 a 24 años | D9: 3 | E9: 0.058824 | F9: 48977.865 | G9: 0 | H9: 1 | I9: 83800.352 | J9: 0 | K9: 2 | L9: 31566.622 | M9: 0 | N9: 0 | O9: 0 | P9: 0
C10: 25 a 29 años | D10: 66 | E10: 0.139535 | F10: 140200.93 | G10: 0.030303 | H10: 23 | I10: 151967.12 | J10: 0 | K10: 43 | L10: 133907.39 | M10: 0.046512 | N10: 0 | O10: 0 | P10: 0
C11: 30 a 34 años | D11: 215 | E11: 0.139974 | F11: 165541.25 | G11: 0.218605 | H11: 76 | I11: 175366.63 | J11: 0.342105 | K11: 139 | L11: 160169.09 | M11: 0.151079 | N11: 0 | O11: 0 | P11: 0
C12: 35 a 39 años | D12: 278 | E12: 0.105623 | F12: 185847.76 | G12: 0.381295 | H12: 86 | I12: 204550.91 | J12: 0.604651 | K12: 192 | L12: 177470.31 | M12: 0.28125 | N12: 0 | O12: 0 | P12: 0
C13: 40 a 44 años | D13: 224 | E13: 0.090615 | F13: 202600.2 | G13: 0.495536 | H13: 63 | I13: 226551.59 | J13: 0.698413 | K13: 161 | L13: 193227.92 | M13: 0.416149 | N13: 0 | O13: 0 | P13: 0
C14: 45 a 49 años | D14: 175 | E14: 0.08672 | F14: 209514.42 | G14: 0.651429 | H14: 54 | I14: 211309.83 | J14: 0.703704 | K14: 121 | L14: 208713.16 | M14: 0.628099 | N14: 0 | O14: 0 | P14: 0
C15: 50 a 54 años | D15: 153 | E15: 0.085284 | F15: 213096.76 | G15: 0.633987 | H15: 47 | I15: 211328.96 | J15: 0.595745 | K15: 106 | L15: 213880.59 | M15: 0.650943 | N15: 0 | O15: 0 | P15: 0
C16: 55 a 59 años | D16: 114 | E16: 0.075547 | F16: 212675.19 | G16: 0.526316 | H16: 41 | I16: 203659.18 | J16: 0.487805 | K16: 73 | L16: 217738.98 | M16: 0.547945 | N16: 0 | O16: 0 | P16: 0
C17: 60 a 64 años | D17: 112 | E17: 0.084977 | F17: 227336.01 | G17: 0.491071 | H17: 46 | I17: 215902.92 | J17: 0.23913 | K17: 66 | L17: 235304.53 | M17: 0.666667 | N17: 0 | O17: 0 | P17: 0
C18: 65 y más años | D18: 148 | E18: 0.068519 | F18: 230956.31 | G18: 0.310811 | H18: 58 | I18: 222974.77 | J18: 0.12069 | K18: 90 | L18: 236099.97 | M18: 0.433333 | N18: 0 | O18: 0 | P18: 0
C19: Total | D19: 1490 | E19: 0.093271 | F19: 198231.22 | G19: 0.428188 | H19: 495 | I19: 204703.69 | J19: 0.456566 | K19: 995 | L19: 195011.25 | M19: 0.41407 | N19: 0 | O19: 0 | P19: 0
A20: 2 | B20: Cotizantes que ingresan al Sistema Isapre | C20: 0 a 19 años | D20: 1 | E20: 0.083333 | F20: 88797 | G20: 0 | H20: 0 | I20: 0 | J20: 0 | K20: 1 | L20: 88797 | M20: 0 | N20: 0 | O20: 0 | P20: 0
C21: 20 a 24 años | D21: 24 | E21: 0.470588 | F21: 133792.29 | G21: 0.125 | H21: 5 | I21: 129951.6 | J21: 0 | K21: 19 | L21: 134803 | M21: 0.157895 | N21: 0 | O21: 0 | P21: 0
C22: 25 a 29 años | D22: 161 | E22: 0.340381 | F22: 157085.04 | G22: 0.049689 | H22: 72 | I22: 169054.94 | J22: 0.055556 | K22: 89 | L22: 147401.53 | M22: 0.044944 | N22: 0 | O22: 0 | P22: 0
C23: 30 a 34 años | D23: 152 | E23: 0.098958 | F23: 156876.06 | G23: 0.125 | H23: 54 | I23: 164009.41 | J23: 0.185185 | K23: 98 | L23: 152945.44 | M23: 0.091837 | N23: 0 | O23: 0 | P23: 0
C24: 35 a 39 años | D24: 129 | E24: 0.049012 | F24: 171273.97 | G24: 0.193798 | H24: 30 | I24: 174252.1 | J24: 0.233333 | K24: 99 | L24: 170371.51 | M24: 0.181818 | N24: 0 | O24: 0 | P24: 0
C25: 40 a 44 años | D25: 86 | E25: 0.03479 | F25: 180090.41 | G25: 0.302326 | H25: 26 | I25: 202381.23 | J25: 0.538462 | K25: 60 | L25: 170431.05 | M25: 0.2 | N25: 0 | O25: 0 | P25: 0
C26: 45 a 49 años | D26: 63 | E26: 0.031219 | F26: 199642.24 | G26: 0.507937 | H26: 20 | I26: 228835.1 | J26: 0.9 | K26: 43 | L26: 186064.16 | M26: 0.325581 | N26: 0 | O26: 0 | P26: 0
C27: 50 a 54 años | D27: 37 | E27: 0.020624 | F27: 209875.95 | G27: 0.351351 | H27: 9 | I27: 213091.78 | J27: 0.222222 | K27: 28 | L27: 208842.29 | M27: 0.392857 | N27: 0 | O27: 0 | P27: 0
C28: 55 a 59 años | D28: 21 | E28: 0.013917 | F28: 231016.24 | G28: 0.380952 | H28: 7 | I28: 229798.57 | J28: 0.285714 | K28: 14 | L28: 231625.07 | M28: 0.428571 | N28: 0 | O28: 0 | P28: 0
C29: 60 a 64 años | D29: 7 | E29: 0.005311 | F29: 193639.57 | G29: 0 | H29: 2 | I29: 209534 | J29: 0 | K29: 5 | L29: 187281.8 | M29: 0 | N29: 0 | O29: 0 | P29: 0
C30: 65 y más años | D30: 9 | E30: 0.004167 | F30: 197420.44 | G30: 0 | H30: 7 | I30: 129990.57 | J30: 0 | K30: 2 | L30: 433425 | M30: 0 | N30: 0 | O30: 0 | P30: 0
C31: Total | D31: 690 | E31: 0.043192 | F31: 171513.41 | G31: 0.194203 | H31: 232 | I31: 179309.56 | J31: 0.24569 | K31: 458 | L31: 167564.28 | M31: 0.168122 | N31: 0 | O31: 0 | P31: 0
A32: 3 | B32: Diferencia de Cotizantes | C32: 0 a 19 años | D32: -1 | E32: 0 | F32: 4862.3175 | G32: 0 | H32: 0 | I32: 0 | J32: 0 | K32: -1 | L32: 4862.3175 | M32: 0 | N32: 0 | O32: 0 | P32: 0
C33: 20 a 24 años | D33: 21 | E33: 0 | F33: 84814.427 | G33: 0.125 | H33: 4 | I33: 46151.248 | J33: 0 | K33: 17 | L33: 103236.38 | M33: 0.157895 | N33: 0 | O33: 0 | P33: 0
C34: 25 a 29 años | D34: 95 | E34: 0 | F34: 16884.113 | G34: 0.019386 | H34: 49 | I34: 17087.827 | J34: 0.055556 | K34: 46 | L34: 13494.139 | M34: -0.001568 | N34: 0 | O34: 0 | P34: 0
C35: 30 a 34 años | D35: -63 | E35: 0 | F35: -8665.1869 | G35: -0.093605 | H35: -22 | I35: -11357.226 | J35: -0.15692 | K35: -41 | L35: -7223.653 | M35: -0.059242 | N35: 0 | O35: 0 | P35: 0
C36: 35 a 39 años | D36: -149 | E36: 0 | F36: -14573.794 | G36: -0.187497 | H36: -56 | I36: -30298.81 | J36: -0.371318 | K36: -93 | L36: -7098.8067 | M36: -0.099432 | N36: 0 | O36: 0 | P36: 0
C37: 40 a 44 años | D37: -138 | E37: 0 | F37: -22509.793 | G37: -0.19321 | H37: -37 | I37: -24170.356 | J37: -0.159951 | K37: -101 | L37: -22796.869 | M37: -0.216149 | N37: 0 | O37: 0 | P37: 0
C38: 45 a 49 años | D38: -112 | E38: 0 | F38: -9872.1821 | G38: -0.143492 | H38: -34 | I38: 17525.271 | J38: 0.196296 | K38: -78 | L38: -22649.001 | M38: -0.302518 | N38: 0 | O38: 0 | P38: 0
C39: 50 a 54 años | D39: -116 | E39: 0 | F39: -3220.8114 | G39: -0.282636 | H39: -38 | I39: 1762.8134 | J39: -0.373522 | K39: -78 | L39: -5038.3044 | M39: -0.258086 | N39: 0 | O39: 0 | P39: 0
C40: 55 a 59 años | D40: -93 | E40: 0 | F40: 18341.045 | G40: -0.145363 | H40: -34 | I40: 26139.391 | J40: -0.202091 | K40: -59 | L40: 13886.09 | M40: -0.119374 | N40: 0 | O40: 0 | P40: 0
C41: 60 a 64 años | D41: -105 | E41: 0 | F41: -33696.441 | G41: -0.491071 | H41: -44 | I41: -6368.9249 | J41: -0.23913 | K41: -61 | L41: -48022.728 | M41: -0.666667 | N41: 0 | O41: 0 | P41: 0
C42: 65 y más años | D42: -139 | E42: 0 | F42: -33535.867 | G42: -0.310811 | H42: -51 | I42: -92984.202 | J42: -0.12069 | K42: -88 | L42: 197325.03 | M42: -0.433333 | N42: 0 | O42: 0 | P42: 0
C43: Total | D43: -800 | E43: 0 | F43: -26717.81 | G43: -0.233985 | H43: -263 | I43: -25394.133 | J43: -0.210876 | K43: -537 | L43: -27446.977 | M43: -0.245948 | N43: 0 | O43: 0 | P43: 0
A44: 4 | B44: Cotizantes que se cambian de Isapre | C44: 0 a 19 años | D44: 0 | E44: 0 | F44: 0 | G44: 0 | H44: 0 | I44: 0 | J44: 0 | K44: 0 | L44: 0 | M44: 0 | N44: 0 | O44: 0 | P44: 0
C45: 20 a 24 años | D45: 1 | E45: 0.019608 | F45: 292082 | G45: 0 | H45: 0 | I45: 0 | J45: 0 | K45: 1 | L45: 292082 | M45: 0 | N45: 0 | O45: 0 | P45: 0
C46: 25 a 29 años | D46: 26 | E46: 0.054968 | F46: 171807.31 | G46: 0 | H46: 12 | I46: 168658.33 | J46: 0 | K46: 14 | L46: 174506.43 | M46: 0 | N46: 0 | O46: 0 | P46: 0
C47: 30 a 34 años | D47: 139 | E47: 0.090495 | F47: 193422.2 | G47: 0.208633 | H47: 40 | I47: 183037.8 | J47: 0.175 | K47: 99 | L47: 197617.92 | M47: 0.222222 | N47: 0 | O47: 0 | P47: 0
C48: 35 a 39 años | D48: 204 | E48: 0.077508 | F48: 219692.6 | G48: 0.431373 | H48: 56 | I48: 239966.2 | J48: 0.625 | K48: 148 | L48: 212021.51 | M48: 0.358108 | N48: 0 | O48: 0 | P48: 0
C49: 40 a 44 años | D49: 164 | E49: 0.066343 | F49: 224493.73 | G49: 0.506098 | H49: 45 | I49: 235826.93 | J49: 0.6 | K49: 119 | L49: 220208.06 | M49: 0.470588 | N49: 0 | O49: 0 | P49: 0
C50: 45 a 49 años | D50: 106 | E50: 0.052527 | F50: 248993.37 | G50: 0.783019 | H50: 26 | I50: 239851.65 | J50: 0.807692 | K50: 80 | L50: 251964.42 | M50: 0.775 | N50: 0 | O50: 0 | P50: 0
C51: 50 a 54 años | D51: 63 | E51: 0.035117 | F51: 260283.79 | G51: 0.650794 | H51: 19 | I51: 285870.53 | J51: 0.842105 | K51: 44 | L51: 249234.98 | M51: 0.568182 | N51: 0 | O51: 0 | P51: 0
C52: 55 a 59 años | D52: 43 | E52: 0.028496 | F52: 257347.84 | G52: 0.534884 | H52: 14 | I52: 224885.71 | J52: 0.214286 | K52: 29 | L52: 273019.21 | M52: 0.689655 | N52: 0 | O52: 0 | P52: 0
C53: 60 a 64 años | D53: 9 | E53: 0.006829 | F53: 293007 | G53: 0.444444 | H53: 4 | I53: 357136.75 | J53: 0.5 | K53: 5 | L53: 241703.2 | M53: 0.4 | N53: 0 | O53: 0 | P53: 0
C54: 65 y más años | D54: 6 | E54: 0.002778 | F54: 423798.67 | G54: 1.166667 | H54: 1 | I54: 277377 | J54: 0 | K54: 5 | L54: 453083 | M54: 1.4 | N54: 0 | O54: 0 | P54: 0
C55: Total | D55: 761 | E55: 0.047637 | F55: 226433.65 | G55: 0.470434 | H55: 217 | I55: 230035.66 | J55: 0.511521 | K55: 544 | L55: 224996.82 | M55: 0.454044 | N55: 0 | O55: 0 | P55: 0
A56: 5 | B56: Cotizantes Vigentes | C56: 0 a 19 años | D56: 12 | E56: 1 | F56: 79954 | G56: 0.166667 | H56: 5 | I56: 94950.4 | J56: 0.2 | K56: 7 | L56: 69242.286 | M56: 0.142857 | N56: 0 | O56: 0 | P56: 0
C57: 20 a 24 años | D57: 51 | E57: 1 | F57: 133552.2 | G57: 0.078431 | H57: 17 | I57: 116376.06 | J57: 0 | K57: 34 | L57: 142140.26 | M57: 0.117647 | N57: 0 | O57: 0 | P57: 0
C58: 25 a 29 años | D58: 473 | E58: 1 | F58: 167993.31 | G58: 0.046512 | H58: 184 | I58: 178738.18 | J58: 0.076087 | K58: 289 | L58: 161152.28 | M58: 0.027682 | N58: 0 | O58: 0 | P58: 0
C59: 30 a 34 años | D59: 1536 | E59: 1 | F59: 183680.68 | G59: 0.166016 | H59: 568 | I59: 192973.73 | J59: 0.258803 | K59: 968 | L59: 178227.74 | M59: 0.11157 | N59: 0 | O59: 0 | P59: 0
C60: 35 a 39 años | D60: 2632 | E60: 1 | F60: 206896.07 | G60: 0.351064 | H60: 944 | I60: 223265.77 | J60: 0.528602 | K60: 1688 | L60: 197741.45 | M60: 0.251777 | N60: 0 | O60: 0 | P60: 0
C61: 40 a 44 años | D61: 2472 | E61: 1 | F61: 231811.07 | G61: 0.539239 | H61: 847 | I61: 245283.75 | J61: 0.670602 | K61: 1625 | L61: 224788.7 | M61: 0.470769 | N61: 0 | O61: 0 | P61: 0
C62: 45 a 49 años | D62: 2018 | E62: 1 | F62: 247424.92 | G62: 0.710605 | H62: 702 | I62: 251284.4 | J62: 0.730769 | K62: 1316 | L62: 245366.15 | M62: 0.699848 | N62: 0 | O62: 0 | P62: 0
C63: 50 a 54 años | D63: 1794 | E63: 1 | F63: 254421.54 | G63: 0.781494 | H63: 683 | I63: 242348.54 | J63: 0.598829 | K63: 1111 | L63: 261843.55 | M63: 0.893789 | N63: 0 | O63: 0 | P63: 0
C64: 55 a 59 años | D64: 1509 | E64: 1 | F64: 256196.09 | G64: 0.676607 | H64: 605 | I64: 239110.49 | J64: 0.456198 | K64: 904 | L64: 267630.6 | M64: 0.824115 | N64: 0 | O64: 0 | P64: 0
C65: 60 a 64 años | D65: 1318 | E65: 1 | F65: 257533.58 | G65: 0.575873 | H65: 506 | I65: 231414.07 | J65: 0.245059 | K65: 812 | L65: 273810.02 | M65: 0.78202 | N65: 0 | O65: 0 | P65: 0
C66: 65 y más años | D66: 2160 | E66: 1 | F66: 250649.26 | G66: 0.315278 | H66: 919 | I66: 213170.61 | J66: 0.089227 | K66: 1241 | L66: 278403.39 | M66: 0.482675 | N66: 0 | O66: 0 | P66: 0
C67: Total | D67: 15975 | E67: 1 | F67: 232245.36 | G67: 0.490579 | H67: 5980 | I67: 227935.64 | J67: 0.440301 | K67: 9995 | L67: 234823.87 | M67: 0.52066 | N67: 0 | O67: 0 | P67: 0
A69: Fecha extracción de información: | D69: =+Nacional!D69 -> 46295

Sheet VIII
A2: VIII - REGIÓN DEL BIOBÍO
A3: =+Notas!C6 -> AGOSTO 2025 Y AGOSTO 2026
A6: N° | B6: Cuadro | C6: Tramo de Edad | D6: Sistema Isapre | H6: Sexo Femenino | K6: Sexo Masculino | N6: Sin Información Sexo
D7: N° Cotizantes | E7: % de Cotizantes Vigentes | F7: Cotización Pactada Promedio por Cotizante ($) | G7: N° Cargas Promedio por Cotizante | H7: N° Cotizantes | I7: Cotización Pactada Promedio por Cotizante ($) | J7: N° Cargas Promedio por Cotizante | K7: N° Cotizantes | L7: Cotización Pactada Promedio por Cotizante ($) | M7: N° Cargas Promedio por Cotizante | N7: N° Cotizantes | O7: Cotización Pactada Promedio por Cotizante ($) | P7: N° Cargas Promedio por Cotizante
A8: 1 | B8: Cotizantes que abandonan el Sistema Isapre | C8: 0 a 19 años | D8: 11 | E8: 0.134146 | F8: 55040.376 | G8: 0.272727 | H8: 6 | I8: 58281.205 | J8: 0.5 | K8: 5 | L8: 51151.381 | M8: 0 | N8: 0 | O8: 0 | P8: 0
C9: 20 a 24 años | D9: 46 | E9: 0.146497 | F9: 111344.26 | G9: 0.021739 | H9: 17 | I9: 112709.03 | J9: 0.058824 | K9: 29 | L9: 110544.22 | M9: 0 | N9: 0 | O9: 0 | P9: 0
C10: 25 a 29 años | D10: 376 | E10: 0.133239 | F10: 146955.46 | G10: 0.095745 | H10: 130 | I10: 155167.31 | J10: 0.161538 | K10: 246 | L10: 142615.87 | M10: 0.060976 | N10: 0 | O10: 0 | P10: 0
C11: 30 a 34 años | D11: 964 | E11: 0.121349 | F11: 165734.02 | G11: 0.232365 | H11: 334 | I11: 174173.5 | J11: 0.362275 | K11: 630 | L11: 161259.75 | M11: 0.163492 | N11: 0 | O11: 0 | P11: 0
C12: 35 a 39 años | D12: 1236 | E12: 0.097231 | F12: 184861.87 | G12: 0.390777 | H12: 451 | I12: 198323.7 | J12: 0.587583 | K12: 785 | L12: 177127.74 | M12: 0.277707 | N12: 0 | O12: 0 | P12: 0
C13: 40 a 44 años | D13: 1005 | E13: 0.081654 | F13: 205991.27 | G13: 0.591045 | H13: 343 | I13: 217949.85 | J13: 0.725948 | K13: 662 | L13: 199795.21 | M13: 0.521148 | N13: 0 | O13: 0 | P13: 0
C14: 45 a 49 años | D14: 744 | E14: 0.068622 | F14: 217096.68 | G14: 0.719086 | H14: 243 | I14: 209337.36 | J14: 0.687243 | K14: 501 | L14: 220860.18 | M14: 0.734531 | N14: 0 | O14: 0 | P14: 0
C15: 50 a 54 años | D15: 643 | E15: 0.065996 | F15: 224581.26 | G15: 0.748056 | H15: 206 | I15: 211757.04 | J15: 0.519417 | K15: 437 | L15: 230626.54 | M15: 0.855835 | N15: 0 | O15: 0 | P15: 0
C16: 55 a 59 años | D16: 455 | E16: 0.057925 | F16: 225306.46 | G16: 0.714286 | H16: 161 | I16: 199724.83 | J16: 0.416149 | K16: 294 | L16: 239315.44 | M16: 0.877551 | N16: 0 | O16: 0 | P16: 0
C17: 60 a 64 años | D17: 503 | E17: 0.078288 | F17: 228478.48 | G17: 0.518887 | H17: 192 | I17: 202482.79 | J17: 0.1875 | K17: 311 | L17: 244527.26 | M17: 0.723473 | N17: 0 | O17: 0 | P17: 0
C18: 65 y más años | D18: 694 | E18: 0.057251 | F18: 231312.66 | G18: 0.370317 | H18: 245 | I18: 192184.86 | J18: 0.061224 | K18: 449 | L18: 252663.02 | M18: 0.538976 | N18: 0 | O18: 0 | P18: 0
C19: Total | D19: 6677 | E19: 0.080282 | F19: 200712.36 | G19: 0.479257 | H19: 2328 | I19: 196486.62 | J19: 0.45189 | K19: 4349 | L19: 202974.37 | M19: 0.493907 | N19: 0 | O19: 0 | P19: 0
A20: 2 | B20: Cotizantes que ingresan al Sistema Isapre | C20: 0 a 19 años | D20: 27 | E20: 0.329268 | F20: 86177.296 | G20: 0.111111 | H20: 16 | I20: 92253.562 | J20: 0.125 | K20: 11 | L20: 77339.091 | M20: 0.090909 | N20: 0 | O20: 0 | P20: 0
C21: 20 a 24 años | D21: 146 | E21: 0.464968 | F21: 131250.39 | G21: 0.047945 | H21: 44 | I21: 126971 | J21: 0.022727 | K21: 102 | L21: 133096.4 | M21: 0.058824 | N21: 0 | O21: 0 | P21: 0
C22: 25 a 29 años | D22: 905 | E22: 0.320695 | F22: 155654.9 | G22: 0.064088 | H22: 328 | I22: 159663.83 | J22: 0.033537 | K22: 577 | L22: 153376 | M22: 0.081456 | N22: 0 | O22: 0 | P22: 0
C23: 30 a 34 años | D23: 774 | E23: 0.097432 | F23: 161429.37 | G23: 0.139535 | H23: 281 | I23: 159158.6 | J23: 0.117438 | K23: 493 | L23: 162723.66 | M23: 0.15213 | N23: 0 | O23: 0 | P23: 0
C24: 35 a 39 años | D24: 638 | E24: 0.050189 | F24: 179869.12 | G24: 0.22884 | H24: 179 | I24: 186035.07 | J24: 0.240223 | K24: 459 | L24: 177464.53 | M24: 0.224401 | N24: 0 | O24: 0 | P24: 0
C25: 40 a 44 años | D25: 433 | E25: 0.03518 | F25: 190134.39 | G25: 0.307159 | H25: 136 | I25: 200624.92 | J25: 0.411765 | K25: 297 | L25: 185330.65 | M25: 0.259259 | N25: 0 | O25: 0 | P25: 0
C26: 45 a 49 años | D26: 263 | E26: 0.024258 | F26: 204864.72 | G26: 0.471483 | H26: 91 | I26: 211242.91 | J26: 0.549451 | K26: 172 | L26: 201490.22 | M26: 0.430233 | N26: 0 | O26: 0 | P26: 0
C27: 50 a 54 años | D27: 202 | E27: 0.020733 | F27: 192640.58 | G27: 0.361386 | H27: 47 | I27: 195327.77 | J27: 0.382979 | K27: 155 | L27: 191825.75 | M27: 0.354839 | N27: 0 | O27: 0 | P27: 0
C28: 55 a 59 años | D28: 107 | E28: 0.013622 | F28: 236223.79 | G28: 0.448598 | H28: 28 | I28: 227933 | J28: 0.392857 | K28: 79 | L28: 239162.29 | M28: 0.468354 | N28: 0 | O28: 0 | P28: 0
C29: 60 a 64 años | D29: 29 | E29: 0.004514 | F29: 237862.9 | G29: 0.448276 | H29: 12 | I29: 243836.08 | J29: 0.333333 | K29: 17 | L29: 233646.53 | M29: 0.529412 | N29: 0 | O29: 0 | P29: 0
C30: 65 y más años | D30: 48 | E30: 0.00396 | F30: 178629.98 | G30: 0.125 | H30: 38 | I30: 140505.47 | J30: 0.078947 | K30: 10 | L30: 323503.1 | M30: 0.3 | N30: 0 | O30: 0 | P30: 0
C31: Total | D31: 3572 | E31: 0.042949 | F31: 172992.46 | G31: 0.201288 | H31: 1200 | I31: 173160.19 | J31: 0.193333 | K31: 2372 | L31: 172907.61 | M31: 0.205312 | N31: 0 | O31: 0 | P31: 0
A32: 3 | B32: Diferencia de Cotizantes | C32: 0 a 19 años | D32: 16 | E32: 0 | F32: 31136.92 | G32: -0.161616 | H32: 10 | I32: 33972.357 | J32: -0.375 | K32: 6 | L32: 26187.71 | M32: 0.090909 | N32: 0 | O32: 0 | P32: 0
C33: 20 a 24 años | D33: 100 | E33: 0 | F33: 19906.133 | G33: 0.026206 | H33: 27 | I33: 14261.969 | J33: -0.036096 | K33: 73 | L33: 22552.183 | M33: 0.058824 | N33: 0 | O33: 0 | P33: 0
C34: 25 a 29 años | D34: 529 | E34: 0 | F34: 8699.4448 | G34: -0.031656 | H34: 198 | I34: 4496.5206 | J34: -0.128002 | K34: 331 | L34: 10760.136 | M34: 0.02048 | N34: 0 | O34: 0 | P34: 0
C35: 30 a 34 años | D35: -190 | E35: 0 | F35: -4304.6481 | G35: -0.09283 | H35: -53 | I35: -15014.902 | J35: -0.244838 | K35: -137 | L35: 1463.9109 | M35: -0.011362 | N35: 0 | O35: 0 | P35: 0
C36: 35 a 39 años | D36: -598 | E36: 0 | F36: -4992.7459 | G36: -0.161937 | H36: -272 | I36: -12288.628 | J36: -0.34736 | K36: -326 | L36: 336.79078 | M36: -0.053306 | N36: 0 | O36: 0 | P36: 0
C37: 40 a 44 años | D37: -572 | E37: 0 | F37: -15856.877 | G37: -0.283885 | H37: -207 | I37: -17324.933 | J37: -0.314183 | K37: -365 | L37: -14464.556 | M37: -0.261889 | N37: 0 | O37: 0 | P37: 0
C38: 45 a 49 años | D38: -481 | E38: 0 | F38: -12231.953 | G38: -0.247603 | H38: -152 | I38: 1905.5517 | J38: -0.137792 | K38: -329 | L38: -19369.961 | M38: -0.304298 | N38: 0 | O38: 0 | P38: 0
C39: 50 a 54 años | D39: -441 | E39: 0 | F39: -31940.68 | G39: -0.38667 | H39: -159 | I39: -16429.274 | J39: -0.136439 | K39: -282 | L39: -38800.788 | M39: -0.500997 | N39: 0 | O39: 0 | P39: 0
C40: 55 a 59 años | D40: -348 | E40: 0 | F40: 10917.329 | G40: -0.265688 | H40: -133 | I40: 28208.166 | J40: -0.023292 | K40: -215 | L40: -153.148 | M40: -0.409197 | N40: 0 | O40: 0 | P40: 0
C41: 60 a 64 años | D41: -474 | E41: 0 | F41: 9384.4187 | G41: -0.070611 | H41: -180 | I41: 41353.293 | J41: 0.145833 | K41: -294 | L41: -10880.733 | M41: -0.194061 | N41: 0 | O41: 0 | P41: 0
C42: 65 y más años | D42: -646 | E42: 0 | F42: -52682.683 | G42: -0.245317 | H42: -207 | I42: -51679.383 | J42: 0.017723 | K42: -439 | L42: 70840.076 | M42: -0.238976 | N42: 0 | O42: 0 | P42: 0
C43: Total | D43: -3105 | E43: 0 | F43: -27719.891 | G43: -0.277969 | H43: -1128 | I43: -23326.428 | J43: -0.258557 | K43: -1977 | L43: -30066.762 | M43: -0.288595 | N43: 0 | O43: 0 | P43: 0
A44: 4 | B44: Cotizantes que se cambian de Isapre | C44: 0 a 19 años | D44: 1 | E44: 0.012195 | F44: 142671 | G44: 0 | H44: 1 | I44: 142671 | J44: 0 | K44: 0 | L44: 0 | M44: 0 | N44: 0 | O44: 0 | P44: 0
C45: 20 a 24 años | D45: 3 | E45: 0.009554 | F45: 123800.67 | G45: 0 | H45: 1 | I45: 116653 | J45: 0 | K45: 2 | L45: 127374.5 | M45: 0 | N45: 0 | O45: 0 | P45: 0
C46: 25 a 29 años | D46: 151 | E46: 0.053508 | F46: 180335.19 | G46: 0.152318 | H46: 54 | I46: 180906.09 | J46: 0.148148 | K46: 97 | L46: 180017.36 | M46: 0.154639 | N46: 0 | O46: 0 | P46: 0
C47: 30 a 34 años | D47: 586 | E47: 0.073766 | F47: 195292.02 | G47: 0.274744 | H47: 173 | I47: 195125.06 | J47: 0.260116 | K47: 413 | L47: 195361.95 | M47: 0.280872 | N47: 0 | O47: 0 | P47: 0
C48: 35 a 39 años | D48: 820 | E48: 0.064506 | F48: 212945.83 | G48: 0.50122 | H48: 232 | I48: 216359.17 | J48: 0.607759 | K48: 588 | L48: 211599.07 | M48: 0.459184 | N48: 0 | O48: 0 | P48: 0
C49: 40 a 44 años | D49: 638 | E49: 0.051836 | F49: 224841.55 | G49: 0.623824 | H49: 177 | I49: 231002.54 | J49: 0.734463 | K49: 461 | L49: 222476.05 | M49: 0.581345 | N49: 0 | O49: 0 | P49: 0
C50: 45 a 49 años | D50: 503 | E50: 0.046394 | F50: 241383.9 | G50: 0.809145 | H50: 138 | I50: 241131.38 | J50: 0.826087 | K50: 365 | L50: 241479.38 | M50: 0.80274 | N50: 0 | O50: 0 | P50: 0
C51: 50 a 54 años | D51: 288 | E51: 0.02956 | F51: 247676.07 | G51: 0.78125 | H51: 93 | I51: 237900.35 | J51: 0.709677 | K51: 195 | L51: 252338.33 | M51: 0.815385 | N51: 0 | O51: 0 | P51: 0
C52: 55 a 59 años | D52: 114 | E52: 0.014513 | F52: 244765.35 | G52: 0.54386 | H52: 37 | I52: 233643.43 | J52: 0.351351 | K52: 77 | L52: 250109.65 | M52: 0.636364 | N52: 0 | O52: 0 | P52: 0
C53: 60 a 64 años | D53: 39 | E53: 0.00607 | F53: 274641.46 | G53: 0.564103 | H53: 12 | I53: 243897.92 | J53: 0.083333 | K53: 27 | L53: 288305.26 | M53: 0.777778 | N53: 0 | O53: 0 | P53: 0
C54: 65 y más años | D54: 8 | E54: 0.00066 | F54: 263678.88 | G54: 0.375 | H54: 4 | I54: 237380 | J54: 0 | K54: 4 | L54: 289977.75 | M54: 0.75 | N54: 0 | O54: 0 | P54: 0
C55: Total | D55: 3151 | E55: 0.037887 | F55: 220158.94 | G55: 0.54332 | H55: 922 | I55: 219945.37 | J55: 0.561822 | K55: 2229 | L55: 220247.28 | M55: 0.535666 | N55: 0 | O55: 0 | P55: 0
A56: 5 | B56: Cotizantes Vigentes | C56: 0 a 19 años | D56: 82 | E56: 1 | F56: 74291.232 | G56: 0.134146 | H56: 42 | I56: 76534.024 | J56: 0.119048 | K56: 40 | L56: 71936.3 | M56: 0.15 | N56: 0 | O56: 0 | P56: 0
C57: 20 a 24 años | D57: 314 | E57: 1 | F57: 129201.68 | G57: 0.070064 | H57: 119 | I57: 122819.22 | J57: 0.058824 | K57: 195 | L57: 133096.63 | M57: 0.076923 | N57: 0 | O57: 0 | P57: 0
C58: 25 a 29 años | D58: 2822 | E58: 1 | F58: 165456.57 | G58: 0.075833 | H58: 1148 | I58: 169791.16 | J58: 0.078397 | K58: 1674 | L58: 162483.98 | M58: 0.074074 | N58: 0 | O58: 0 | P58: 0
C59: 30 a 34 años | D59: 7944 | E59: 1 | F59: 188612.79 | G59: 0.200655 | H59: 3198 | I59: 193175.61 | J59: 0.255785 | K59: 4746 | L59: 185538.22 | M59: 0.163506 | N59: 0 | O59: 0 | P59: 0
C60: 35 a 39 años | D60: 12712 | E60: 1 | F60: 213889.07 | G60: 0.426369 | H60: 4933 | I60: 221921.74 | J60: 0.528482 | K60: 7779 | L60: 208795.2 | M60: 0.361615 | N60: 0 | O60: 0 | P60: 0
C61: 40 a 44 años | D61: 12308 | E61: 1 | F61: 240499.58 | G61: 0.66989 | H61: 4735 | I61: 245364.53 | J61: 0.706864 | K61: 7573 | L61: 237457.79 | M61: 0.646771 | N61: 0 | O61: 0 | P61: 0
C62: 45 a 49 años | D62: 10842 | E62: 1 | F62: 255276.25 | G62: 0.867921 | H62: 4196 | I62: 244914.97 | J62: 0.729504 | K62: 6646 | L62: 261817.92 | M62: 0.955311 | N62: 0 | O62: 0 | P62: 0
C63: 50 a 54 años | D63: 9743 | E63: 1 | F63: 261177.06 | G63: 0.90157 | H63: 3884 | I63: 244760.02 | J63: 0.675592 | K63: 5859 | L63: 272060.11 | M63: 1.051374 | N63: 0 | O63: 0 | P63: 0
C64: 55 a 59 años | D64: 7855 | E64: 1 | F64: 259363.77 | G64: 0.820751 | H64: 3061 | I64: 234433.91 | J64: 0.491016 | K64: 4794 | L64: 275281.65 | M64: 1.031289 | N64: 0 | O64: 0 | P64: 0
C65: 60 a 64 años | D65: 6425 | E65: 1 | F65: 264283.22 | G65: 0.67284 | H65: 2434 | I65: 229414.29 | J65: 0.281019 | K65: 3991 | L65: 285548.82 | M65: 0.911802 | N65: 0 | O65: 0 | P65: 0
C66: 65 y más años | D66: 12122 | E66: 1 | F66: 248209.48 | G66: 0.34788 | H66: 5128 | I66: 208757.72 | J66: 0.075273 | K66: 6994 | L66: 277135.51 | M66: 0.547755 | N66: 0 | O66: 0 | P66: 0
C67: Total | D67: 83169 | E67: 1 | F67: 237437.23 | G67: 0.585398 | H67: 32878 | I67: 225435.98 | J67: 0.460247 | K67: 50291 | L67: 245283.11 | M67: 0.667217 | N67: 0 | O67: 0 | P67: 0
A69: Fecha extracción de información: | D69: =+Nacional!D69 -> 46295

Sheet IX
A2: IX - REGIÓN DE LA ARAUCANÍA
A3: =+Notas!C6 -> AGOSTO 2025 Y AGOSTO 2026
A6: N° | B6: Cuadro | C6: Tramo de Edad | D6: Sistema Isapre | H6: Sexo Femenino | K6: Sexo Masculino | N6: Sin Información Sexo
D7: N° Cotizantes | E7: % de Cotizantes Vigentes | F7: Cotización Pactada Promedio por Cotizante ($) | G7: N° Cargas Promedio por Cotizante | H7: N° Cotizantes | I7: Cotización Pactada Promedio por Cotizante ($) | J7: N° Cargas Promedio por Cotizante | K7: N° Cotizantes | L7: Cotización Pactada Promedio por Cotizante ($) | M7: N° Cargas Promedio por Cotizante | N7: N° Cotizantes | O7: Cotización Pactada Promedio por Cotizante ($) | P7: N° Cargas Promedio por Cotizante
A8: 1 | B8: Cotizantes que abandonan el Sistema Isapre | C8: 0 a 19 años | D8: 5 | E8: 0.151515 | F8: 73472.317 | G8: 0 | H8: 2 | I8: 91304.115 | J8: 0 | K8: 3 | L8: 61584.451 | M8: 0 | N8: 0 | O8: 0 | P8: 0
C9: 20 a 24 años | D9: 18 | E9: 0.163636 | F9: 144524.61 | G9: 0.333333 | H9: 6 | I9: 195204.58 | J9: 0.833333 | K9: 12 | L9: 119184.63 | M9: 0.083333 | N9: 0 | O9: 0 | P9: 0
C10: 25 a 29 años | D10: 136 | E10: 0.143309 | F10: 155906.57 | G10: 0.161765 | H10: 59 | I10: 160056.89 | J10: 0.254237 | K10: 77 | L10: 152726.45 | M10: 0.090909 | N10: 0 | O10: 0 | P10: 0
C11: 30 a 34 años | D11: 455 | E11: 0.131389 | F11: 168744.56 | G11: 0.230769 | H11: 178 | I11: 181304.61 | J11: 0.376404 | K11: 277 | L11: 160673.49 | M11: 0.137184 | N11: 0 | O11: 0 | P11: 0
C12: 35 a 39 años | D12: 602 | E12: 0.105448 | F12: 191529.53 | G12: 0.388704 | H12: 238 | I12: 208565.83 | J12: 0.605042 | K12: 364 | L12: 180390.41 | M12: 0.247253 | N12: 0 | O12: 0 | P12: 0
C13: 40 a 44 años | D13: 481 | E13: 0.092128 | F13: 218825.94 | G13: 0.615385 | H13: 194 | I13: 235057.62 | J13: 0.752577 | K13: 287 | L13: 207854 | M13: 0.522648 | N13: 0 | O13: 0 | P13: 0
C14: 45 a 49 años | D14: 360 | E14: 0.079086 | F14: 219460.74 | G14: 0.622222 | H14: 125 | I14: 221399.92 | J14: 0.584 | K14: 235 | L14: 218429.25 | M14: 0.642553 | N14: 0 | O14: 0 | P14: 0
C15: 50 a 54 años | D15: 276 | E15: 0.066362 | F15: 221250.88 | G15: 0.688406 | H15: 102 | I15: 217146.89 | J15: 0.627451 | K15: 174 | L15: 223656.67 | M15: 0.724138 | N15: 0 | O15: 0 | P15: 0
C16: 55 a 59 años | D16: 236 | E16: 0.070532 | F16: 222761.96 | G16: 0.563559 | H16: 107 | I16: 216029.86 | J16: 0.392523 | K16: 129 | L16: 228345.94 | M16: 0.705426 | N16: 0 | O16: 0 | P16: 0
C17: 60 a 64 años | D17: 281 | E17: 0.100357 | F17: 234355.58 | G17: 0.480427 | H17: 146 | I17: 215274.34 | J17: 0.246575 | K17: 135 | L17: 254991.59 | M17: 0.733333 | N17: 0 | O17: 0 | P17: 0
C18: 65 y más años | D18: 385 | E18: 0.072683 | F18: 223364.9 | G18: 0.311688 | H18: 144 | I18: 177704.99 | J18: 0.076389 | K18: 241 | L18: 250647.16 | M18: 0.452282 | N18: 0 | O18: 0 | P18: 0
C19: Total | D19: 3235 | E19: 0.090771 | F19: 205873.03 | G19: 0.452859 | H19: 1301 | I19: 206201.38 | J19: 0.46349 | K19: 1934 | L19: 205652.15 | M19: 0.445708 | N19: 0 | O19: 0 | P19: 0
A20: 2 | B20: Cotizantes que ingresan al Sistema Isapre | C20: 0 a 19 años | D20: 5 | E20: 0.151515 | F20: 130793.4 | G20: 0.2 | H20: 2 | I20: 221419.5 | J20: 0.5 | K20: 3 | L20: 70376 | M20: 0 | N20: 0 | O20: 0 | P20: 0
C21: 20 a 24 años | D21: 54 | E21: 0.490909 | F21: 138913.15 | G21: 0.055556 | H21: 19 | I21: 156136.74 | J21: 0.105263 | K21: 35 | L21: 129563.2 | M21: 0.028571 | N21: 0 | O21: 0 | P21: 0
C22: 25 a 29 años | D22: 266 | E22: 0.280295 | F22: 157225.89 | G22: 0.026316 | H22: 122 | I22: 161915.16 | J22: 0.032787 | K22: 144 | L22: 153253.03 | M22: 0.020833 | N22: 0 | O22: 0 | P22: 0
C23: 30 a 34 años | D23: 308 | E23: 0.08894 | F23: 168911.65 | G23: 0.136364 | H23: 124 | I23: 171912.39 | J23: 0.16129 | K23: 184 | L23: 166889.42 | M23: 0.119565 | N23: 0 | O23: 0 | P23: 0
C24: 35 a 39 años | D24: 221 | E24: 0.038711 | F24: 184414.16 | G24: 0.230769 | H24: 80 | I24: 203963.1 | J24: 0.3375 | K24: 141 | L24: 173322.57 | M24: 0.170213 | N24: 0 | O24: 0 | P24: 0
C25: 40 a 44 años | D25: 137 | E25: 0.02624 | F25: 199857.52 | G25: 0.364964 | H25: 52 | I25: 201434.65 | J25: 0.403846 | K25: 85 | L25: 198892.68 | M25: 0.341176 | N25: 0 | O25: 0 | P25: 0
C26: 45 a 49 años | D26: 108 | E26: 0.023726 | F26: 216672.97 | G26: 0.481481 | H26: 34 | I26: 208107.88 | J26: 0.411765 | K26: 74 | L26: 220608.28 | M26: 0.513514 | N26: 0 | O26: 0 | P26: 0
C27: 50 a 54 años | D27: 88 | E27: 0.021159 | F27: 221818.03 | G27: 0.386364 | H27: 33 | I27: 207428.42 | J27: 0.212121 | K27: 55 | L27: 230451.8 | M27: 0.490909 | N27: 0 | O27: 0 | P27: 0
C28: 55 a 59 años | D28: 27 | E28: 0.008069 | F28: 268172.37 | G28: 0.37037 | H28: 8 | I28: 214728.12 | J28: 0.125 | K28: 19 | L28: 290675.21 | M28: 0.473684 | N28: 0 | O28: 0 | P28: 0
C29: 60 a 64 años | D29: 16 | E29: 0.005714 | F29: 270101 | G29: 0.4375 | H29: 7 | I29: 245020.86 | J29: 0.142857 | K29: 9 | L29: 289607.78 | M29: 0.666667 | N29: 0 | O29: 0 | P29: 0
C30: 65 y más años | D30: 29 | E30: 0.005475 | F30: 173517.9 | G30: 0.172414 | H30: 28 | I30: 162633.11 | J30: 0.178571 | K30: 1 | L30: 478292 | M30: 0 | N30: 0 | O30: 0 | P30: 0
C31: Total | D31: 1259 | E31: 0.035326 | F31: 182409.15 | G31: 0.208102 | H31: 509 | I31: 183063.61 | J31: 0.202358 | K31: 750 | L31: 181964.99 | M31: 0.212 | N31: 0 | O31: 0 | P31: 0
A32: 3 | B32: Diferencia de Cotizantes | C32: 0 a 19 años | D32: 0 | E32: 0 | F32: 57321.083 | G32: 0.2 | H32: 0 | I32: 130115.38 | J32: 0.5 | K32: 0 | L32: 8791.5491 | M32: 0 | N32: 0 | O32: 0 | P32: 0
C33: 20 a 24 años | D33: 36 | E33: 0 | F33: -5611.4653 | G33: -0.277778 | H33: 13 | I33: -39067.84 | J33: -0.72807 | K33: 23 | L33: 10378.568 | M33: -0.054762 | N33: 0 | O33: 0 | P33: 0
C34: 25 a 29 años | D34: 130 | E34: 0 | F34: 1319.3161 | G34: -0.135449 | H34: 63 | I34: 1858.2698 | J34: -0.22145 | K34: 67 | L34: 526.57434 | M34: -0.070076 | N34: 0 | O34: 0 | P34: 0
C35: 30 a 34 años | D35: -147 | E35: 0 | F35: 167.08774 | G35: -0.094406 | H35: -54 | I35: -9392.2256 | J35: -0.215114 | K35: -93 | L35: 6215.9313 | M35: -0.017619 | N35: 0 | O35: 0 | P35: 0
C36: 35 a 39 años | D36: -381 | E36: 0 | F36: -7115.3666 | G36: -0.157935 | H36: -158 | I36: -4602.7302 | J36: -0.267542 | K36: -223 | L36: -7067.8425 | M36: -0.07704 | N36: 0 | O36: 0 | P36: 0
C37: 40 a 44 años | D37: -344 | E37: 0 | F37: -18968.419 | G37: -0.250421 | H37: -142 | I37: -33622.968 | J37: -0.348731 | K37: -202 | L37: -8961.315 | M37: -0.181472 | N37: 0 | O37: 0 | P37: 0
C38: 45 a 49 años | D38: -252 | E38: 0 | F38: -2787.7638 | G38: -0.140741 | H38: -91 | I38: -13292.042 | J38: -0.172235 | K38: -161 | L38: 2179.0308 | M38: -0.12904 | N38: 0 | O38: 0 | P38: 0
C39: 50 a 54 años | D39: -188 | E39: 0 | F39: 567.15329 | G39: -0.302042 | H39: -69 | I39: -9718.4614 | J39: -0.41533 | K39: -119 | L39: 6795.1289 | M39: -0.233229 | N39: 0 | O39: 0 | P39: 0
C40: 55 a 59 años | D40: -209 | E40: 0 | F40: 45410.415 | G40: -0.193189 | H40: -99 | I40: -1301.739 | J40: -0.267523 | K40: -110 | L40: 62329.272 | M40: -0.231742 | N40: 0 | O40: 0 | P40: 0
C41: 60 a 64 años | D41: -265 | E41: 0 | F41: 35745.422 | G41: -0.042927 | H41: -139 | I41: 29746.52 | J41: -0.103718 | K41: -126 | L41: 34616.191 | M41: -0.066667 | N41: 0 | O41: 0 | P41: 0
C42: 65 y más años | D42: -356 | E42: 0 | F42: -49846.999 | G42: -0.139275 | H42: -116 | I42: -15071.887 | J42: 0.102183 | K42: -240 | L42: 227644.84 | M42: -0.452282 | N42: 0 | O42: 0 | P42: 0
C43: Total | D43: -1976 | E43: 0 | F43: -23463.883 | G43: -0.244758 | H43: -792 | I43: -23137.775 | J43: -0.261132 | K43: -1184 | L43: -23687.161 | M43: -0.233708 | N43: 0 | O43: 0 | P43: 0
A44: 4 | B44: Cotizantes que se cambian de Isapre | C44: 0 a 19 años | D44: 0 | E44: 0 | F44: 0 | G44: 0 | H44: 0 | I44: 0 | J44: 0 | K44: 0 | L44: 0 | M44: 0 | N44: 0 | O44: 0 | P44: 0
C45: 20 a 24 años | D45: 4 | E45: 0.036364 | F45: 166013.75 | G45: 0 | H45: 0 | I45: 0 | J45: 0 | K45: 4 | L45: 166013.75 | M45: 0 | N45: 0 | O45: 0 | P45: 0
C46: 25 a 29 años | D46: 50 | E46: 0.052687 | F46: 197799.08 | G46: 0.26 | H46: 15 | I46: 191020.2 | J46: 0.066667 | K46: 35 | L46: 200704.31 | M46: 0.342857 | N46: 0 | O46: 0 | P46: 0
C47: 30 a 34 años | D47: 241 | E47: 0.069593 | F47: 200963.72 | G47: 0.323651 | H47: 76 | I47: 202894.36 | J47: 0.302632 | K47: 165 | L47: 200074.45 | M47: 0.333333 | N47: 0 | O47: 0 | P47: 0
C48: 35 a 39 años | D48: 397 | E48: 0.069539 | F48: 224588.01 | G48: 0.468514 | H48: 122 | I48: 232145.81 | J48: 0.598361 | K48: 275 | L48: 221235.09 | M48: 0.410909 | N48: 0 | O48: 0 | P48: 0
C49: 40 a 44 años | D49: 291 | E49: 0.055736 | F49: 240514.85 | G49: 0.649485 | H49: 87 | I49: 241953.8 | J49: 0.597701 | K49: 204 | L49: 239901.18 | M49: 0.671569 | N49: 0 | O49: 0 | P49: 0
C50: 45 a 49 años | D50: 205 | E50: 0.045035 | F50: 240196 | G50: 0.658537 | H50: 64 | I50: 253050.8 | J50: 0.765625 | K50: 141 | L50: 234361.21 | M50: 0.609929 | N50: 0 | O50: 0 | P50: 0
C51: 50 a 54 años | D51: 158 | E51: 0.03799 | F51: 244055.16 | G51: 0.512658 | H51: 57 | I51: 234183.21 | J51: 0.438596 | K51: 101 | L51: 249626.47 | M51: 0.554455 | N51: 0 | O51: 0 | P51: 0
C52: 55 a 59 años | D52: 64 | E52: 0.019127 | F52: 252163 | G52: 0.34375 | H52: 17 | I52: 235201.06 | J52: 0.117647 | K52: 47 | L52: 258298.17 | M52: 0.425532 | N52: 0 | O52: 0 | P52: 0
C53: 60 a 64 años | D53: 27 | E53: 0.009643 | F53: 320419.85 | G53: 0.555556 | H53: 7 | I53: 246720.14 | J53: 0 | K53: 20 | L53: 346214.75 | M53: 0.75 | N53: 0 | O53: 0 | P53: 0
C54: 65 y más años | D54: 8 | E54: 0.00151 | F54: 331690.62 | G54: 0.5 | H54: 3 | I54: 257908 | J54: 0 | K54: 5 | L54: 375960.2 | M54: 0.8 | N54: 0 | O54: 0 | P54: 0
C55: Total | D55: 1445 | E55: 0.040545 | F55: 230713.99 | G55: 0.500346 | H55: 448 | I55: 231473.04 | J55: 0.502232 | K55: 997 | L55: 230372.91 | M55: 0.499498 | N55: 0 | O55: 0 | P55: 0
A56: 5 | B56: Cotizantes Vigentes | C56: 0 a 19 años | D56: 33 | E56: 1 | F56: 125340 | G56: 0.060606 | H56: 16 | I56: 138748.44 | J56: 0.0625 | K56: 17 | L56: 112720.29 | M56: 0.058824 | N56: 0 | O56: 0 | P56: 0
C57: 20 a 24 años | D57: 110 | E57: 1 | F57: 148658.92 | G57: 0.1 | H57: 43 | I57: 169099.47 | J57: 0.209302 | K57: 67 | L57: 135540.36 | M57: 0.029851 | N57: 0 | O57: 0 | P57: 0
C58: 25 a 29 años | D58: 949 | E58: 1 | F58: 174655.58 | G58: 0.096944 | H58: 422 | I58: 178637.23 | J58: 0.118483 | K58: 527 | L58: 171467.24 | M58: 0.079696 | N58: 0 | O58: 0 | P58: 0
C59: 30 a 34 años | D59: 3463 | E59: 1 | F59: 194887.01 | G59: 0.211955 | H59: 1448 | I59: 204823.15 | J59: 0.299724 | K59: 2015 | L59: 187746.8 | M59: 0.148883 | N59: 0 | O59: 0 | P59: 0
C60: 35 a 39 años | D60: 5709 | E60: 1 | F60: 219789.34 | G60: 0.414784 | H60: 2275 | I60: 236265.43 | J60: 0.572747 | K60: 3434 | L60: 208874.04 | M60: 0.310134 | N60: 0 | O60: 0 | P60: 0
C61: 40 a 44 años | D61: 5221 | E61: 1 | F61: 243395.9 | G61: 0.603907 | H61: 2022 | I61: 254247.16 | J61: 0.660732 | K61: 3199 | L61: 236537.11 | M61: 0.56799 | N61: 0 | O61: 0 | P61: 0
C62: 45 a 49 años | D62: 4552 | E62: 1 | F62: 258450.08 | G62: 0.773286 | H62: 1740 | I62: 257048.26 | J62: 0.716667 | K62: 2812 | L62: 259317.49 | M62: 0.808321 | N62: 0 | O62: 0 | P62: 0
C63: 50 a 54 años | D63: 4159 | E63: 1 | F63: 262898.01 | G63: 0.783121 | H63: 1767 | I63: 247839.39 | J63: 0.591398 | K63: 2392 | L63: 274021.99 | M63: 0.924749 | N63: 0 | O63: 0 | P63: 0
C64: 55 a 59 años | D64: 3346 | E64: 1 | F64: 264292.34 | G64: 0.714883 | H64: 1385 | I64: 238566.09 | J64: 0.438989 | K64: 1961 | L64: 282462.08 | M64: 0.90974 | N64: 0 | O64: 0 | P64: 0
C65: 60 a 64 años | D65: 2800 | E65: 1 | F65: 260788.15 | G65: 0.5325 | H65: 1150 | I65: 232561.13 | J65: 0.233043 | K65: 1650 | L65: 280461.54 | M65: 0.741212 | N65: 0 | O65: 0 | P65: 0
C66: 65 y más años | D66: 5297 | E66: 1 | F66: 254475.56 | G66: 0.317161 | H66: 2286 | I66: 209500.98 | J66: 0.079615 | K66: 3011 | L66: 288620.98 | M66: 0.497509 | N66: 0 | O66: 0 | P66: 0
C67: Total | D67: 35639 | E67: 1 | F67: 241842.4 | G67: 0.524706 | H67: 14554 | I67: 233271.02 | J67: 0.445445 | K67: 21085 | L67: 247758.83 | M67: 0.579417 | N67: 0 | O67: 0 | P67: 0
A69: Fecha extracción de información: | D69: =+Nacional!D69 -> 46295

Sheet XIV
A2: XIV - REGIÓN DE LOS RÍOS
A3: =+Notas!C6 -> AGOSTO 2025 Y AGOSTO 2026
A6: N° | B6: Cuadro | C6: Tramo de Edad | D6: Sistema Isapre | H6: Sexo Femenino | K6: Sexo Masculino | N6: Sin Información Sexo
D7: N° Cotizantes | E7: % de Cotizantes Vigentes | F7: Cotización Pactada Promedio por Cotizante ($) | G7: N° Cargas Promedio por Cotizante | H7: N° Cotizantes | I7: Cotización Pactada Promedio por Cotizante ($) | J7: N° Cargas Promedio por Cotizante | K7: N° Cotizantes | L7: Cotización Pactada Promedio por Cotizante ($) | M7: N° Cargas Promedio por Cotizante | N7: N° Cotizantes | O7: Cotización Pactada Promedio por Cotizante ($) | P7: N° Cargas Promedio por Cotizante
A8: 1 | B8: Cotizantes que abandonan el Sistema Isapre | C8: 0 a 19 años | D8: 2 | E8: 0.090909 | F8: 113145.31 | G8: 2 | H8: 1 | I8: 85945.474 | J8: 1 | K8: 1 | L8: 140345.15 | M8: 3 | N8: 0 | O8: 0 | P8: 0
C9: 20 a 24 años | D9: 11 | E9: 0.22 | F9: 122598.76 | G9: 0.181818 | H9: 4 | I9: 110421.74 | J9: 0.5 | K9: 7 | L9: 129557.06 | M9: 0 | N9: 0 | O9: 0 | P9: 0
C10: 25 a 29 años | D10: 72 | E10: 0.145455 | F10: 130530.55 | G10: 0.097222 | H10: 25 | I10: 141467.82 | J10: 0.08 | K10: 47 | L10: 124712.86 | M10: 0.106383 | N10: 0 | O10: 0 | P10: 0
C11: 30 a 34 años | D11: 196 | E11: 0.129032 | F11: 172009.06 | G11: 0.265306 | H11: 70 | I11: 191153.03 | J11: 0.5 | K11: 126 | L11: 161373.52 | M11: 0.134921 | N11: 0 | O11: 0 | P11: 0
C12: 35 a 39 años | D12: 300 | E12: 0.12087 | F12: 187522.88 | G12: 0.366667 | H12: 119 | I12: 205637.25 | J12: 0.521008 | K12: 181 | L12: 175613.43 | M12: 0.265193 | N12: 0 | O12: 0 | P12: 0
C13: 40 a 44 años | D13: 196 | E13: 0.083475 | F13: 209364 | G13: 0.591837 | H13: 66 | I13: 217222.52 | J13: 0.636364 | K13: 130 | L13: 205374.29 | M13: 0.569231 | N13: 0 | O13: 0 | P13: 0
C14: 45 a 49 años | D14: 177 | E14: 0.080272 | F14: 223324.04 | G14: 0.79661 | H14: 57 | I14: 223128.23 | J14: 0.701754 | K14: 120 | L14: 223417.05 | M14: 0.841667 | N14: 0 | O14: 0 | P14: 0
C15: 50 a 54 años | D15: 108 | E15: 0.054795 | F15: 220493.77 | G15: 0.685185 | H15: 39 | I15: 212719.38 | J15: 0.512821 | K15: 69 | L15: 224888 | M15: 0.782609 | N15: 0 | O15: 0 | P15: 0
C16: 55 a 59 años | D16: 100 | E16: 0.067431 | F16: 214617.03 | G16: 0.51 | H16: 26 | I16: 182526.85 | J16: 0.192308 | K16: 74 | L16: 225891.96 | M16: 0.621622 | N16: 0 | O16: 0 | P16: 0
C17: 60 a 64 años | D17: 110 | E17: 0.08807 | F17: 214383.64 | G17: 0.436364 | H17: 44 | I17: 205968.05 | J17: 0.272727 | K17: 66 | L17: 219994.02 | M17: 0.545455 | N17: 0 | O17: 0 | P17: 0
C18: 65 y más años | D18: 160 | E18: 0.06277 | F18: 238297.38 | G18: 0.40625 | H18: 61 | I18: 211796.95 | J18: 0.229508 | K18: 99 | L18: 254625.92 | M18: 0.515152 | N18: 0 | O18: 0 | P18: 0
C19: Total | D19: 1432 | E19: 0.087461 | F19: 201461.05 | G19: 0.467877 | H19: 512 | I19: 203114.9 | J19: 0.458984 | K19: 920 | L19: 200540.65 | M19: 0.472826 | N19: 0 | O19: 0 | P19: 0
A20: 2 | B20: Cotizantes que ingresan al Sistema Isapre | C20: 0 a 19 años | D20: 3 | E20: 0.136364 | F20: 101812.33 | G20: 0 | H20: 2 | I20: 109607 | J20: 0 | K20: 1 | L20: 86223 | M20: 0 | N20: 0 | O20: 0 | P20: 0
C21: 20 a 24 años | D21: 34 | E21: 0.68 | F21: 116017.71 | G21: 0 | H21: 15 | I21: 113326.33 | J21: 0 | K21: 19 | L21: 118142.47 | M21: 0 | N21: 0 | O21: 0 | P21: 0
C22: 25 a 29 años | D22: 154 | E22: 0.311111 | F22: 163977.11 | G22: 0.071429 | H22: 75 | I22: 168851.27 | J22: 0.04 | K22: 79 | L22: 159349.75 | M22: 0.101266 | N22: 0 | O22: 0 | P22: 0
C23: 30 a 34 años | D23: 136 | E23: 0.089533 | F23: 164051.87 | G23: 0.125 | H23: 58 | I23: 172287.59 | J23: 0.12069 | K23: 78 | L23: 157927.87 | M23: 0.128205 | N23: 0 | O23: 0 | P23: 0
C24: 35 a 39 años | D24: 108 | E24: 0.043513 | F24: 182976.06 | G24: 0.25 | H24: 42 | I24: 200192.05 | J24: 0.404762 | K24: 66 | L24: 172020.44 | M24: 0.151515 | N24: 0 | O24: 0 | P24: 0
C25: 40 a 44 años | D25: 67 | E25: 0.028535 | F25: 192344.91 | G25: 0.298507 | H25: 24 | I25: 193246.83 | J25: 0.291667 | K25: 43 | L25: 191841.51 | M25: 0.302326 | N25: 0 | O25: 0 | P25: 0
C26: 45 a 49 años | D26: 55 | E26: 0.024943 | F26: 202151.36 | G26: 0.4 | H26: 20 | I26: 191825.6 | J26: 0.5 | K26: 35 | L26: 208051.8 | M26: 0.342857 | N26: 0 | O26: 0 | P26: 0
C27: 50 a 54 años | D27: 41 | E27: 0.020802 | F27: 197790.46 | G27: 0.243902 | H27: 18 | I27: 211703.06 | J27: 0.388889 | K27: 23 | L27: 186902.35 | M27: 0.130435 | N27: 0 | O27: 0 | P27: 0
C28: 55 a 59 años | D28: 16 | E28: 0.010789 | F28: 207177.5 | G28: 0.4375 | H28: 6 | I28: 156973.33 | J28: 0.5 | K28: 10 | L28: 237300 | M28: 0.4 | N28: 0 | O28: 0 | P28: 0
C29: 60 a 64 años | D29: 9 | E29: 0.007206 | F29: 211009.89 | G29: 0.111111 | H29: 2 | I29: 185319 | J29: 0 | K29: 7 | L29: 218350.14 | M29: 0.142857 | N29: 0 | O29: 0 | P29: 0
C30: 65 y más años | D30: 12 | E30: 0.004708 | F30: 168024.75 | G30: 0 | H30: 10 | I30: 144120.2 | J30: 0 | K30: 2 | L30: 287547.5 | M30: 0 | N30: 0 | O30: 0 | P30: 0
C31: Total | D31: 635 | E31: 0.038783 | F31: 174677.25 | G31: 0.181102 | H31: 272 | I31: 176553.2 | J31: 0.198529 | K31: 363 | L31: 173271.57 | M31: 0.168044 | N31: 0 | O31: 0 | P31: 0
A32: 3 | B32: Diferencia de Cotizantes | C32: 0 a 19 años | D32: 1 | E32: 0 | F32: -11332.981 | G32: -2 | H32: 1 | I32: 23661.526 | J32: -1 | K32: 0 | L32: -54122.154 | M32: -3 | N32: 0 | O32: 0 | P32: 0
C33: 20 a 24 años | D33: 23 | E33: 0 | F33: -6581.0566 | G33: -0.181818 | H33: 11 | I33: 2904.5958 | J33: -0.5 | K33: 12 | L33: -11414.589 | M33: 0 | N33: 0 | O33: 0 | P33: 0
C34: 25 a 29 años | D34: 82 | E34: 0 | F34: 33446.557 | G34: -0.025794 | H34: 50 | I34: 27383.443 | J34: -0.04 | K34: 32 | L34: 34636.89 | M34: -0.005117 | N34: 0 | O34: 0 | P34: 0
C35: 30 a 34 años | D35: -60 | E35: 0 | F35: -7957.1915 | G35: -0.140306 | H35: -12 | I35: -18865.446 | J35: -0.37931 | K35: -48 | L35: -3445.6467 | M35: -0.006716 | N35: 0 | O35: 0 | P35: 0
C36: 35 a 39 años | D36: -192 | E36: 0 | F36: -4546.8109 | G36: -0.116667 | H36: -77 | I36: -5445.2013 | J36: -0.116246 | K36: -115 | L36: -3592.9866 | M36: -0.113678 | N36: 0 | O36: 0 | P36: 0
C37: 40 a 44 años | D37: -129 | E37: 0 | F37: -17019.089 | G37: -0.293329 | H37: -42 | I37: -23975.683 | J37: -0.344697 | K37: -87 | L37: -13532.779 | M37: -0.266905 | N37: 0 | O37: 0 | P37: 0
C38: 45 a 49 años | D38: -122 | E38: 0 | F38: -21172.675 | G38: -0.39661 | H38: -37 | I38: -31302.626 | J38: -0.201754 | K38: -85 | L38: -15365.249 | M38: -0.49881 | N38: 0 | O38: 0 | P38: 0
C39: 50 a 54 años | D39: -67 | E39: 0 | F39: -22703.311 | G39: -0.441283 | H39: -21 | I39: -1016.3225 | J39: -0.123932 | K39: -46 | L39: -37985.65 | M39: -0.652174 | N39: 0 | O39: 0 | P39: 0
C40: 55 a 59 años | D40: -84 | E40: 0 | F40: -7439.5282 | G40: -0.0725 | H40: -20 | I40: -25553.514 | J40: 0.307692 | K40: -64 | L40: 11408.043 | M40: -0.221622 | N40: 0 | O40: 0 | P40: 0
C41: 60 a 64 años | D41: -101 | E41: 0 | F41: -3373.7479 | G41: -0.325253 | H41: -42 | I41: -20649.055 | J41: -0.272727 | K41: -59 | L41: -1643.882 | M41: -0.402597 | N41: 0 | O41: 0 | P41: 0
C42: 65 y más años | D42: -148 | E42: 0 | F42: -70272.628 | G42: -0.40625 | H42: -51 | I42: -67676.751 | J42: -0.229508 | K42: -97 | L42: 32921.576 | M42: -0.515152 | N42: 0 | O42: 0 | P42: 0
C43: Total | D43: -797 | E43: 0 | F43: -26783.804 | G43: -0.286775 | H43: -240 | I43: -26561.7 | J43: -0.260455 | K43: -557 | L43: -27269.073 | M43: -0.304782 | N43: 0 | O43: 0 | P43: 0
A44: 4 | B44: Cotizantes que se cambian de Isapre | C44: 0 a 19 años | D44: 0 | E44: 0 | F44: 0 | G44: 0 | H44: 0 | I44: 0 | J44: 0 | K44: 0 | L44: 0 | M44: 0 | N44: 0 | O44: 0 | P44: 0
C45: 20 a 24 años | D45: 2 | E45: 0.04 | F45: 143263.5 | G45: 0 | H45: 0 | I45: 0 | J45: 0 | K45: 2 | L45: 143263.5 | M45: 0 | N45: 0 | O45: 0 | P45: 0
C46: 25 a 29 años | D46: 18 | E46: 0.036364 | F46: 156871.17 | G46: 0.222222 | H46: 11 | I46: 179338.27 | J46: 0.363636 | K46: 7 | L46: 121565.71 | M46: 0 | N46: 0 | O46: 0 | P46: 0
C47: 30 a 34 años | D47: 111 | E47: 0.073074 | F47: 194663.74 | G47: 0.36036 | H47: 39 | I47: 193367.62 | J47: 0.358974 | K47: 72 | L47: 195365.81 | M47: 0.361111 | N47: 0 | O47: 0 | P47: 0
C48: 35 a 39 años | D48: 162 | E48: 0.06527 | F48: 224826.67 | G48: 0.493827 | H48: 51 | I48: 231338.59 | J48: 0.588235 | K48: 111 | L48: 221834.7 | M48: 0.45045 | N48: 0 | O48: 0 | P48: 0
C49: 40 a 44 años | D49: 142 | E49: 0.060477 | F49: 231916.47 | G49: 0.598592 | H49: 38 | I49: 228825.53 | J49: 0.578947 | K49: 104 | L49: 233045.86 | M49: 0.605769 | N49: 0 | O49: 0 | P49: 0
C50: 45 a 49 años | D50: 106 | E50: 0.048073 | F50: 243413.69 | G50: 0.698113 | H50: 36 | I50: 240149.08 | J50: 0.555556 | K50: 70 | L50: 245092.63 | M50: 0.771429 | N50: 0 | O50: 0 | P50: 0
C51: 50 a 54 años | D51: 60 | E51: 0.030441 | F51: 255233.6 | G51: 0.75 | H51: 17 | I51: 247139.76 | J51: 0.529412 | K51: 43 | L51: 258433.49 | M51: 0.837209 | N51: 0 | O51: 0 | P51: 0
C52: 55 a 59 años | D52: 25 | E52: 0.016858 | F52: 237434.04 | G52: 0.4 | H52: 5 | I52: 216469.2 | J52: 0 | K52: 20 | L52: 242675.25 | M52: 0.5 | N52: 0 | O52: 0 | P52: 0
C53: 60 a 64 años | D53: 12 | E53: 0.009608 | F53: 249054.5 | G53: 0.333333 | H53: 4 | I53: 243067.25 | J53: 0 | K53: 8 | L53: 252048.12 | M53: 0.5 | N53: 0 | O53: 0 | P53: 0
C54: 65 y más años | D54: 2 | E54: 0.000785 | F54: 231937 | G54: 0 | H54: 1 | I54: 265205 | J54: 0 | K54: 1 | L54: 198669 | M54: 0 | N54: 0 | O54: 0 | P54: 0
C55: Total | D55: 640 | E55: 0.039089 | F55: 225900.29 | G55: 0.534375 | H55: 202 | I55: 223634.95 | J55: 0.490099 | K55: 438 | L55: 226945.04 | M55: 0.554795 | N55: 0 | O55: 0 | P55: 0
A56: 5 | B56: Cotizantes Vigentes | C56: 0 a 19 años | D56: 22 | E56: 1 | F56: 54669.5 | G56: 0.090909 | H56: 12 | I56: 47778.083 | J56: 0.083333 | K56: 10 | L56: 62939.2 | M56: 0.1 | N56: 0 | O56: 0 | P56: 0
C57: 20 a 24 años | D57: 50 | E57: 1 | F57: 112315.46 | G57: 0.02 | H57: 18 | I57: 104411.33 | J57: 0 | K57: 32 | L57: 116761.53 | M57: 0.03125 | N57: 0 | O57: 0 | P57: 0
C58: 25 a 29 años | D58: 495 | E58: 1 | F58: 164805.96 | G58: 0.090909 | H58: 217 | I58: 174633.99 | J58: 0.101382 | K58: 278 | L58: 157134.44 | M58: 0.082734 | N58: 0 | O58: 0 | P58: 0
C59: 30 a 34 años | D59: 1519 | E59: 1 | F59: 187986.27 | G59: 0.19684 | H59: 599 | I59: 197202.96 | J59: 0.250417 | K59: 920 | L59: 181985.41 | M59: 0.161957 | N59: 0 | O59: 0 | P59: 0
C60: 35 a 39 años | D60: 2482 | E60: 1 | F60: 215966.06 | G60: 0.389202 | H60: 940 | I60: 230934.69 | J60: 0.503191 | K60: 1542 | L60: 206841.21 | M60: 0.319715 | N60: 0 | O60: 0 | P60: 0
C61: 40 a 44 años | D61: 2348 | E61: 1 | F61: 245066.33 | G61: 0.643526 | H61: 928 | I61: 253507.72 | J61: 0.679957 | K61: 1420 | L61: 239549.7 | M61: 0.619718 | N61: 0 | O61: 0 | P61: 0
C62: 45 a 49 años | D62: 2205 | E62: 1 | F62: 257920.53 | G62: 0.789569 | H62: 863 | I62: 250794.19 | J62: 0.673233 | K62: 1342 | L62: 262503.27 | M62: 0.864382 | N62: 0 | O62: 0 | P62: 0
C63: 50 a 54 años | D63: 1971 | E63: 1 | F63: 264949.17 | G63: 0.826991 | H63: 787 | I63: 252853.61 | J63: 0.651842 | K63: 1184 | L63: 272989.04 | M63: 0.943412 | N63: 0 | O63: 0 | P63: 0
C64: 55 a 59 años | D64: 1483 | E64: 1 | F64: 263026.35 | G64: 0.733648 | H64: 601 | I64: 243043.13 | J64: 0.470882 | K64: 882 | L64: 276643.04 | M64: 0.912698 | N64: 0 | O64: 0 | P64: 0
C65: 60 a 64 años | D65: 1249 | E65: 1 | F65: 262087.53 | G65: 0.581265 | H65: 498 | I65: 238575.56 | J65: 0.299197 | K65: 751 | L65: 277678.7 | M65: 0.768309 | N65: 0 | O65: 0 | P65: 0
C66: 65 y más años | D66: 2549 | E66: 1 | F66: 252780.37 | G66: 0.293056 | H66: 1085 | I66: 214366.64 | J66: 0.088479 | K66: 1464 | L66: 281249.57 | M66: 0.444672 | N66: 0 | O66: 0 | P66: 0
C67: Total | D67: 16373 | E67: 1 | F67: 240522.46 | G67: 0.534783 | H67: 6548 | I67: 232697.8 | J67: 0.442731 | K67: 9825 | L67: 245737.31 | M67: 0.596132 | N67: 0 | O67: 0 | P67: 0
A69: Fecha extracción de información: | D69: =+Nacional!D69 -> 46295

Sheet X
A2: X - REGIÓN DE LOS LAGOS
A3: =+Notas!C6 -> AGOSTO 2025 Y AGOSTO 2026
A6: N° | B6: Cuadro | C6: Tramo de Edad | D6: Sistema Isapre | H6: Sexo Femenino | K6: Sexo Masculino | N6: Sin Información Sexo
D7: N° Cotizantes | E7: % de Cotizantes Vigentes | F7: Cotización Pactada Promedio por Cotizante ($) | G7: N° Cargas Promedio por Cotizante | H7: N° Cotizantes | I7: Cotización Pactada Promedio por Cotizante ($) | J7: N° Cargas Promedio por Cotizante | K7: N° Cotizantes | L7: Cotización Pactada Promedio por Cotizante ($) | M7: N° Cargas Promedio por Cotizante | N7: N° Cotizantes | O7: Cotización Pactada Promedio por Cotizante ($) | P7: N° Cargas Promedio por Cotizante
A8: 1 | B8: Cotizantes que abandonan el Sistema Isapre | C8: 0 a 19 años | D8: 5 | E8: 0.128205 | F8: 82855.249 | G8: 0.2 | H8: 3 | I8: 85487.64 | J8: 0.333333 | K8: 2 | L8: 78906.661 | M8: 0 | N8: 0 | O8: 0 | P8: 0
C9: 20 a 24 años | D9: 37 | E9: 0.153527 | F9: 121716.36 | G9: 0 | H9: 11 | I9: 146900.65 | J9: 0 | K9: 26 | L9: 111061.47 | M9: 0 | N9: 0 | O9: 0 | P9: 0
C10: 25 a 29 años | D10: 262 | E10: 0.144273 | F10: 144428.83 | G10: 0.10687 | H10: 88 | I10: 152483.32 | J10: 0.170455 | K10: 174 | L10: 140355.29 | M10: 0.074713 | N10: 0 | O10: 0 | P10: 0
C11: 30 a 34 años | D11: 698 | E11: 0.135956 | F11: 164741.28 | G11: 0.260745 | H11: 260 | I11: 184649.87 | J11: 0.453846 | K11: 438 | L11: 152923.39 | M11: 0.146119 | N11: 0 | O11: 0 | P11: 0
C12: 35 a 39 años | D12: 814 | E12: 0.100531 | F12: 188066.54 | G12: 0.410319 | H12: 305 | I12: 211876.75 | J12: 0.632787 | K12: 509 | L12: 173799.13 | M12: 0.277014 | N12: 0 | O12: 0 | P12: 0
C13: 40 a 44 años | D13: 654 | E13: 0.085535 | F13: 208075.33 | G13: 0.593272 | H13: 221 | I13: 227493.4 | J13: 0.733032 | K13: 433 | L13: 198164.49 | M13: 0.52194 | N13: 0 | O13: 0 | P13: 0
C14: 45 a 49 años | D14: 506 | E14: 0.074379 | F14: 219452.32 | G14: 0.766798 | H14: 168 | I14: 217709.51 | J14: 0.714286 | K14: 338 | L14: 220318.56 | M14: 0.792899 | N14: 0 | O14: 0 | P14: 0
C15: 50 a 54 años | D15: 444 | E15: 0.074975 | F15: 217105.23 | G15: 0.632883 | H15: 136 | I15: 209548.41 | J15: 0.522059 | K15: 308 | L15: 220442.01 | M15: 0.681818 | N15: 0 | O15: 0 | P15: 0
C16: 55 a 59 años | D16: 263 | E16: 0.059035 | F16: 206012.48 | G16: 0.475285 | H16: 81 | I16: 192956.31 | J16: 0.296296 | K16: 182 | L16: 211823.2 | M16: 0.554945 | N16: 0 | O16: 0 | P16: 0
C17: 60 a 64 años | D17: 302 | E17: 0.08548 | F17: 219934.96 | G17: 0.384106 | H17: 131 | I17: 216181.76 | J17: 0.167939 | K17: 171 | L17: 222810.21 | M17: 0.549708 | N17: 0 | O17: 0 | P17: 0
C18: 65 y más años | D18: 368 | E18: 0.066318 | F18: 246492.7 | G18: 0.353261 | H18: 125 | I18: 203592.63 | J18: 0.064 | K18: 243 | L18: 268560.63 | M18: 0.502058 | N18: 0 | O18: 0 | P18: 0
C19: Total | D19: 4353 | E19: 0.088413 | F19: 198865.96 | G19: 0.453251 | H19: 1529 | I19: 204493.43 | J19: 0.480052 | K19: 2824 | L19: 195819.08 | M19: 0.438739 | N19: 0 | O19: 0 | P19: 0
A20: 2 | B20: Cotizantes que ingresan al Sistema Isapre | C20: 0 a 19 años | D20: 9 | E20: 0.230769 | F20: 61469.778 | G20: 0.111111 | H20: 5 | I20: 27118 | J20: 0.2 | K20: 4 | L20: 104409.5 | M20: 0 | N20: 0 | O20: 0 | P20: 0
C21: 20 a 24 años | D21: 105 | E21: 0.435685 | F21: 121167.46 | G21: 0.038095 | H21: 29 | I21: 134046.86 | J21: 0.103448 | K21: 76 | L21: 116252.95 | M21: 0.013158 | N21: 0 | O21: 0 | P21: 0
C22: 25 a 29 años | D22: 479 | E22: 0.263767 | F22: 146224.51 | G22: 0.050104 | H22: 208 | I22: 151663.4 | J22: 0.057692 | K22: 271 | L22: 142050 | M22: 0.04428 | N22: 0 | O22: 0 | P22: 0
C23: 30 a 34 años | D23: 440 | E23: 0.085703 | F23: 160972.92 | G23: 0.140909 | H23: 179 | I23: 158514.61 | J23: 0.134078 | K23: 261 | L23: 162658.88 | M23: 0.145594 | N23: 0 | O23: 0 | P23: 0
C24: 35 a 39 años | D24: 400 | E24: 0.049401 | F24: 185450.08 | G24: 0.3325 | H24: 160 | I24: 193635.05 | J24: 0.38125 | K24: 240 | L24: 179993.43 | M24: 0.3 | N24: 0 | O24: 0 | P24: 0
C25: 40 a 44 años | D25: 263 | E25: 0.034397 | F25: 194756.32 | G25: 0.380228 | H25: 83 | I25: 200107.07 | J25: 0.433735 | K25: 180 | L25: 192289.02 | M25: 0.355556 | N25: 0 | O25: 0 | P25: 0
C26: 45 a 49 años | D26: 187 | E26: 0.027488 | F26: 202812.81 | G26: 0.44385 | H26: 73 | I26: 216865.23 | J26: 0.506849 | K26: 114 | L26: 193814.32 | M26: 0.403509 | N26: 0 | O26: 0 | P26: 0
C27: 50 a 54 años | D27: 133 | E27: 0.022459 | F27: 202188.57 | G27: 0.451128 | H27: 51 | I27: 185469.14 | J27: 0.313725 | K27: 82 | L27: 212587.24 | M27: 0.536585 | N27: 0 | O27: 0 | P27: 0
C28: 55 a 59 años | D28: 57 | E28: 0.012795 | F28: 238988.7 | G28: 0.54386 | H28: 21 | I28: 220163.29 | J28: 0.428571 | K28: 36 | L28: 249970.19 | M28: 0.611111 | N28: 0 | O28: 0 | P28: 0
C29: 60 a 64 años | D29: 26 | E29: 0.007359 | F29: 225040.38 | G29: 0.230769 | H29: 10 | I29: 193468.9 | J29: 0.1 | K29: 16 | L29: 244772.56 | M29: 0.3125 | N29: 0 | O29: 0 | P29: 0
C30: 65 y más años | D30: 26 | E30: 0.004686 | F30: 133581.08 | G30: 0.153846 | H30: 22 | I30: 106461.59 | J30: 0.181818 | K30: 4 | L30: 282738.25 | M30: 0 | N30: 0 | O30: 0 | P30: 0
C31: Total | D31: 2125 | E31: 0.04316 | F31: 172851.75 | G31: 0.239059 | H31: 841 | I31: 173274.56 | J31: 0.242568 | K31: 1284 | L31: 172574.81 | M31: 0.23676 | N31: 0 | O31: 0 | P31: 0
A32: 3 | B32: Diferencia de Cotizantes | C32: 0 a 19 años | D32: 4 | E32: 0 | F32: -21385.471 | G32: -0.088889 | H32: 2 | I32: -58369.64 | J32: -0.133333 | K32: 2 | L32: 25502.839 | M32: 0 | N32: 0 | O32: 0 | P32: 0
C33: 20 a 24 años | D33: 68 | E33: 0 | F33: -548.90426 | G33: 0.038095 | H33: 18 | I33: -12853.789 | J33: 0.103448 | K33: 50 | L33: 5191.4779 | M33: 0.013158 | N33: 0 | O33: 0 | P33: 0
C34: 25 a 29 años | D34: 217 | E34: 0 | F34: 1795.6779 | G34: -0.056766 | H34: 120 | I34: -819.91453 | J34: -0.112762 | K34: 97 | L34: 1694.7084 | M34: -0.030432 | N34: 0 | O34: 0 | P34: 0
C35: 30 a 34 años | D35: -258 | E35: 0 | F35: -3768.3571 | G35: -0.119836 | H35: -81 | I35: -26135.255 | J35: -0.319768 | K35: -177 | L35: 9735.4928 | M35: -0.000525 | N35: 0 | O35: 0 | P35: 0
C36: 35 a 39 años | D36: -414 | E36: 0 | F36: -2616.4648 | G36: -0.077819 | H36: -145 | I36: -18241.701 | J36: -0.251537 | K36: -269 | L36: 6194.3005 | M36: 0.022986 | N36: 0 | O36: 0 | P36: 0
C37: 40 a 44 años | D37: -391 | E37: 0 | F37: -13319.014 | G37: -0.213044 | H37: -138 | I37: -27386.329 | J37: -0.299297 | K37: -253 | L37: -5875.4674 | M37: -0.166384 | N37: 0 | O37: 0 | P37: 0
C38: 45 a 49 años | D38: -319 | E38: 0 | F38: -16639.509 | G38: -0.322948 | H38: -95 | I38: -844.2796 | J38: -0.207436 | K38: -224 | L38: -26504.238 | M38: -0.389391 | N38: 0 | O38: 0 | P38: 0
C39: 50 a 54 años | D39: -311 | E39: 0 | F39: -14916.655 | G39: -0.181755 | H39: -85 | I39: -24079.268 | J39: -0.208333 | K39: -226 | L39: -7854.7611 | M39: -0.145233 | N39: 0 | O39: 0 | P39: 0
C40: 55 a 59 años | D40: -206 | E40: 0 | F40: 32976.219 | G40: 0.068574 | H40: -60 | I40: 27206.98 | J40: 0.132275 | K40: -146 | L40: 38146.996 | M40: 0.056166 | N40: 0 | O40: 0 | P40: 0
C41: 60 a 64 años | D41: -276 | E41: 0 | F41: 5105.4247 | G41: -0.153337 | H41: -121 | I41: -22712.865 | J41: -0.067939 | K41: -155 | L41: 21962.348 | M41: -0.237208 | N41: 0 | O41: 0 | P41: 0
C42: 65 y más años | D42: -342 | E42: 0 | F42: -112911.62 | G42: -0.199415 | H42: -103 | I42: -97131.035 | J42: 0.117818 | K42: -239 | L42: 14177.616 | M42: -0.502058 | N42: 0 | O42: 0 | P42: 0
C43: Total | D43: -2228 | E43: 0 | F43: -26014.212 | G43: -0.214192 | H43: -688 | I43: -31218.862 | J43: -0.237484 | K43: -1540 | L43: -23244.267 | M43: -0.201979 | N43: 0 | O43: 0 | P43: 0
A44: 4 | B44: Cotizantes que se cambian de Isapre | C44: 0 a 19 años | D44: 0 | E44: 0 | F44: 0 | G44: 0 | H44: 0 | I44: 0 | J44: 0 | K44: 0 | L44: 0 | M44: 0 | N44: 0 | O44: 0 | P44: 0
C45: 20 a 24 años | D45: 8 | E45: 0.033195 | F45: 135073.75 | G45: 0 | H45: 2 | I45: 126108 | J45: 0 | K45: 6 | L45: 138062.33 | M45: 0 | N45: 0 | O45: 0 | P45: 0
C46: 25 a 29 años | D46: 129 | E46: 0.071035 | F46: 168634.92 | G46: 0.108527 | H46: 46 | I46: 168495.43 | J46: 0.086957 | K46: 83 | L46: 168712.23 | M46: 0.120482 | N46: 0 | O46: 0 | P46: 0
C47: 30 a 34 años | D47: 396 | E47: 0.077133 | F47: 186254.89 | G47: 0.280303 | H47: 136 | I47: 194830.33 | J47: 0.338235 | K47: 260 | L47: 181769.28 | M47: 0.25 | N47: 0 | O47: 0 | P47: 0
C48: 35 a 39 años | D48: 654 | E48: 0.080771 | F48: 219271.28 | G48: 0.56422 | H48: 226 | I48: 214997.09 | J48: 0.575221 | K48: 428 | L48: 221528.22 | M48: 0.558411 | N48: 0 | O48: 0 | P48: 0
C49: 40 a 44 años | D49: 537 | E49: 0.070233 | F49: 235797.5 | G49: 0.724395 | H49: 193 | I49: 240628.56 | J49: 0.751295 | K49: 344 | L49: 233087.05 | M49: 0.709302 | N49: 0 | O49: 0 | P49: 0
C50: 45 a 49 años | D50: 376 | E50: 0.05527 | F50: 249832.76 | G50: 0.843085 | H50: 124 | I50: 252435.65 | J50: 0.887097 | K50: 252 | L50: 248551.96 | M50: 0.821429 | N50: 0 | O50: 0 | P50: 0
C51: 50 a 54 años | D51: 255 | E51: 0.04306 | F51: 239426.46 | G51: 0.670588 | H51: 81 | I51: 227278.17 | J51: 0.481481 | K51: 174 | L51: 245081.7 | M51: 0.758621 | N51: 0 | O51: 0 | P51: 0
C52: 55 a 59 años | D52: 100 | E52: 0.022447 | F52: 248084.44 | G52: 0.58 | H52: 37 | I52: 235027.65 | J52: 0.459459 | K52: 63 | L52: 255752.71 | M52: 0.650794 | N52: 0 | O52: 0 | P52: 0
C53: 60 a 64 años | D53: 52 | E53: 0.014718 | F53: 256458.92 | G53: 0.346154 | H53: 20 | I53: 242936.55 | J53: 0.35 | K53: 32 | L53: 264910.41 | M53: 0.34375 | N53: 0 | O53: 0 | P53: 0
C54: 65 y más años | D54: 13 | E54: 0.002343 | F54: 274272.77 | G54: 0.230769 | H54: 5 | I54: 248867.4 | J54: 0 | K54: 8 | L54: 290151.12 | M54: 0.375 | N54: 0 | O54: 0 | P54: 0
C55: Total | D55: 2520 | E55: 0.051183 | F55: 223539.22 | G55: 0.575397 | H55: 870 | I55: 223035.9 | J55: 0.572414 | K55: 1650 | L55: 223804.61 | M55: 0.57697 | N55: 0 | O55: 0 | P55: 0
A56: 5 | B56: Cotizantes Vigentes | C56: 0 a 19 años | D56: 39 | E56: 1 | F56: 84280.897 | G56: 0.076923 | H56: 22 | I56: 99442.227 | J56: 0.136364 | K56: 17 | L56: 64660.353 | M56: 0 | N56: 0 | O56: 0 | P56: 0
C57: 20 a 24 años | D57: 241 | E57: 1 | F57: 125616.29 | G57: 0.053942 | H57: 85 | I57: 129854.48 | J57: 0.058824 | K57: 156 | L57: 123307.01 | M57: 0.051282 | N57: 0 | O57: 0 | P57: 0
C58: 25 a 29 años | D58: 1816 | E58: 1 | F58: 157147.25 | G58: 0.074339 | H58: 695 | I58: 164521.14 | J58: 0.106475 | K58: 1121 | L58: 152575.57 | M58: 0.054416 | N58: 0 | O58: 0 | P58: 0
C59: 30 a 34 años | D59: 5134 | E59: 1 | F59: 185266.18 | G59: 0.224971 | H59: 1973 | I59: 198822.74 | J59: 0.340091 | K59: 3161 | L59: 176804.6 | M59: 0.153116 | N59: 0 | O59: 0 | P59: 0
C60: 35 a 39 años | D60: 8097 | E60: 1 | F60: 217267.21 | G60: 0.453254 | H60: 3087 | I60: 233719.91 | J60: 0.603175 | K60: 5010 | L60: 207129.58 | M60: 0.360878 | N60: 0 | O60: 0 | P60: 0
C61: 40 a 44 años | D61: 7646 | E61: 1 | F61: 244836.59 | G61: 0.657337 | H61: 2956 | I61: 255828.99 | J61: 0.702977 | K61: 4690 | L61: 237908.34 | M61: 0.628571 | N61: 0 | O61: 0 | P61: 0
C62: 45 a 49 años | D62: 6803 | E62: 1 | F62: 259130.04 | G62: 0.806262 | H62: 2476 | I62: 253642.9 | J62: 0.707189 | K62: 4327 | L62: 262269.89 | M62: 0.862954 | N62: 0 | O62: 0 | P62: 0
C63: 50 a 54 años | D63: 5922 | E63: 1 | F63: 261812.05 | G63: 0.833164 | H63: 2302 | I63: 248822.99 | J63: 0.634666 | K63: 3620 | L63: 270071.95 | M63: 0.959392 | N63: 0 | O63: 0 | P63: 0
C64: 55 a 59 años | D64: 4455 | E64: 1 | F64: 262068.87 | G64: 0.742088 | H64: 1691 | I64: 239355.86 | J64: 0.462448 | K64: 2764 | L64: 275964.57 | M64: 0.913169 | N64: 0 | O64: 0 | P64: 0
C65: 60 a 64 años | D65: 3533 | E65: 1 | F65: 268976.75 | G65: 0.584772 | H65: 1345 | I65: 238502.2 | J65: 0.262454 | K65: 2188 | L65: 287709.96 | M65: 0.782907 | N65: 0 | O65: 0 | P65: 0
C66: 65 y más años | D66: 5549 | E66: 1 | F66: 269804.65 | G66: 0.341683 | H66: 2280 | I66: 225566.22 | J66: 0.08114 | K66: 3269 | L66: 300659.23 | M66: 0.523402 | N66: 0 | O66: 0 | P66: 0
C67: Total | D67: 49235 | E67: 1 | F67: 240268.1 | G67: 0.562384 | H67: 18912 | I67: 234676.72 | J67: 0.487786 | K67: 30323 | L67: 243755.36 | M67: 0.608911 | N67: 0 | O67: 0 | P67: 0
A69: Fecha extracción de información: | D69: =+Nacional!D69 -> 46295

Sheet XI
A2: XI - REGIÓN DE AYSÉN DEL GENERAL CARLOS IBÁÑEZ DEL CAMPO
A3: =+Notas!C6 -> AGOSTO 2025 Y AGOSTO 2026
A6: N° | B6: Cuadro | C6: Tramo de Edad | D6: Sistema Isapre | H6: Sexo Femenino | K6: Sexo Masculino | N6: Sin Información Sexo
D7: N° Cotizantes | E7: % de Cotizantes Vigentes | F7: Cotización Pactada Promedio por Cotizante ($) | G7: N° Cargas Promedio por Cotizante | H7: N° Cotizantes | I7: Cotización Pactada Promedio por Cotizante ($) | J7: N° Cargas Promedio por Cotizante | K7: N° Cotizantes | L7: Cotización Pactada Promedio por Cotizante ($) | M7: N° Cargas Promedio por Cotizante | N7: N° Cotizantes | O7: Cotización Pactada Promedio por Cotizante ($) | P7: N° Cargas Promedio por Cotizante
A8: 1 | B8: Cotizantes que abandonan el Sistema Isapre | C8: 0 a 19 años | D8: 2 | E8: 2 | F8: 85145.219 | G8: 0 | H8: 1 | I8: 140100.44 | J8: 0 | K8: 1 | L8: 30189.994 | M8: 0 | N8: 0 | O8: 0 | P8: 0
C9: 20 a 24 años | D9: 1 | E9: 0.125 | F9: 107462.3 | G9: 0 | H9: 0 | I9: 0 | J9: 0 | K9: 1 | L9: 107462.3 | M9: 0 | N9: 0 | O9: 0 | P9: 0
C10: 25 a 29 años | D10: 12 | E10: 0.222222 | F10: 147413.38 | G10: 0.083333 | H10: 4 | I10: 163620.25 | J10: 0.25 | K10: 8 | L10: 139309.95 | M10: 0 | N10: 0 | O10: 0 | P10: 0
C11: 30 a 34 años | D11: 34 | E11: 0.138776 | F11: 180113.44 | G11: 0.352941 | H11: 13 | I11: 209670.09 | J11: 0.769231 | K11: 21 | L11: 161816.46 | M11: 0.095238 | N11: 0 | O11: 0 | P11: 0
C12: 35 a 39 años | D12: 68 | E12: 0.137652 | F12: 204442.72 | G12: 0.426471 | H12: 30 | I12: 218585.86 | J12: 0.733333 | K12: 38 | L12: 193277.09 | M12: 0.184211 | N12: 0 | O12: 0 | P12: 0
C13: 40 a 44 años | D13: 54 | E13: 0.094406 | F13: 226093.88 | G13: 0.574074 | H13: 26 | I13: 233078.48 | J13: 0.5 | K13: 28 | L13: 219608.17 | M13: 0.642857 | N13: 0 | O13: 0 | P13: 0
C14: 45 a 49 años | D14: 60 | E14: 0.095847 | F14: 221736.13 | G14: 0.516667 | H14: 18 | I14: 221670.98 | J14: 0.5 | K14: 42 | L14: 221764.05 | M14: 0.52381 | N14: 0 | O14: 0 | P14: 0
C15: 50 a 54 años | D15: 36 | E15: 0.064982 | F15: 232381.55 | G15: 0.805556 | H15: 16 | I15: 220219.59 | J15: 0.8125 | K15: 20 | L15: 242111.11 | M15: 0.8 | N15: 0 | O15: 0 | P15: 0
C16: 55 a 59 años | D16: 43 | E16: 0.108312 | F16: 225661.96 | G16: 0.465116 | H16: 21 | I16: 198672.2 | J16: 0.190476 | K16: 22 | L16: 251424.91 | M16: 0.727273 | N16: 0 | O16: 0 | P16: 0
C17: 60 a 64 años | D17: 41 | E17: 0.150183 | F17: 252452.71 | G17: 0.585366 | H17: 24 | I17: 237253.66 | J17: 0.291667 | K17: 17 | L17: 273910.2 | M17: 1 | N17: 0 | O17: 0 | P17: 0
C18: 65 y más años | D18: 34 | E18: 0.083538 | F18: 251889.07 | G18: 0.411765 | H18: 9 | I18: 218881.16 | J18: 0.111111 | K18: 25 | L18: 263771.91 | M18: 0.52 | N18: 0 | O18: 0 | P18: 0
C19: Total | D19: 385 | E19: 0.106031 | F19: 219662.08 | G19: 0.496104 | H19: 162 | I19: 219059.47 | J19: 0.493827 | K19: 223 | L19: 220099.85 | M19: 0.497758 | N19: 0 | O19: 0 | P19: 0
A20: 2 | B20: Cotizantes que ingresan al Sistema Isapre | C20: 0 a 19 años | D20: 1 | E20: 1 | F20: 101949 | G20: 0 | H20: 0 | I20: 0 | J20: 0 | K20: 1 | L20: 101949 | M20: 0 | N20: 0 | O20: 0 | P20: 0
C21: 20 a 24 años | D21: 5 | E21: 0.625 | F21: 90786.4 | G21: 0 | H21: 3 | I21: 82691.667 | J21: 0 | K21: 2 | L21: 102928.5 | M21: 0 | N21: 0 | O21: 0 | P21: 0
C22: 25 a 29 años | D22: 17 | E22: 0.314815 | F22: 151450.24 | G22: 0.058824 | H22: 6 | I22: 122207.67 | J22: 0.166667 | K22: 11 | L22: 167400.73 | M22: 0 | N22: 0 | O22: 0 | P22: 0
C23: 30 a 34 años | D23: 20 | E23: 0.081633 | F23: 182380.15 | G23: 0.1 | H23: 11 | I23: 183259.45 | J23: 0.090909 | K23: 9 | L23: 181305.44 | M23: 0.111111 | N23: 0 | O23: 0 | P23: 0
C24: 35 a 39 años | D24: 18 | E24: 0.036437 | F24: 183077.67 | G24: 0.055556 | H24: 7 | I24: 171483.71 | J24: 0 | K24: 11 | L24: 190455.64 | M24: 0.090909 | N24: 0 | O24: 0 | P24: 0
C25: 40 a 44 años | D25: 10 | E25: 0.017483 | F25: 206638 | G25: 0.3 | H25: 2 | I25: 179799 | J25: 0 | K25: 8 | L25: 213347.75 | M25: 0.375 | N25: 0 | O25: 0 | P25: 0
C26: 45 a 49 años | D26: 6 | E26: 0.009585 | F26: 190350.5 | G26: 0.333333 | H26: 3 | I26: 199785.67 | J26: 0.666667 | K26: 3 | L26: 180915.33 | M26: 0 | N26: 0 | O26: 0 | P26: 0
C27: 50 a 54 años | D27: 12 | E27: 0.021661 | F27: 218723.92 | G27: 0.416667 | H27: 5 | I27: 247805.4 | J27: 0.4 | K27: 7 | L27: 197951.43 | M27: 0.428571 | N27: 0 | O27: 0 | P27: 0
C28: 55 a 59 años | D28: 0 | E28: 0 | F28: 0 | G28: 0 | H28: 0 | I28: 0 | J28: 0 | K28: 0 | L28: 0 | M28: 0 | N28: 0 | O28: 0 | P28: 0
C29: 60 a 64 años | D29: 2 | E29: 0.007326 | F29: 210432.5 | G29: 0 | H29: 0 | I29: 0 | J29: 0 | K29: 2 | L29: 210432.5 | M29: 0 | N29: 0 | O29: 0 | P29: 0
C30: 65 y más años | D30: 0 | E30: 0 | F30: 0 | G30: 0 | H30: 0 | I30: 0 | J30: 0 | K30: 0 | L30: 0 | M30: 0 | N30: 0 | O30: 0 | P30: 0
C31: Total | D31: 91 | E31: 0.025062 | F31: 179423.86 | G31: 0.153846 | H31: 37 | I31: 172852.51 | J31: 0.162162 | K31: 54 | L31: 183926.44 | M31: 0.148148 | N31: 0 | O31: 0 | P31: 0
A32: 3 | B32: Diferencia de Cotizantes | C32: 0 a 19 años | D32: -1 | E32: 0 | F32: 16803.781 | G32: 0 | H32: -1 | I32: -140100.44 | J32: 0 | K32: 0 | L32: 71759.006 | M32: 0 | N32: 0 | O32: 0 | P32: 0
C33: 20 a 24 años | D33: 4 | E33: 0 | F33: -16675.902 | G33: 0 | H33: 3 | I33: 82691.667 | J33: 0 | K33: 1 | L33: -4533.8017 | M33: 0 | N33: 0 | O33: 0 | P33: 0
C34: 25 a 29 años | D34: 5 | E34: 0 | F34: 4036.8512 | G34: -0.02451 | H34: 2 | I34: -41412.586 | J34: -0.083333 | K34: 3 | L34: 28090.777 | M34: 0 | N34: 0 | O34: 0 | P34: 0
C35: 30 a 34 años | D35: -14 | E35: 0 | F35: 2266.7118 | G35: -0.252941 | H35: -2 | I35: -26410.64 | J35: -0.678322 | K35: -12 | L35: 19488.984 | M35: 0.015873 | N35: 0 | O35: 0 | P35: 0
C36: 35 a 39 años | D36: -50 | E36: 0 | F36: -21365.055 | G36: -0.370915 | H36: -23 | I36: -47102.141 | J36: -0.733333 | K36: -27 | L36: -2821.4539 | M36: -0.093301 | N36: 0 | O36: 0 | P36: 0
C37: 40 a 44 años | D37: -44 | E37: 0 | F37: -19455.876 | G37: -0.274074 | H37: -24 | I37: -53279.483 | J37: -0.5 | K37: -20 | L37: -6260.4202 | M37: -0.267857 | N37: 0 | O37: 0 | P37: 0
C38: 45 a 49 años | D38: -54 | E38: 0 | F38: -31385.631 | G38: -0.183333 | H38: -15 | I38: -21885.312 | J38: 0.166667 | K38: -39 | L38: -40848.72 | M38: -0.52381 | N38: 0 | O38: 0 | P38: 0
C39: 50 a 54 años | D39: -24 | E39: 0 | F39: -13657.633 | G39: -0.388889 | H39: -11 | I39: 27585.807 | J39: -0.4125 | K39: -13 | L39: -44159.685 | M39: -0.371429 | N39: 0 | O39: 0 | P39: 0
C40: 55 a 59 años | D40: -43 | E40: 0 | F40: -225661.96 | G40: -0.465116 | H40: -21 | I40: -198672.2 | J40: -0.190476 | K40: -22 | L40: -251424.91 | M40: -0.727273 | N40: 0 | O40: 0 | P40: 0
C41: 60 a 64 años | D41: -39 | E41: 0 | F41: -42020.215 | G41: -0.585366 | H41: -24 | I41: -237253.66 | J41: -0.291667 | K41: -15 | L41: -63477.701 | M41: -1 | N41: 0 | O41: 0 | P41: 0
C42: 65 y más años | D42: -34 | E42: 0 | F42: -251889.07 | G42: -0.411765 | H42: -9 | I42: -218881.16 | J42: -0.111111 | K42: -25 | L42: -263771.91 | M42: -0.52 | N42: 0 | O42: 0 | P42: 0
C43: Total | D43: -294 | E43: 0 | F43: -40238.226 | G43: -0.342258 | H43: -125 | I43: -46206.959 | J43: -0.331665 | K43: -169 | L43: -36173.41 | M43: -0.34961 | N43: 0 | O43: 0 | P43: 0
A44: 4 | B44: Cotizantes que se cambian de Isapre | C44: 0 a 19 años | D44: 0 | E44: 0 | F44: 0 | G44: 0 | H44: 0 | I44: 0 | J44: 0 | K44: 0 | L44: 0 | M44: 0 | N44: 0 | O44: 0 | P44: 0
C45: 20 a 24 años | D45: 0 | E45: 0 | F45: 0 | G45: 0 | H45: 0 | I45: 0 | J45: 0 | K45: 0 | L45: 0 | M45: 0 | N45: 0 | O45: 0 | P45: 0
C46: 25 a 29 años | D46: 2 | E46: 0.037037 | F46: 232897 | G46: 0 | H46: 2 | I46: 232897 | J46: 0 | K46: 0 | L46: 0 | M46: 0 | N46: 0 | O46: 0 | P46: 0
C47: 30 a 34 años | D47: 10 | E47: 0.040816 | F47: 215039.8 | G47: 0.4 | H47: 3 | I47: 268582 | J47: 1 | K47: 7 | L47: 192093.14 | M47: 0.142857 | N47: 0 | O47: 0 | P47: 0
C48: 35 a 39 años | D48: 28 | E48: 0.05668 | F48: 232968.54 | G48: 0.321429 | H48: 7 | I48: 290645.57 | J48: 0.428571 | K48: 21 | L48: 213742.86 | M48: 0.285714 | N48: 0 | O48: 0 | P48: 0
C49: 40 a 44 años | D49: 12 | E49: 0.020979 | F49: 229067.83 | G49: 0.583333 | H49: 3 | I49: 246457.33 | J49: 1.333333 | K49: 9 | L49: 223271.33 | M49: 0.333333 | N49: 0 | O49: 0 | P49: 0
C50: 45 a 49 años | D50: 16 | E50: 0.025559 | F50: 250010.94 | G50: 0.75 | H50: 7 | I50: 258903.29 | J50: 1.285714 | K50: 9 | L50: 243094.67 | M50: 0.333333 | N50: 0 | O50: 0 | P50: 0
C51: 50 a 54 años | D51: 17 | E51: 0.030686 | F51: 314747.59 | G51: 0.588235 | H51: 6 | I51: 255865.33 | J51: 0.333333 | K51: 11 | L51: 346865.18 | M51: 0.727273 | N51: 0 | O51: 0 | P51: 0
C52: 55 a 59 años | D52: 4 | E52: 0.010076 | F52: 233581.25 | G52: 0.5 | H52: 2 | I52: 230957 | J52: 0.5 | K52: 2 | L52: 236205.5 | M52: 0.5 | N52: 0 | O52: 0 | P52: 0
C53: 60 a 64 años | D53: 1 | E53: 0.003663 | F53: 163175 | G53: 0 | H53: 0 | I53: 0 | J53: 0 | K53: 1 | L53: 163175 | M53: 0 | N53: 0 | O53: 0 | P53: 0
C54: 65 y más años | D54: 1 | E54: 0.002457 | F54: 209575 | G54: 0 | H54: 0 | I54: 0 | J54: 0 | K54: 1 | L54: 209575 | M54: 0 | N54: 0 | O54: 0 | P54: 0
C55: Total | D55: 91 | E55: 0.025062 | F55: 247759.16 | G55: 0.483516 | H55: 30 | I55: 261828.67 | J55: 0.733333 | K55: 61 | L55: 240839.74 | M55: 0.360656 | N55: 0 | O55: 0 | P55: 0
A56: 5 | B56: Cotizantes Vigentes | C56: 0 a 19 años | D56: 1 | E56: 1 | F56: 101949 | G56: 0 | H56: 0 | I56: 0 | J56: 0 | K56: 1 | L56: 101949 | M56: 0 | N56: 0 | O56: 0 | P56: 0
C57: 20 a 24 años | D57: 8 | E57: 1 | F57: 129623.88 | G57: 0.125 | H57: 4 | I57: 93796 | J57: 0 | K57: 4 | L57: 165451.75 | M57: 0.25 | N57: 0 | O57: 0 | P57: 0
C58: 25 a 29 años | D58: 54 | E58: 1 | F58: 179597.59 | G58: 0.148148 | H58: 24 | I58: 175724.5 | J58: 0.208333 | K58: 30 | L58: 182696.07 | M58: 0.1 | N58: 0 | O58: 0 | P58: 0
C59: 30 a 34 años | D59: 245 | E59: 1 | F59: 203616.14 | G59: 0.195918 | H59: 121 | I59: 215336.84 | J59: 0.297521 | K59: 124 | L59: 192179 | M59: 0.096774 | N59: 0 | O59: 0 | P59: 0
C60: 35 a 39 años | D60: 494 | E60: 1 | F60: 237845.97 | G60: 0.388664 | H60: 189 | I60: 254043.99 | J60: 0.529101 | K60: 305 | L60: 227808.5 | M60: 0.301639 | N60: 0 | O60: 0 | P60: 0
C61: 40 a 44 años | D61: 572 | E61: 1 | F61: 256170.25 | G61: 0.527972 | H61: 229 | I61: 265417.9 | J61: 0.58952 | K61: 343 | L61: 249996.16 | M61: 0.48688 | N61: 0 | O61: 0 | P61: 0
C62: 45 a 49 años | D62: 626 | E62: 1 | F62: 270970.5 | G62: 0.763578 | H62: 260 | I62: 277523.34 | J62: 0.776923 | K62: 366 | L62: 266315.47 | M62: 0.754098 | N62: 0 | O62: 0 | P62: 0
C63: 50 a 54 años | D63: 554 | E63: 1 | F63: 280027.39 | G63: 0.777978 | H63: 234 | I63: 264574.58 | J63: 0.594017 | K63: 320 | L63: 291327.26 | M63: 0.9125 | N63: 0 | O63: 0 | P63: 0
C64: 55 a 59 años | D64: 397 | E64: 1 | F64: 289515.17 | G64: 0.783375 | H64: 158 | I64: 258776.46 | J64: 0.424051 | K64: 239 | L64: 309836.16 | M64: 1.020921 | N64: 0 | O64: 0 | P64: 0
C65: 60 a 64 años | D65: 273 | E65: 1 | F65: 290277.66 | G65: 0.600733 | H65: 103 | I65: 286684.63 | J65: 0.38835 | K65: 170 | L65: 292454.61 | M65: 0.729412 | N65: 0 | O65: 0 | P65: 0
C66: 65 y más años | D66: 407 | E66: 1 | F66: 298385.47 | G66: 0.36855 | H66: 162 | I66: 262917.22 | J66: 0.123457 | K66: 245 | L66: 321837.94 | M66: 0.530612 | N66: 0 | O66: 0 | P66: 0
C67: Total | D67: 3631 | E67: 1 | F67: 265804.84 | G67: 0.574222 | H67: 1484 | I67: 260456.64 | J67: 0.501348 | K67: 2147 | L67: 269501.5 | M67: 0.624592 | N67: 0 | O67: 0 | P67: 0
A69: Fecha extracción de información: | D69: =+Nacional!D69 -> 46295

Sheet XII
A2: XII - REGIÓN DE MAGALLANES Y LA ANTÁRTICA CHILENA
A3: =+Notas!C6 -> AGOSTO 2025 Y AGOSTO 2026
A6: N° | B6: Cuadro | C6: Tramo de Edad | D6: Sistema Isapre | H6: Sexo Femenino | K6: Sexo Masculino | N6: Sin Información Sexo
D7: N° Cotizantes | E7: % de Cotizantes Vigentes | F7: Cotización Pactada Promedio por Cotizante ($) | G7: N° Cargas Promedio por Cotizante | H7: N° Cotizantes | I7: Cotización Pactada Promedio por Cotizante ($) | J7: N° Cargas Promedio por Cotizante | K7: N° Cotizantes | L7: Cotización Pactada Promedio por Cotizante ($) | M7: N° Cargas Promedio por Cotizante | N7: N° Cotizantes | O7: Cotización Pactada Promedio por Cotizante ($) | P7: N° Cargas Promedio por Cotizante
A8: 1 | B8: Cotizantes que abandonan el Sistema Isapre | C8: 0 a 19 años | D8: 2 | E8: 0.181818 | F8: 144078.29 | G8: 0 | H8: 2 | I8: 144078.29 | J8: 0 | K8: 0 | L8: 0 | M8: 0 | N8: 0 | O8: 0 | P8: 0
C9: 20 a 24 años | D9: 9 | E9: 0.243243 | F9: 103003.83 | G9: 0 | H9: 3 | I9: 111147.19 | J9: 0 | K9: 6 | L9: 98932.143 | M9: 0 | N9: 0 | O9: 0 | P9: 0
C10: 25 a 29 años | D10: 57 | E10: 0.175385 | F10: 149654.17 | G10: 0.157895 | H10: 18 | I10: 171625.82 | J10: 0.333333 | K10: 39 | L10: 139513.4 | M10: 0.076923 | N10: 0 | O10: 0 | P10: 0
C11: 30 a 34 años | D11: 147 | E11: 0.151079 | F11: 163717.04 | G11: 0.22449 | H11: 69 | I11: 163641.9 | J11: 0.26087 | K11: 78 | L11: 163783.5 | M11: 0.192308 | N11: 0 | O11: 0 | P11: 0
C12: 35 a 39 años | D12: 186 | E12: 0.113276 | F12: 197862.45 | G12: 0.327957 | H12: 72 | I12: 196795.2 | J12: 0.291667 | K12: 114 | L12: 198536.5 | M12: 0.350877 | N12: 0 | O12: 0 | P12: 0
C13: 40 a 44 años | D13: 180 | E13: 0.099283 | F13: 216765.35 | G13: 0.588889 | H13: 61 | I13: 216510.04 | J13: 0.655738 | K13: 119 | L13: 216896.22 | M13: 0.554622 | N13: 0 | O13: 0 | P13: 0
C14: 45 a 49 años | D14: 162 | E14: 0.092677 | F14: 208685.87 | G14: 0.512346 | H14: 58 | I14: 219249.21 | J14: 0.551724 | K14: 104 | L14: 202794.78 | M14: 0.490385 | N14: 0 | O14: 0 | P14: 0
C15: 50 a 54 años | D15: 116 | E15: 0.075374 | F15: 205152.46 | G15: 0.474138 | H15: 33 | I15: 202346.83 | J15: 0.454545 | K15: 83 | L15: 206267.96 | M15: 0.481928 | N15: 0 | O15: 0 | P15: 0
C16: 55 a 59 años | D16: 97 | E16: 0.077974 | F16: 231203.59 | G16: 0.546392 | H16: 29 | I16: 229443.32 | J16: 0.37931 | K16: 68 | L16: 231954.3 | M16: 0.617647 | N16: 0 | O16: 0 | P16: 0
C17: 60 a 64 años | D17: 107 | E17: 0.089241 | F17: 237590.61 | G17: 0.429907 | H17: 38 | I17: 202473.19 | J17: 0.131579 | K17: 69 | L17: 256930.64 | M17: 0.594203 | N17: 0 | O17: 0 | P17: 0
C18: 65 y más años | D18: 165 | E18: 0.080803 | F18: 255170.65 | G18: 0.4 | H18: 49 | I18: 224491.05 | J18: 0.122449 | K18: 116 | L18: 268130.14 | M18: 0.517241 | N18: 0 | O18: 0 | P18: 0
C19: Total | D19: 1228 | E19: 0.09767 | F19: 209437.26 | G19: 0.416938 | H19: 432 | I19: 201667.41 | J19: 0.356481 | K19: 796 | L19: 213654.07 | M19: 0.449749 | N19: 0 | O19: 0 | P19: 0
A20: 2 | B20: Cotizantes que ingresan al Sistema Isapre | C20: 0 a 19 años | D20: 2 | E20: 0.181818 | F20: 5802.5 | G20: 0 | H20: 0 | I20: 0 | J20: 0 | K20: 2 | L20: 5802.5 | M20: 0 | N20: 0 | O20: 0 | P20: 0
C21: 20 a 24 años | D21: 15 | E21: 0.405405 | F21: 129641.47 | G21: 0 | H21: 6 | I21: 132596 | J21: 0 | K21: 9 | L21: 127671.78 | M21: 0 | N21: 0 | O21: 0 | P21: 0
C22: 25 a 29 años | D22: 69 | E22: 0.212308 | F22: 147294.2 | G22: 0.043478 | H22: 30 | I22: 147230.77 | J22: 0.033333 | K22: 39 | L22: 147343 | M22: 0.051282 | N22: 0 | O22: 0 | P22: 0
C23: 30 a 34 años | D23: 72 | E23: 0.073998 | F23: 164768.58 | G23: 0.222222 | H23: 28 | I23: 168056.04 | J23: 0.25 | K23: 44 | L23: 162676.57 | M23: 0.204545 | N23: 0 | O23: 0 | P23: 0
C24: 35 a 39 años | D24: 53 | E24: 0.032278 | F24: 182338.15 | G24: 0.226415 | H24: 18 | I24: 185989.11 | J24: 0.333333 | K24: 35 | L24: 180460.51 | M24: 0.171429 | N24: 0 | O24: 0 | P24: 0
C25: 40 a 44 años | D25: 37 | E25: 0.020408 | F25: 202139.16 | G25: 0.324324 | H25: 15 | I25: 208429.33 | J25: 0.533333 | K25: 22 | L25: 197850.41 | M25: 0.181818 | N25: 0 | O25: 0 | P25: 0
C26: 45 a 49 años | D26: 43 | E26: 0.0246 | F26: 215776.42 | G26: 0.55814 | H26: 9 | I26: 225780.78 | J26: 0.666667 | K26: 34 | L26: 213128.21 | M26: 0.529412 | N26: 0 | O26: 0 | P26: 0
C27: 50 a 54 años | D27: 22 | E27: 0.014295 | F27: 204645.45 | G27: 0.227273 | H27: 7 | I27: 214767.71 | J27: 0.142857 | K27: 15 | L27: 199921.73 | M27: 0.266667 | N27: 0 | O27: 0 | P27: 0
C28: 55 a 59 años | D28: 13 | E28: 0.01045 | F28: 228595.69 | G28: 0.384615 | H28: 4 | I28: 268452.25 | J28: 0.25 | K28: 9 | L28: 210881.67 | M28: 0.444444 | N28: 0 | O28: 0 | P28: 0
C29: 60 a 64 años | D29: 6 | E29: 0.005004 | F29: 197467.67 | G29: 0.333333 | H29: 1 | I29: 24977 | J29: 1 | K29: 5 | L29: 231965.8 | M29: 0.2 | N29: 0 | O29: 0 | P29: 0
C30: 65 y más años | D30: 13 | E30: 0.006366 | F30: 172278.15 | G30: 0.076923 | H30: 11 | I30: 168096.18 | J30: 0.090909 | K30: 2 | L30: 195279 | M30: 0 | N30: 0 | O30: 0 | P30: 0
C31: Total | D31: 345 | E31: 0.02744 | F31: 177688.95 | G31: 0.231884 | H31: 129 | I31: 177329.9 | J31: 0.248062 | K31: 216 | L31: 177903.38 | M31: 0.222222 | N31: 0 | O31: 0 | P31: 0
A32: 3 | B32: Diferencia de Cotizantes | C32: 0 a 19 años | D32: 0 | E32: 0 | F32: -138275.79 | G32: 0 | H32: -2 | I32: -144078.29 | J32: 0 | K32: 2 | L32: 5802.5 | M32: 0 | N32: 0 | O32: 0 | P32: 0
C33: 20 a 24 años | D33: 6 | E33: 0 | F33: 26637.641 | G33: 0 | H33: 3 | I33: 21448.808 | J33: 0 | K33: 3 | L33: 28739.635 | M33: 0 | N33: 0 | O33: 0 | P33: 0
C34: 25 a 29 años | D34: 12 | E34: 0 | F34: -2359.9636 | G34: -0.114416 | H34: 12 | I34: -24395.05 | J34: -0.3 | K34: 0 | L34: 7829.5952 | M34: -0.025641 | N34: 0 | O34: 0 | P34: 0
C35: 30 a 34 años | D35: -75 | E35: 0 | F35: 1051.5482 | G35: -0.002268 | H35: -41 | I35: 4414.1344 | J35: -0.01087 | K35: -34 | L35: -1106.9314 | M35: 0.012238 | N35: 0 | O35: 0 | P35: 0
C36: 35 a 39 años | D36: -133 | E36: 0 | F36: -15524.298 | G36: -0.101542 | H36: -54 | I36: -10806.084 | J36: 0.041667 | K36: -79 | L36: -18075.99 | M36: -0.179449 | N36: 0 | O36: 0 | P36: 0
C37: 40 a 44 años | D37: -143 | E37: 0 | F37: -14626.185 | G37: -0.264565 | H37: -46 | I37: -8080.7077 | J37: -0.122404 | K37: -97 | L37: -19045.81 | M37: -0.372804 | N37: 0 | O37: 0 | P37: 0
C38: 45 a 49 años | D38: -119 | E38: 0 | F38: 7090.5462 | G38: 0.045794 | H38: -49 | I38: 6531.566 | J38: 0.114943 | K38: -70 | L38: 10333.427 | M38: 0.039027 | N38: 0 | O38: 0 | P38: 0
C39: 50 a 54 años | D39: -94 | E39: 0 | F39: -507.01032 | G39: -0.246865 | H39: -26 | I39: 12420.887 | J39: -0.311688 | K39: -68 | L39: -6346.2259 | M39: -0.215261 | N39: 0 | O39: 0 | P39: 0
C40: 55 a 59 años | D40: -84 | E40: 0 | F40: -2607.9016 | G40: -0.161776 | H40: -25 | I40: 39008.931 | J40: -0.12931 | K40: -59 | L40: -21072.633 | M40: -0.173203 | N40: 0 | O40: 0 | P40: 0
C41: 60 a 64 años | D41: -101 | E41: 0 | F41: -40122.945 | G41: -0.096573 | H41: -37 | I41: -177496.19 | J41: 0.868421 | K41: -64 | L41: -24964.84 | M41: -0.394203 | N41: 0 | O41: 0 | P41: 0
C42: 65 y más años | D42: -152 | E42: 0 | F42: -82892.499 | G42: -0.323077 | H42: -38 | I42: -56394.873 | J42: -0.03154 | K42: -114 | L42: -72851.138 | M42: -0.517241 | N42: 0 | O42: 0 | P42: 0
C43: Total | D43: -883 | E43: 0 | F43: -31748.313 | G43: -0.185054 | H43: -303 | I43: -24337.507 | J43: -0.108419 | K43: -580 | L43: -35750.686 | M43: -0.227527 | N43: 0 | O43: 0 | P43: 0
A44: 4 | B44: Cotizantes que se cambian de Isapre | C44: 0 a 19 años | D44: 0 | E44: 0 | F44: 0 | G44: 0 | H44: 0 | I44: 0 | J44: 0 | K44: 0 | L44: 0 | M44: 0 | N44: 0 | O44: 0 | P44: 0
C45: 20 a 24 años | D45: 1 | E45: 0.027027 | F45: 117144 | G45: 0 | H45: 1 | I45: 117144 | J45: 0 | K45: 0 | L45: 0 | M45: 0 | N45: 0 | O45: 0 | P45: 0
C46: 25 a 29 años | D46: 13 | E46: 0.04 | F46: 178055.15 | G46: 0.153846 | H46: 5 | I46: 171344 | J46: 0.2 | K46: 8 | L46: 182249.62 | M46: 0.125 | N46: 0 | O46: 0 | P46: 0
C47: 30 a 34 años | D47: 45 | E47: 0.046249 | F47: 185967.38 | G47: 0.222222 | H47: 20 | I47: 177627.95 | J47: 0.3 | K47: 25 | L47: 192638.92 | M47: 0.16 | N47: 0 | O47: 0 | P47: 0
C48: 35 a 39 años | D48: 90 | E48: 0.054811 | F48: 222641.88 | G48: 0.422222 | H48: 36 | I48: 218789.75 | J48: 0.555556 | K48: 54 | L48: 225209.96 | M48: 0.333333 | N48: 0 | O48: 0 | P48: 0
C49: 40 a 44 años | D49: 58 | E49: 0.031991 | F49: 232909.16 | G49: 0.551724 | H49: 15 | I49: 227448.6 | J49: 0.333333 | K49: 43 | L49: 234814 | M49: 0.627907 | N49: 0 | O49: 0 | P49: 0
C50: 45 a 49 años | D50: 57 | E50: 0.032609 | F50: 259356.54 | G50: 0.789474 | H50: 17 | I50: 248761.59 | J50: 0.764706 | K50: 40 | L50: 263859.4 | M50: 0.8 | N50: 0 | O50: 0 | P50: 0
C51: 50 a 54 años | D51: 48 | E51: 0.031189 | F51: 220803.67 | G51: 0.25 | H51: 22 | I51: 223289.36 | J51: 0.181818 | K51: 26 | L51: 218700.38 | M51: 0.307692 | N51: 0 | O51: 0 | P51: 0
C52: 55 a 59 años | D52: 26 | E52: 0.0209 | F52: 280449.73 | G52: 0.576923 | H52: 9 | I52: 234553.44 | J52: 0.111111 | K52: 17 | L52: 304747.76 | M52: 0.823529 | N52: 0 | O52: 0 | P52: 0
C53: 60 a 64 años | D53: 11 | E53: 0.009174 | F53: 251451.82 | G53: 0.272727 | H53: 1 | I53: 248255 | J53: 0 | K53: 10 | L53: 251771.5 | M53: 0.3 | N53: 0 | O53: 0 | P53: 0
C54: 65 y más años | D54: 7 | E54: 0.003428 | F54: 290400.86 | G54: 0.571429 | H54: 1 | I54: 226730 | J54: 0 | K54: 6 | L54: 301012.67 | M54: 0.666667 | N54: 0 | O54: 0 | P54: 0
C55: Total | D55: 356 | E55: 0.028315 | F55: 229829.38 | G55: 0.452247 | H55: 127 | I55: 216865.06 | J55: 0.393701 | K55: 229 | L55: 237019.21 | M55: 0.484716 | N55: 0 | O55: 0 | P55: 0
A56: 5 | B56: Cotizantes Vigentes | C56: 0 a 19 años | D56: 11 | E56: 1 | F56: 42213.273 | G56: 0.090909 | H56: 3 | I56: 14790.333 | J56: 0 | K56: 8 | L56: 52496.875 | M56: 0.125 | N56: 0 | O56: 0 | P56: 0
C57: 20 a 24 años | D57: 37 | E57: 1 | F57: 147146.03 | G57: 0.081081 | H57: 15 | I57: 130638.07 | J57: 0 | K57: 22 | L57: 158401.45 | M57: 0.136364 | N57: 0 | O57: 0 | P57: 0
C58: 25 a 29 años | D58: 325 | E58: 1 | F58: 158924.39 | G58: 0.046154 | H58: 133 | I58: 161402.44 | J58: 0.06015 | K58: 192 | L58: 157207.83 | M58: 0.036458 | N58: 0 | O58: 0 | P58: 0
C59: 30 a 34 años | D59: 973 | E59: 1 | F59: 184888.99 | G59: 0.15519 | H59: 382 | I59: 192130.28 | J59: 0.204188 | K59: 591 | L59: 180208.5 | M59: 0.123519 | N59: 0 | O59: 0 | P59: 0
C60: 35 a 39 años | D60: 1642 | E60: 1 | F60: 216501.12 | G60: 0.351401 | H60: 615 | I60: 225144.01 | J60: 0.417886 | K60: 1027 | L60: 211325.49 | M60: 0.311587 | N60: 0 | O60: 0 | P60: 0
C61: 40 a 44 años | D61: 1813 | E61: 1 | F61: 242826.17 | G61: 0.559294 | H61: 684 | I61: 251769.67 | J61: 0.605263 | K61: 1129 | L61: 237407.79 | M61: 0.531444 | N61: 0 | O61: 0 | P61: 0
C62: 45 a 49 años | D62: 1748 | E62: 1 | F62: 256455.07 | G62: 0.700801 | H62: 645 | I62: 253155.2 | J62: 0.637209 | K62: 1103 | L62: 258384.73 | M62: 0.737987 | N62: 0 | O62: 0 | P62: 0
C63: 50 a 54 años | D63: 1539 | E63: 1 | F63: 258357.61 | G63: 0.68616 | H63: 573 | I63: 245204.67 | J63: 0.478185 | K63: 966 | L63: 266159.51 | M63: 0.809524 | N63: 0 | O63: 0 | P63: 0
C64: 55 a 59 años | D64: 1244 | E64: 1 | F64: 264431.23 | G64: 0.624598 | H64: 457 | I64: 245623.11 | J64: 0.365427 | K64: 787 | L64: 275352.84 | M64: 0.775095 | N64: 0 | O64: 0 | P64: 0
C65: 60 a 64 años | D65: 1199 | E65: 1 | F65: 266530.47 | G65: 0.462886 | H65: 420 | I65: 249789.31 | J65: 0.230952 | K65: 779 | L65: 275556.52 | M65: 0.587933 | N65: 0 | O65: 0 | P65: 0
C66: 65 y más años | D66: 2042 | E66: 1 | F66: 278302.03 | G66: 0.355534 | H66: 716 | I66: 236272.84 | J66: 0.069832 | K66: 1326 | L66: 300996.52 | M66: 0.509804 | N66: 0 | O66: 0 | P66: 0
C67: Total | D67: 12573 | E67: 1 | F67: 246234.46 | G67: 0.485167 | H67: 4643 | I67: 236411.43 | J67: 0.378204 | K67: 7930 | L67: 251985.83 | M67: 0.547793 | N67: 0 | O67: 0 | P67: 0
A69: Fecha extracción de información: | D69: =+Nacional!D69 -> 46295

Sheet RM
A2: XIII - REGIÓN METROPOLITANA DE SANTIAGO
A3: =+Notas!C6 -> AGOSTO 2025 Y AGOSTO 2026
A6: N° | B6: Cuadro | C6: Tramo de Edad | D6: Sistema Isapre | H6: Sexo Femenino | K6: Sexo Masculino | N6: Sin Información Sexo
D7: N° Cotizantes | E7: % de Cotizantes Vigentes | F7: Cotización Pactada Promedio por Cotizante ($) | G7: N° Cargas Promedio por Cotizante | H7: N° Cotizantes | I7: Cotización Pactada Promedio por Cotizante ($) | J7: N° Cargas Promedio por Cotizante | K7: N° Cotizantes | L7: Cotización Pactada Promedio por Cotizante ($) | M7: N° Cargas Promedio por Cotizante | N7: N° Cotizantes | O7: Cotización Pactada Promedio por Cotizante ($) | P7: N° Cargas Promedio por Cotizante
