Workbook

Sheet Indice
C4: ESTADÍSTICA MENSUAL DE MOVILIDAD DE CARTERA DE COTIZANTES DEL SISTEMA ISAPRE A NIVEL REGIONAL
D6: AGOSTO | E6: =CONCATENATE(2025," ","Y"," ",D6," ",2026) -> 2025 Y AGOSTO 2026
B8: CONTENIDO
B10: La Estadística Mensual de Movilidad de Cartera de Cotizantes del Sistema Isapre a Nivel Regional contiene los siguientes cuadros de información, a Nivel Nacional y para cada Región del país:
B11: (1) Cotizantes que abandonan el Sistema Isapre, Cotización Pactada promedio y Número de cargas promedio, por Sexo y Tramo de Edad.
B12: (2) Cotizantes que ingresan al Sistema Isapre, Cotización Pactada promedio y Número de cargas promedio, por Sexo y Tramo de Edad.
B13: (3) Diferencia de Cotizantes que abandonan y los que ingresan al Sistema Isapre, Cotización Pactada promedio y Número de cargas promedio, por Sexo y Tramo de Edad.
B14: (4) Cotizantes que se cambian de Isapre, Cotización Pactada promedio y Número de cargas promedio, por Sexo y Tramo de Edad.
B15: (5) Cotizantes Vigentes, Cotización Pactada promedio y Número de cargas promedio, por Sexo y Tramo de Edad.
B18: INDICE
B20: HOJA | C20: CONTENIDO
B22: Nacional | C22: Estadística Mensual de Movilidad de Cartera de Cotizantes del Sistema Isapre - Nivel Nacional
B23: XV | C23: Estadística Mensual de Movilidad de Cartera de Cotizantes del Sistema Isapre a Nivel Regional - Región de Arica y Parinacota
B24: I | C24: Estadística Mensual de Movilidad de Cartera de Cotizantes del Sistema Isapre a Nivel Regional - Región de Tarapacá
B25: II | C25: Estadística Mensual de Movilidad de Cartera de Cotizantes del Sistema Isapre a Nivel Regional - Región de Antofagasta
B26: III | C26: Estadística Mensual de Movilidad de Cartera de Cotizantes del Sistema Isapre a Nivel Regional - Región de Atacama
B27: IV | C27: Estadística Mensual de Movilidad de Cartera de Cotizantes del Sistema Isapre a Nivel Regional - Región de Coquimbo
B28: V | C28: Estadística Mensual de Movilidad de Cartera de Cotizantes del Sistema Isapre a Nivel Regional - Región de Valparaíso
B29: VI | C29: Estadística Mensual de Movilidad de Cartera de Cotizantes del Sistema Isapre a Nivel Regional - Región del Libertador Bernardo O´higgins
B30: VII | C30: Estadística Mensual de Movilidad de Cartera de Cotizantes del Sistema Isapre a Nivel Regional - Región del Maule
B31: XVI | C31: Estadística Mensual de Movilidad de Cartera de Cotizantes del Sistema Isapre a Nivel Regional - Región de Ñuble
B32: VIII | C32: Estadística Mensual de Movilidad de Cartera de Cotizantes del Sistema Isapre a Nivel Regional - Región del Biobío
... B40: Ficha Metadatos | C40: Ficha Metadatos de la Estadística.

Sheet Notas
C4: ESTADÍSTICA MENSUAL DE MOVILIDAD DE CARTERA DE COTIZANTES DEL SISTEMA ISAPRE A NIVEL REGIONAL
C6: =CONCATENATE(Indice!D6," ",Indice!E6) -> AGOSTO 2025 Y AGOSTO 2026
B8: NOTAS
B10: N° | C10: DESCRIPCIÓN
B12: 1 | C12: Los Cotizantes que abandonan el Sistema Isapre son aquellos Cotizantes que se encontraban con beneficios vigentes en el periodo 1 de información (del año anterior) y no se encuentran en el periodo 2 de información (del año actual). Se infiere que estos cotizantes se cambiaron a FONASA, a otro Sistema de Salud, o que han fallecido. Para ellos se incorpora el porcentaje que significan respecto al total de Cotizantes Vigentes (del periodo de información 2), la Cotización Pactada promedio (actualizada según variación del IPC entre ambos periodos) y el Número de Cargas promedio, para cada Tramo de Edad, Sexo y Región, que fueron informados en el periodo de información 1.
B13: 2 | C13: Los Cotizantes que ingresan al Sistema Isapre son aquellos Cotizantes que no se encontraban en el periodo 1 de información (del año anterior) y se encuentran con beneficios vigentes en el periodo 2 de información (del año actual). Se infiere que estos cotizantes vienen de FONASA u otro Sistema de Salud o que ingresan por primera vez a trabajar. Para ellos se incorpora el porcentaje que significan respecto al total de Cotizantes Vigentes, la Cotización Pactada promedio y el Número de Cargas promedio, para cada Tramo de Edad, Sexo y Región, que fueron informados en el periodo de información 2.
B14: 3 | C14: La Diferencia de Cotizantes corresponde al resultado neto entre los cotizantes que ingresan al Sistema Isapre (Cuadro 2) y los que lo abandonan (Cuadro 1), considerando también las diferencias en la Cotización Pactada promedio y Número de Cargas promedio, para cada Tramo de Edad, Sexo y Región.
B15: 4 | C15: Los Cotizantes que se cambian de Isapre son aquellos Cotizantes que en el periodo de información 2 (año actual) se encuentran con beneficios vigentes en una Isapre distinta a la que se encontraban en el periodo de información 1 (año anterior). Para ellos se incorpora el porcentaje que significan respecto al total de Cotizantes Vigentes, la Cotización Pactada promedio y el Número de Cargas promedio, para cada tramo de edad, Sexo y Región, que fueron informados en el periodo de información 2.
B16: 5 | C16: Los Cotizantes que se movilizan en el Sistema Isapre corresponde a la sumatoria de aquellos que ingresaron al Sistema, los que lo abandonaron y los que se cambiaron de Isapre.
B17: 6 | C17: La categoría S/I corresponde a "Sin dato disponible" al momento de la elaboración del producto estadístico.
B18: 7 | C18: La información presentada corresponde a "Información provisional" dado que se genera desde los datos suministrados mensualmente por las Instituciones de Salud Previsional (Isapres), por lo que están sujetas a modificación producto de revisiones posteriores de la Superintendencia de Salud.
B19: 8 | C19: Fuente de Información: Superintendencia de Salud, Archivos Maestros de Cotizantes y Cargas de Isapres, Contratos y Cotizaciones de Salud.

Sheet Nacional
A2: NIVEL NACIONAL
A3: =+Notas!C6 -> AGOSTO 2025 Y AGOSTO 2026
A6: N° | B6: Cuadro | C6: Tramo de Edad | D6: Sistema Isapre | H6: Sexo Femenino | K6: Sexo Masculino | N6: Sin Información Sexo
D7: N° Cotizantes | E7: % de Cotizantes Vigentes | F7: Cotización Pactada Promedio por Cotizante ($) | G7: N° Cargas Promedio por Cotizante | H7: N° Cotizantes | I7: Cotización Pactada Promedio por Cotizante ($) | J7: N° Cargas Promedio por Cotizante | K7: N° Cotizantes | L7: Cotización Pactada Promedio por Cotizante ($) | M7: N° Cargas Promedio por Cotizante | N7: N° Cotizantes | O7: Cotización Pactada Promedio por Cotizante ($) | P7: N° Cargas Promedio por Cotizante
A8: 1 | B8: Cotizantes que abandonan el Sistema Isapre | C8: 0 a 19 años | D8: 181 | E8: 0.105601 | F8: 91071.268 | G8: 0.20442 | H8: 98 | I8: 98049.382 | J8: 0.22449 | K8: 83 | L8: 82832.048 | M8: 0.180723 | N8: 0 | O8: 0 | P8: 0
C9: 20 a 24 años | D9: 1402 | E9: 0.123972 | F9: 135169.71 | G9: 0.145506 | H9: 537 | I9: 142918.52 | J9: 0.206704 | K9: 865 | L9: 130359.18 | M9: 0.107514 | N9: 0 | O9: 0 | P9: 0
C10: 25 a 29 años | D10: 8027 | E10: 0.094734 | F10: 153445.04 | G10: 0.154354 | H10: 3344 | I10: 161628.81 | J10: 0.223983 | K10: 4683 | L10: 147601.24 | M10: 0.104634 | N10: 0 | O10: 0 | P10: 0
C11: 30 a 34 años | D11: 16531 | E11: 0.090891 | F11: 175226.98 | G11: 0.294054 | H11: 6718 | I11: 187884.11 | J11: 0.43376 | K11: 9813 | L11: 166561.88 | M11: 0.19841 | N11: 0 | O11: 0 | P11: 0
C12: 35 a 39 años | D12: 18986 | E12: 0.077061 | F12: 201242.77 | G12: 0.484199 | H12: 7516 | I12: 218446.2 | J12: 0.636642 | K12: 11470 | L12: 189969.8 | M12: 0.384307 | N12: 0 | O12: 0 | P12: 0
C13: 40 a 44 años | D13: 14998 | E13: 0.068315 | F13: 225254.53 | G13: 0.661755 | H13: 5399 | I13: 236492.22 | J13: 0.707353 | K13: 9599 | L13: 218933.84 | M13: 0.636108 | N13: 0 | O13: 0 | P13: 0
C14: 45 a 49 años | D14: 11577 | E14: 0.061268 | F14: 235779.82 | G14: 0.764965 | H14: 3991 | I14: 231107.44 | J14: 0.640942 | K14: 7586 | L14: 238237.95 | M14: 0.830214 | N14: 0 | O14: 0 | P14: 0
C15: 50 a 54 años | D15: 9690 | E15: 0.058729 | F15: 237901.44 | G15: 0.771104 | H15: 3291 | I15: 225696.68 | J15: 0.587056 | K15: 6399 | L15: 244178.33 | M15: 0.86576 | N15: 0 | O15: 0 | P15: 0
C16: 55 a 59 años | D16: 7303 | E16: 0.056677 | F16: 236976.7 | G16: 0.667671 | H16: 2500 | I16: 213672.99 | J16: 0.3816 | K16: 4803 | L16: 249106.47 | M16: 0.816573 | N16: 0 | O16: 0 | P16: 0
C17: 60 a 64 años | D17: 7443 | E17: 0.070058 | F17: 239895.4 | G17: 0.527072 | H17: 2907 | I17: 216146.27 | J17: 0.212246 | K17: 4536 | L17: 255115.58 | M17: 0.728836 | N17: 0 | O17: 0 | P17: 0
C18: 65 y más años | D18: 11397 | E18: 0.052625 | F18: 253174.99 | G18: 0.384136 | H18: 4239 | I18: 217110.4 | J18: 0.092475 | K18: 7158 | L18: 274532.6 | M18: 0.556859 | N18: 0 | O18: 0 | P18: 0
C19: Total | D19: 107535 | E19: 0.069325 | F19: 213605.25 | G19: 0.511127 | H19: 40540 | I19: 211042.91 | J19: 0.465047 | K19: 66995 | L19: 215155.77 | M19: 0.53901 | N19: 0 | O19: 0 | P19: 0
A20: 2 | B20: Cotizantes que ingresan al Sistema Isapre | C20: 0 a 19 años | D20: 630 | E20: 0.367561 | F20: 96800.157 | G20: 0.12381 | H20: 248 | I20: 96793.351 | J20: 0.137097 | K20: 382 | L20: 96804.576 | M20: 0.115183 | N20: 0 | O20: 0 | P20: 0
C21: 20 a 24 años | D21: 6225 | E21: 0.550447 | F21: 132250.23 | G21: 0.063775 | H21: 2497 | I21: 135275.76 | J21: 0.060473 | K21: 3728 | L21: 130223.74 | M21: 0.065987 | N21: 0 | O21: 0 | P21: 0
C22: 25 a 29 años | D22: 25939 | E22: 0.30613 | F22: 147519.32 | G22: 0.064652 | H22: 11692 | I22: 150947.15 | J22: 0.065173 | K22: 14247 | L22: 144706.22 | M22: 0.064224 | N22: 0 | O22: 0 | P22: 0
C23: 30 a 34 años | D23: 20679 | E23: 0.113697 | F23: 162520.85 | G23: 0.183374 | H23: 9010 | I23: 165404.45 | J23: 0.193119 | K23: 11669 | L23: 160294.33 | M23: 0.175851 | N23: 0 | O23: 0 | P23: 0
C24: 35 a 39 años | D24: 15038 | E24: 0.061037 | F24: 187394.07 | G24: 0.329299 | H24: 6104 | I24: 193050.19 | J24: 0.3596 | K24: 8934 | L24: 183529.62 | M24: 0.308596 | N24: 0 | O24: 0 | P24: 0
C25: 40 a 44 años | D25: 9980 | E25: 0.045458 | F25: 203113.68 | G25: 0.462124 | H25: 3831 | I25: 204932.43 | J25: 0.459932 | K25: 6149 | L25: 201980.55 | M25: 0.46349 | N25: 0 | O25: 0 | P25: 0
C26: 45 a 49 años | D26: 6717 | E26: 0.035548 | F26: 212058.26 | G26: 0.502605 | H26: 2670 | I26: 208891.9 | J26: 0.450562 | K26: 4047 | L26: 214147.27 | M26: 0.536941 | N26: 0 | O26: 0 | P26: 0
C27: 50 a 54 años | D27: 5014 | E27: 0.030389 | F27: 210394.66 | G27: 0.469485 | H27: 1921 | I27: 199595.32 | J27: 0.350859 | K27: 3093 | L27: 217101.91 | M27: 0.543162 | N27: 0 | O27: 0 | P27: 0
C28: 55 a 59 años | D28: 2235 | E28: 0.017345 | F28: 234612.45 | G28: 0.422819 | H28: 818 | I28: 225579.61 | J28: 0.311736 | K28: 1417 | L28: 239826.89 | M28: 0.486944 | N28: 0 | O28: 0 | P28: 0
C29: 60 a 64 años | D29: 1119 | E29: 0.010533 | F29: 234892.86 | G29: 0.300268 | H29: 481 | I29: 211981.11 | J29: 0.128898 | K29: 638 | L29: 252166.45 | M29: 0.429467 | N29: 0 | O29: 0 | P29: 0
C30: 65 y más años | D30: 1461 | E30: 0.006746 | F30: 180477.2 | G30: 0.105407 | H30: 1181 | I30: 148501.44 | J30: 0.055038 | K30: 280 | L30: 315346.4 | M30: 0.317857 | N30: 0 | O30: 0 | P30: 0
C31: Total | D31: 95037 | E31: 0.061268 | F31: 173056.98 | G31: 0.23857 | H31: 40453 | I31: 172631.5 | J31: 0.220083 | K31: 54584 | L31: 173372.3 | M31: 0.252272 | N31: 0 | O31: 0 | P31: 0
A32: 3 | B32: Diferencia de Cotizantes | C32: 0 a 19 años | D32: 449 | E32: 0 | F32: 5728.8896 | G32: -0.08061 | H32: 150 | I32: -1256.0309 | J32: -0.087393 | K32: 299 | L32: 13972.527 | M32: -0.06554 | N32: 0 | O32: 0 | P32: 0
C33: 20 a 24 años | D33: 4823 | E33: 0 | F33: -2919.486 | G33: -0.081731 | H33: 1960 | I33: -7642.7609 | J33: -0.146231 | K33: 2863 | L33: -135.44463 | M33: -0.041527 | N33: 0 | O33: 0 | P33: 0
C34: 25 a 29 años | D34: 17912 | E34: 0 | F34: -5925.7232 | G34: -0.089702 | H34: 8348 | I34: -10681.659 | J34: -0.15881 | K34: 9564 | L34: -2895.0211 | M34: -0.04041 | N34: 0 | O34: 0 | P34: 0
C35: 30 a 34 años | D35: 4148 | E35: 0 | F35: -12706.128 | G35: -0.110679 | H35: 2292 | I35: -22479.664 | J35: -0.240641 | K35: 1856 | L35: -6267.5445 | M35: -0.02256 | N35: 0 | O35: 0 | P35: 0
C36: 35 a 39 años | D36: -3948 | E36: 0 | F36: -13848.698 | G36: -0.1549 | H36: -1412 | I36: -25396.004 | J36: -0.277042 | K36: -2536 | L36: -6440.1757 | M36: -0.075711 | N36: 0 | O36: 0 | P36: 0
C37: 40 a 44 años | D37: -5018 | E37: 0 | F37: -22140.848 | G37: -0.199631 | H37: -1568 | I37: -31559.782 | J37: -0.247421 | K37: -3450 | L37: -16953.296 | M37: -0.172618 | N37: 0 | O37: 0 | P37: 0
C38: 45 a 49 años | D38: -4860 | E38: 0 | F38: -23721.552 | G38: -0.26236 | H38: -1321 | I38: -22215.547 | J38: -0.19038 | K38: -3539 | L38: -24090.686 | M38: -0.293273 | N38: 0 | O38: 0 | P38: 0
C39: 50 a 54 años | D39: -4676 | E39: 0 | F39: -27506.778 | G39: -0.301619 | H39: -1370 | I39: -26101.362 | J39: -0.236197 | K39: -3306 | L39: -27076.421 | M39: -0.322598 | N39: 0 | O39: 0 | P39: 0
C40: 55 a 59 años | D40: -5068 | E40: 0 | F40: -2364.2536 | G40: -0.244852 | H40: -1682 | I40: 11906.621 | J40: -0.069864 | K40: -3386 | L40: -9279.5829 | M40: -0.329629 | N40: 0 | O40: 0 | P40: 0
C41: 60 a 64 años | D41: -6324 | E41: 0 | F41: -5002.5473 | G41: -0.226804 | H41: -2426 | I41: -4165.1617 | J41: -0.083348 | K41: -3898 | L41: -2949.1355 | M41: -0.299369 | N41: 0 | O41: 0 | P41: 0
C42: 65 y más años | D42: -9936 | E42: 0 | F42: -72697.785 | G42: -0.278729 | H42: -3058 | I42: -68608.954 | J42: -0.037437 | K42: -6878 | L42: 40813.797 | M42: -0.239002 | N42: 0 | O42: 0 | P42: 0
C43: Total | D43: -12498 | E43: 0 | F43: -40548.274 | G43: -0.272556 | H43: -87 | I43: -38411.407 | J43: -0.244964 | K43: -12411 | L43: -41783.472 | M43: -0.286739 | N43: 0 | O43: 0 | P43: 0
...

Sheet XV
A2: XV - REGIÓN DE ARICA Y PARINACOTA
A3: =+Notas!C6 -> AGOSTO 2025 Y AGOSTO 2026
A6: N° | B6: Cuadro | C6: Tramo de Edad | D6: Sistema Isapre | H6: Sexo Femenino | K6: Sexo Masculino | N6: Sin Información Sexo
D7: N° Cotizantes | E7: % de Cotizantes Vigentes | F7: Cotización Pactada Promedio por Cotizante ($) | G7: N° Cargas Promedio por Cotizante | H7: N° Cotizantes | I7: Cotización Pactada Promedio por Cotizante ($) | J7: N° Cargas Promedio por Cotizante | K7: N° Cotizantes | L7: Cotización Pactada Promedio por Cotizante ($) | M7: N° Cargas Promedio por Cotizante | N7: N° Cotizantes | O7: Cotización Pactada Promedio por Cotizante ($) | P7: N° Cargas Promedio por Cotizante
A8: 1 | B8: Cotizantes que abandonan el Sistema Isapre | C8: 0 a 19 años | D8: 1 | E8: 0.111111 | F8: 109215.89 | G8: 0 | H8: 1 | I8: 109215.89 | J8: 0 | K8: 0 | L8: 0 | M8: 0 | N8: 0 | O8: 0 | P8: 0
C9: 20 a 24 años | D9: 11 | E9: 0.458333 | F9: 159231.03 | G9: 0.181818 | H9: 2 | I9: 182244.81 | J9: 0 | K9: 9 | L9: 154116.86 | M9: 0.222222 | N9: 0 | O9: 0 | P9: 0
C10: 25 a 29 años | D10: 45 | E10: 0.171756 | F10: 158084.92 | G10: 0.2 | H10: 15 | I10: 151145.67 | J10: 0.133333 | K10: 30 | L10: 161554.55 | M10: 0.233333 | N10: 0 | O10: 0 | P10: 0
C11: 30 a 34 años | D11: 111 | E11: 0.138577 | F11: 169197.6 | G11: 0.225225 | H11: 32 | I11: 174427.93 | J11: 0.3125 | K11: 79 | L11: 167078.99 | M11: 0.189873 | N11: 0 | O11: 0 | P11: 0
C12: 35 a 39 años | D12: 198 | E12: 0.150456 | F12: 188126.81 | G12: 0.378788 | H12: 74 | I12: 201689.65 | J12: 0.513514 | K12: 124 | L12: 180032.86 | M12: 0.298387 | N12: 0 | O12: 0 | P12: 0
C13: 40 a 44 años | D13: 173 | E13: 0.120474 | F13: 206384.79 | G13: 0.526012 | H13: 49 | I13: 216596.29 | J13: 0.510204 | K13: 124 | L13: 202349.6 | M13: 0.532258 | N13: 0 | O13: 0 | P13: 0
C14: 45 a 49 años | D14: 146 | E14: 0.106336 | F14: 229605.5 | G14: 0.691781 | H14: 43 | I14: 220736.39 | J14: 0.534884 | K14: 103 | L14: 233308.14 | M14: 0.757282 | N14: 0 | O14: 0 | P14: 0
C15: 50 a 54 años | D15: 133 | E15: 0.106999 | F15: 222212.49 | G15: 0.684211 | H15: 40 | I15: 230831.78 | J15: 0.725 | K15: 93 | L15: 218505.27 | M15: 0.666667 | N15: 0 | O15: 0 | P15: 0
C16: 55 a 59 años | D16: 104 | E16: 0.109244 | F16: 217079.57 | G16: 0.548077 | H16: 29 | I16: 200020.42 | J16: 0.241379 | K16: 75 | L16: 223675.77 | M16: 0.666667 | N16: 0 | O16: 0 | P16: 0
C17: 60 a 64 años | D17: 101 | E17: 0.131169 | F17: 234124.24 | G17: 0.445545 | H17: 37 | I17: 216636.23 | J17: 0.162162 | K17: 64 | L17: 244234.5 | M17: 0.609375 | N17: 0 | O17: 0 | P17: 0
C18: 65 y más años | D18: 141 | E18: 0.116529 | F18: 248160.04 | G18: 0.304965 | H18: 54 | I18: 219546.74 | J18: 0.092593 | K18: 87 | L18: 265920.01 | M18: 0.436782 | N18: 0 | O18: 0 | P18: 0
C19: Total | D19: 1164 | E19: 0.123883 | F19: 210480.45 | G19: 0.463058 | H19: 376 | I19: 208131.46 | J19: 0.385638 | K19: 788 | L19: 211601.29 | M19: 0.5 | N19: 0 | O19: 0 | P19: 0
A20: 2 | B20: Cotizantes que ingresan al Sistema Isapre | C20: 0 a 19 años | D20: 2 | E20: 0.222222 | F20: 24977 | G20: 0 | H20: 1 | I20: 24977 | J20: 0 | K20: 1 | L20: 24977 | M20: 0 | N20: 0 | O20: 0 | P20: 0
C21: 20 a 24 años | D21: 13 | E21: 0.541667 | F21: 118616.54 | G21: 0 | H21: 4 | I21: 114324.75 | J21: 0 | K21: 9 | L21: 120524 | M21: 0 | N21: 0 | O21: 0 | P21: 0
C22: 25 a 29 años | D22: 89 | E22: 0.339695 | F22: 147166.88 | G22: 0.067416 | H22: 26 | I22: 151245.88 | J22: 0.115385 | K22: 63 | L22: 145483.48 | M22: 0.047619 | N22: 0 | O22: 0 | P22: 0
C23: 30 a 34 años | D23: 95 | E23: 0.118602 | F23: 174049.15 | G23: 0.189474 | H23: 22 | I23: 192206.27 | J23: 0.181818 | K23: 73 | L23: 168577.14 | M23: 0.191781 | N23: 0 | O23: 0 | P23: 0
C24: 35 a 39 años | D24: 108 | E24: 0.082067 | F24: 164458.06 | G24: 0.231481 | H24: 29 | I24: 181455.21 | J24: 0.310345 | K24: 79 | L24: 158218.61 | M24: 0.202532 | N24: 0 | O24: 0 | P24: 0
C25: 40 a 44 años | D25: 87 | E25: 0.060585 | F25: 179403.06 | G25: 0.275862 | H25: 14 | I25: 211293.07 | J25: 0.571429 | K25: 73 | L25: 173287.16 | M25: 0.219178 | N25: 0 | O25: 0 | P25: 0
C26: 45 a 49 años | D26: 60 | E26: 0.0437 | F26: 189024.1 | G26: 0.35 | H26: 15 | I26: 186649.93 | J26: 0.333333 | K26: 45 | L26: 189815.49 | M26: 0.355556 | N26: 0 | O26: 0 | P26: 0
C27: 50 a 54 años | D27: 40 | E27: 0.03218 | F27: 193968.85 | G27: 0.3 | H27: 10 | I27: 201475.1 | J27: 0.4 | K27: 30 | L27: 191466.77 | M27: 0.266667 | N27: 0 | O27: 0 | P27: 0
C28: 55 a 59 años | D28: 27 | E28: 0.028361 | F28: 208995.19 | G28: 0.333333 | H28: 4 | I28: 199853.5 | J28: 0.25 | K28: 23 | L28: 210585.04 | M28: 0.347826 | N28: 0 | O28: 0 | P28: 0
C29: 60 a 64 años | D29: 11 | E29: 0.014286 | F29: 242046.18 | G29: 0.272727 | H29: 1 | I29: 267860 | J29: 0 | K29: 10 | L29: 239464.8 | M29: 0.3 | N29: 0 | O29: 0 | P29: 0
C30: 65 y más años | D30: 4 | E30: 0.003306 | F30: 131553.25 | G30: 0 | H30: 4 | I30: 131553.25 | J30: 0 | K30: 0 | L30: 0 | M30: 0 | N30: 0 | O30: 0 | P30: 0
C31: Total | D31: 536 | E31: 0.057046 | F31: 172622.79 | G31: 0.220149 | H31: 130 | I31: 179011.52 | J31: 0.261538 | K31: 406 | L31: 170577.14 | M31: 0.206897 | N31: 0 | O31: 0 | P31: 0
A32: 3 | B32: Diferencia de Cotizantes | C32: 0 a 19 años | D32: 1 | E32: 0 | F32: -84238.887 | G32: 0 | H32: 0 | I32: -84238.887 | J32: 0 | K32: 1 | L32: 24977 | M32: 0 | N32: 0 | O32: 0 | P32: 0
C33: 20 a 24 años | D33: 2 | E33: 0 | F33: -40614.496 | G33: -0.181818 | H33: 2 | I33: -67920.059 | J33: 0 | K33: 0 | L33: -33592.863 | M33: -0.222222 | N33: 0 | O33: 0 | P33: 0
C34: 25 a 29 años | D34: 44 | E34: 0 | F34: -10918.046 | G34: -0.132584 | H34: 11 | I34: 100.21319 | J34: -0.017949 | K34: 33 | L34: -16071.072 | M34: -0.185714 | N34: 0 | O34: 0 | P34: 0
C35: 30 a 34 años | D35: -16 | E35: 0 | F35: 4851.5439 | G35: -0.035752 | H35: -10 | I35: 17778.339 | J35: -0.130682 | K35: -6 | L35: 1498.1482 | M35: 0.001907 | N35: 0 | O35: 0 | P35: 0
C36: 35 a 39 años | D36: -90 | E36: 0 | F36: -23668.744 | G36: -0.147306 | H36: -45 | I36: -20234.439 | J36: -0.203169 | K36: -45 | L36: -21814.25 | M36: -0.095855 | N36: 0 | O36: 0 | P36: 0
C37: 40 a 44 años | D37: -86 | E37: 0 | F37: -26981.734 | G37: -0.250149 | H37: -35 | I37: -5303.2143 | J37: 0.061224 | K37: -51 | L37: -29062.44 | M37: -0.31308 | N37: 0 | O37: 0 | P37: 0
C38: 45 a 49 años | D38: -86 | E38: 0 | F38: -40581.404 | G38: -0.341781 | H38: -28 | I38: -34086.455 | J38: -0.20155 | K38: -58 | L38: -43492.656 | M38: -0.401726 | N38: 0 | O38: 0 | P38: 0
C39: 50 a 54 años | D39: -93 | E39: 0 | F39: -28243.642 | G39: -0.384211 | H39: -30 | I39: -29356.679 | J39: -0.325 | K39: -63 | L39: -27038.505 | M39: -0.4 | N39: 0 | O39: 0 | P39: 0
C40: 55 a 59 años | D40: -77 | E40: 0 | F40: -8084.3831 | G40: -0.214744 | H40: -25 | I40: -166.91931 | J40: 0.008621 | K40: -52 | L40: -13090.729 | M40: -0.318841 | N40: 0 | O40: 0 | P40: 0
C41: 60 a 64 años | D41: -90 | E41: 0 | F41: 7921.9391 | G41: -0.172817 | H41: -36 | I41: 51223.774 | J41: -0.162162 | K41: -54 | L41: -4769.7021 | M41: -0.309375 | N41: 0 | O41: 0 | P41: 0
C42: 65 y más años | D42: -137 | E42: 0 | F42: -116606.79 | G42: -0.304965 | H42: -50 | I42: -87993.49 | J42: -0.092593 | K42: -87 | L42: -265920.01 | M42: -0.436782 | N42: 0 | O42: 0 | P42: 0
C43: Total | D43: -628 | E43: 0 | F43: -37857.655 | G43: -0.242909 | H43: -246 | I43: -29119.936 | J43: -0.1241 | K43: -382 | L43: -41024.145 | M43: -0.293103 | N43: 0 | O43: 0 | P43: 0
...

Sheet I
A2: I - REGIÓN DE TARAPACÁ
A3: =+Notas!C6 -> AGOSTO 2025 Y AGOSTO 2026
A6: N° | B6: Cuadro | C6: Tramo de Edad | D6: Sistema Isapre | H6: Sexo Femenino | K6: Sexo Masculino | N6: Sin Información Sexo
D7: N° Cotizantes | E7: % de Cotizantes Vigentes | F7: Cotización Pactada Promedio por Cotizante ($) | G7: N° Cargas Promedio por Cotizante | H7: N° Cotizantes | I7: Cotización Pactada Promedio por Cotizante ($) | J7: N° Cargas Promedio por Cotizante | K7: N° Cotizantes | L7: Cotización Pactada Promedio por Cotizante ($) | M7: N° Cargas Promedio por Cotizante | N7: N° Cotizantes | O7: Cotización Pactada Promedio por Cotizante ($) | P7: N° Cargas Promedio por Cotizante
A8: 1 | B8: Cotizantes que abandonan el Sistema Isapre | C8: 0 a 19 años | D8: 4 | E8: 0.108108 | F8: 83024.047 | G8: 0 | H8: 0 | I8: 0 | J8: 0 | K8: 4 | L8: 83024.047 | M8: 0 | N8: 0 | O8: 0 | P8: 0
C9: 20 a 24 años | D9: 27 | E9: 0.090909 | F9: 121620.84 | G9: 0.074074 | H9: 6 | I9: 116195.52 | J9: 0.333333 | K9: 21 | L9: 123170.93 | M9: 0 | N9: 0 | O9: 0 | P9: 0
C10: 25 a 29 años | D10: 141 | E10: 0.139328 | F10: 154820.97 | G10: 0.170213 | H10: 42 | I10: 161176.2 | J10: 0.142857 | K10: 99 | L10: 152124.81 | M10: 0.181818 | N10: 0 | O10: 0 | P10: 0
C11: 30 a 34 años | D11: 277 | E11: 0.13532 | F11: 181963.35 | G11: 0.375451 | H11: 96 | I11: 191334.28 | J11: 0.635417 | K11: 181 | L11: 176993.14 | M11: 0.237569 | N11: 0 | O11: 0 | P11: 0
C12: 35 a 39 años | D12: 346 | E12: 0.115603 | F12: 200119.48 | G12: 0.517341 | H12: 131 | I12: 208053.46 | J12: 0.648855 | K12: 215 | L12: 195285.29 | M12: 0.437209 | N12: 0 | O12: 0 | P12: 0
C13: 40 a 44 años | D13: 333 | E13: 0.110411 | F13: 217651.74 | G13: 0.624625 | H13: 98 | I13: 224484.6 | J13: 0.663265 | K13: 235 | L13: 214802.29 | M13: 0.608511 | N13: 0 | O13: 0 | P13: 0
C14: 45 a 49 años | D14: 263 | E14: 0.099021 | F14: 222407.83 | G14: 0.593156 | H14: 73 | I14: 226759.89 | J14: 0.589041 | K14: 190 | L14: 220735.72 | M14: 0.594737 | N14: 0 | O14: 0 | P14: 0
C15: 50 a 54 años | D15: 200 | E15: 0.087108 | F15: 221380.78 | G15: 0.545 | H15: 62 | I15: 214852.15 | J15: 0.403226 | K15: 138 | L15: 224313.93 | M15: 0.608696 | N15: 0 | O15: 0 | P15: 0
C16: 55 a 59 años | D16: 147 | E16: 0.081712 | F16: 239065.16 | G16: 0.564626 | H16: 39 | I16: 217915.41 | J16: 0.282051 | K16: 108 | L16: 246702.57 | M16: 0.666667 | N16: 0 | O16: 0 | P16: 0
C17: 60 a 64 años | D17: 117 | E17: 0.089313 | F17: 248055.22 | G17: 0.478632 | H17: 37 | I17: 213050.67 | J17: 0.162162 | K17: 80 | L17: 264244.82 | M17: 0.625 | N17: 0 | O17: 0 | P17: 0
C18: 65 y más años | D18: 160 | E18: 0.08089 | F18: 244007.61 | G18: 0.34375 | H18: 57 | I18: 222942.32 | J18: 0.105263 | K18: 103 | L18: 255665.1 | M18: 0.475728 | N18: 0 | O18: 0 | P18: 0
C19: Total | D19: 2015 | E19: 0.103647 | F19: 210195.78 | G19: 0.484367 | H19: 641 | I19: 209130.66 | J19: 0.483619 | K19: 1374 | L19: 210692.69 | M19: 0.484716 | N19: 0 | O19: 0 | P19: 0
A20: 2 | B20: Cotizantes que ingresan al Sistema Isapre | C20: 0 a 19 años | D20: 17 | E20: 0.459459 | F20: 126017 | G20: 0.235294 | H20: 2 | I20: 53353.5 | J20: 0.5 | K20: 15 | L20: 135705.47 | M20: 0.2 | N20: 0 | O20: 0 | P20: 0
C21: 20 a 24 años | D21: 127 | E21: 0.427609 | F21: 139822.43 | G21: 0.070866 | H21: 28 | I21: 151569.25 | J21: 0.035714 | K21: 99 | L21: 136500.1 | M21: 0.080808 | N21: 0 | O21: 0 | P21: 0
C22: 25 a 29 años | D22: 250 | E22: 0.247036 | F22: 156654.16 | G22: 0.108 | H22: 95 | I22: 161798.48 | J22: 0.105263 | K22: 155 | L22: 153501.19 | M22: 0.109677 | N22: 0 | O22: 0 | P22: 0
C23: 30 a 34 años | D23: 222 | E23: 0.108451 | F23: 166959.34 | G23: 0.220721 | H23: 72 | I23: 171735.08 | J23: 0.263889 | K23: 150 | L23: 164666.98 | M23: 0.2 | N23: 0 | O23: 0 | P23: 0
C24: 35 a 39 años | D24: 203 | E24: 0.067825 | F24: 180640.33 | G24: 0.270936 | H24: 56 | I24: 196222.89 | J24: 0.339286 | K24: 147 | L24: 174704.11 | M24: 0.244898 | N24: 0 | O24: 0 | P24: 0
C25: 40 a 44 años | D25: 174 | E25: 0.057692 | F25: 187452.09 | G25: 0.390805 | H25: 53 | I25: 197650.34 | J25: 0.433962 | K25: 121 | L25: 182985.08 | M25: 0.371901 | N25: 0 | O25: 0 | P25: 0
C26: 45 a 49 años | D26: 113 | E26: 0.042545 | F26: 198693.63 | G26: 0.442478 | H26: 25 | I26: 194577.32 | J26: 0.36 | K26: 88 | L26: 199863.03 | M26: 0.465909 | N26: 0 | O26: 0 | P26: 0
C27: 50 a 54 años | D27: 79 | E27: 0.034408 | F27: 197380.95 | G27: 0.329114 | H27: 20 | I27: 171438.55 | J27: 0.1 | K27: 59 | L27: 206174.98 | M27: 0.40678 | N27: 0 | O27: 0 | P27: 0
C28: 55 a 59 años | D28: 40 | E28: 0.022235 | F28: 247651.23 | G28: 0.5 | H28: 5 | I28: 373754.2 | J28: 1 | K28: 35 | L28: 229636.51 | M28: 0.428571 | N28: 0 | O28: 0 | P28: 0
C29: 60 a 64 años | D29: 18 | E29: 0.01374 | F29: 229146.28 | G29: 0.333333 | H29: 4 | I29: 244456.5 | J29: 0.5 | K29: 14 | L29: 224771.93 | M29: 0.285714 | N29: 0 | O29: 0 | P29: 0
C30: 65 y más años | D30: 11 | E30: 0.005561 | F30: 237338.09 | G30: 0.090909 | H30: 6 | I30: 185735.17 | J30: 0 | K30: 5 | L30: 299261.6 | M30: 0.2 | N30: 0 | O30: 0 | P30: 0
C31: Total | D31: 1254 | E31: 0.064503 | F31: 175519.76 | G31: 0.251196 | H31: 366 | I31: 179793.96 | J31: 0.248634 | K31: 888 | L31: 173758.09 | M31: 0.252252 | N31: 0 | O31: 0 | P31: 0
A32: 3 | B32: Diferencia de Cotizantes | C32: 0 a 19 años | D32: 13 | E32: 0 | F32: 42992.953 | G32: 0.235294 | H32: 2 | I32: 53353.5 | J32: 0.5 | K32: 11 | L32: 52681.42 | M32: 0.2 | N32: 0 | O32: 0 | P32: 0
C33: 20 a 24 años | D33: 100 | E33: 0 | F33: 18201.591 | G33: -0.003208 | H33: 22 | I33: 35373.732 | J33: -0.297619 | K33: 78 | L33: 13329.166 | M33: 0.080808 | N33: 0 | O33: 0 | P33: 0
C34: 25 a 29 años | D34: 109 | E34: 0 | F34: 1833.1892 | G34: -0.062213 | H34: 53 | I34: 622.28788 | J34: -0.037594 | K34: 56 | L34: 1376.3726 | M34: -0.072141 | N34: 0 | O34: 0 | P34: 0
C35: 30 a 34 años | D35: -55 | E35: 0 | F35: -15004.014 | G35: -0.154731 | H35: -24 | I35: -19599.194 | J35: -0.371528 | K35: -31 | L35: -12326.157 | M35: -0.037569 | N35: 0 | O35: 0 | P35: 0
C36: 35 a 39 años | D36: -143 | E36: 0 | F36: -19479.157 | G36: -0.246405 | H36: -75 | I36: -11830.57 | J36: -0.309569 | K36: -68 | L36: -20581.18 | M36: -0.192311 | N36: 0 | O36: 0 | P36: 0
C37: 40 a 44 años | D37: -159 | E37: 0 | F37: -30199.651 | G37: -0.23382 | H37: -45 | I37: -26834.265 | J37: -0.229303 | K37: -114 | L37: -31817.203 | M37: -0.23661 | N37: 0 | O37: 0 | P37: 0
C38: 45 a 49 años | D38: -150 | E38: 0 | F38: -23714.201 | G38: -0.150678 | H38: -48 | I38: -32182.573 | J38: -0.229041 | K38: -102 | L38: -20872.686 | M38: -0.128828 | N38: 0 | O38: 0 | P38: 0
C39: 50 a 54 años | D39: -121 | E39: 0 | F39: -23999.827 | G39: -0.215886 | H39: -42 | I39: -43413.598 | J39: -0.303226 | K39: -79 | L39: -18138.945 | M39: -0.201916 | N39: 0 | O39: 0 | P39: 0
C40: 55 a 59 años | D40: -107 | E40: 0 | F40: 8586.0608 | G40: -0.064626 | H40: -34 | I40: 155838.79 | J40: 0.717949 | K40: -73 | L40: -17066.06 | M40: -0.238095 | N40: 0 | O40: 0 | P40: 0
C41: 60 a 64 años | D41: -99 | E41: 0 | F41: -18908.941 | G41: -0.145299 | H41: -33 | I41: 31405.825 | J41: 0.337838 | K41: -66 | L41: -39472.892 | M41: -0.339286 | N41: 0 | O41: 0 | P41: 0
C42: 65 y más años | D42: -149 | E42: 0 | F42: -6669.517 | G42: -0.252841 | H42: -51 | I42: -37207.156 | J42: -0.105263 | K42: -98 | L42: 43596.504 | M42: -0.275728 | N42: 0 | O42: 0 | P42: 0
C43: Total | D43: -761 | E43: 0 | F43: -34676.026 | G43: -0.233171 | H43: -275 | I43: -29336.698 | J43: -0.234985 | K43: -486 | L43: -36934.595 | M43: -0.232464 | N43: 0 | O43: 0 | P43: 0
...

Sheet II
A2: II - REGIÓN DE ANTOFAGASTA
A3: =+Notas!C6 -> AGOSTO 2025 Y AGOSTO 2026
A6: N° | B6: Cuadro | C6: Tramo de Edad | D6: Sistema Isapre | H6: Sexo Femenino | K6: Sexo Masculino | N6: Sin Información Sexo
D7: N° Cotizantes | E7: % de Cotizantes Vigentes | F7: Cotización Pactada Promedio por Cotizante ($) | G7: N° Cargas Promedio por Cotizante | H7: N° Cotizantes | I7: Cotización Pactada Promedio por Cotizante ($) | J7: N° Cargas Promedio por Cotizante | K7: N° Cotizantes | L7: Cotización Pactada Promedio por Cotizante ($) | M7: N° Cargas Promedio por Cotizante | N7: N° Cotizantes | O7: Cotización Pactada Promedio por Cotizante ($) | P7: N° Cargas Promedio por Cotizante
A8: 1 | B8: Cotizantes que abandonan el Sistema Isapre | C8: 0 a 19 años | D8: 13 | E8: 0.1625 | F8: 77497.954 | G8: 0.153846 | H8: 7 | I8: 95673.798 | J8: 0.285714 | K8: 6 | L8: 56292.802 | M8: 0 | N8: 0 | O8: 0 | P8: 0
C9: 20 a 24 años | D9: 109 | E9: 0.178982 | F9: 124595.2 | G9: 0.119266 | H9: 30 | I9: 128719.91 | J9: 0.1 | K9: 79 | L9: 123028.86 | M9: 0.126582 | N9: 0 | O9: 0 | P9: 0
C10: 25 a 29 años | D10: 489 | E10: 0.134304 | F10: 155372.83 | G10: 0.202454 | H10: 169 | I10: 160339.43 | J10: 0.248521 | K10: 320 | L10: 152749.85 | M10: 0.178125 | N10: 0 | O10: 0 | P10: 0
C11: 30 a 34 años | D11: 886 | E11: 0.108062 | F11: 182029.79 | G11: 0.356659 | H11: 291 | I11: 181858.2 | J11: 0.419244 | K11: 595 | L11: 182113.71 | M11: 0.32605 | N11: 0 | O11: 0 | P11: 0
C12: 35 a 39 años | D12: 978 | E12: 0.091163 | F12: 206212.53 | G12: 0.615542 | H12: 338 | I12: 201133.98 | J12: 0.523669 | K12: 640 | L12: 208894.64 | M12: 0.664063 | N12: 0 | O12: 0 | P12: 0
C13: 40 a 44 años | D13: 772 | E13: 0.08262 | F13: 226772.01 | G13: 0.765544 | H13: 250 | I13: 214012.68 | J13: 0.54 | K13: 522 | L13: 232882.8 | M13: 0.873563 | N13: 0 | O13: 0 | P13: 0
C14: 45 a 49 años | D14: 566 | E14: 0.06751 | F14: 238643.97 | G14: 0.892226 | H14: 162 | I14: 209120.35 | J14: 0.450617 | K14: 404 | L14: 250482.65 | M14: 1.069307 | N14: 0 | O14: 0 | P14: 0
C15: 50 a 54 años | D15: 515 | E15: 0.067347 | F15: 238769.56 | G15: 0.809709 | H15: 158 | I15: 207433.22 | J15: 0.443038 | K15: 357 | L15: 252638.31 | M15: 0.971989 | N15: 0 | O15: 0 | P15: 0
C16: 55 a 59 años | D16: 382 | E16: 0.067194 | F16: 244637.33 | G16: 0.769634 | H16: 95 | I16: 207274.58 | J16: 0.315789 | K16: 287 | L16: 257004.79 | M16: 0.919861 | N16: 0 | O16: 0 | P16: 0
C17: 60 a 64 años | D17: 384 | E17: 0.087372 | F17: 239226.12 | G17: 0.627604 | H17: 115 | I17: 208203.93 | J17: 0.191304 | K17: 269 | L17: 252488.4 | M17: 0.814126 | N17: 0 | O17: 0 | P17: 0
C18: 65 y más años | D18: 452 | E18: 0.064205 | F18: 261722.78 | G18: 0.548673 | H18: 123 | I18: 210818.79 | J18: 0.113821 | K18: 329 | L18: 280753.75 | M18: 0.711246 | N18: 0 | O18: 0 | P18: 0
C19: Total | D19: 5546 | E19: 0.084347 | F19: 214612.28 | G19: 0.600072 | H19: 1738 | I19: 196923.51 | J19: 0.397008 | K19: 3808 | L19: 222685.57 | M19: 0.692752 | N19: 0 | O19: 0 | P19: 0
A20: 2 | B20: Cotizantes que ingresan al Sistema Isapre | C20: 0 a 19 años | D20: 39 | E20: 0.4875 | F20: 92918.538 | G20: 0.051282 | H20: 19 | I20: 88373.105 | J20: 0.105263 | K20: 20 | L20: 97236.7 | M20: 0 | N20: 0 | O20: 0 | P20: 0
C21: 20 a 24 años | D21: 308 | E21: 0.505747 | F21: 133212.78 | G21: 0.084416 | H21: 102 | I21: 145943.27 | J21: 0.098039 | K21: 206 | L21: 126909.33 | M21: 0.07767 | N21: 0 | O21: 0 | P21: 0
C22: 25 a 29 años | D22: 921 | E22: 0.252952 | F22: 152198.87 | G22: 0.115092 | H22: 351 | I22: 161019.41 | J22: 0.094017 | K22: 570 | L22: 146767.27 | M22: 0.12807 | N22: 0 | O22: 0 | P22: 0
C23: 30 a 34 años | D23: 851 | E23: 0.103793 | F23: 167993.66 | G23: 0.239718 | H23: 298 | I23: 176138.87 | J23: 0.255034 | K23: 553 | L23: 163604.38 | M23: 0.231465 | N23: 0 | O23: 0 | P23: 0
C24: 35 a 39 años | D24: 652 | E24: 0.060776 | F24: 186120.13 | G24: 0.378834 | H24: 216 | I24: 191233.76 | J24: 0.384259 | K24: 436 | L24: 183586.77 | M24: 0.376147 | N24: 0 | O24: 0 | P24: 0
C25: 40 a 44 años | D25: 458 | E25: 0.049015 | F25: 199028.26 | G25: 0.467249 | H25: 165 | I25: 195812.5 | J25: 0.375758 | K25: 293 | L25: 200839.19 | M25: 0.518771 | N25: 0 | O25: 0 | P25: 0
C26: 45 a 49 años | D26: 335 | E26: 0.039957 | F26: 206417.82 | G26: 0.495522 | H26: 114 | I26: 198667.68 | J26: 0.342105 | K26: 221 | L26: 210415.64 | M26: 0.574661 | N26: 0 | O26: 0 | P26: 0
C27: 50 a 54 años | D27: 260 | E27: 0.034 | F27: 202802.15 | G27: 0.430769 | H27: 63 | I27: 184108.59 | J27: 0.238095 | K27: 197 | L27: 208780.3 | M27: 0.492386 | N27: 0 | O27: 0 | P27: 0
C28: 55 a 59 años | D28: 116 | E28: 0.020405 | F28: 210346.98 | G28: 0.396552 | H28: 33 | I28: 195376.58 | J28: 0.212121 | K28: 83 | L28: 216299.07 | M28: 0.46988 | N28: 0 | O28: 0 | P28: 0
C29: 60 a 64 años | D29: 52 | E29: 0.011832 | F29: 220779.88 | G29: 0.307692 | H29: 12 | I29: 163594.25 | J29: 0 | K29: 40 | L29: 237935.58 | M29: 0.4 | N29: 0 | O29: 0 | P29: 0
C30: 65 y más años | D30: 52 | E30: 0.007386 | F30: 159940.4 | G30: 0.096154 | H30: 43 | I30: 134520 | J30: 0.023256 | K30: 9 | L30: 281393.44 | M30: 0.444444 | N30: 0 | O30: 0 | P30: 0
C31: Total | D31: 4044 | E31: 0.061504 | F31: 174671.77 | G31: 0.282888 | H31: 1416 | I31: 174879.89 | J31: 0.231638 | K31: 2628 | L31: 174559.63 | M31: 0.310502 | N31: 0 | O31: 0 | P31: 0
A32: 3 | B32: Diferencia de Cotizantes | C32: 0 a 19 años | D32: 26 | E32: 0 | F32: 15420.585 | G32: -0.102564 | H32: 12 | I32: -7300.6926 | J32: -0.180451 | K32: 14 | L32: 40943.898 | M32: 0 | N32: 0 | O32: 0 | P32: 0
C33: 20 a 24 años | D33: 199 | E33: 0 | F33: 8617.5791 | G33: -0.03485 | H33: 72 | I33: 17223.365 | J33: -0.001961 | K33: 127 | L33: 3880.4755 | M33: -0.048912 | N33: 0 | O33: 0 | P33: 0
C34: 25 a 29 años | D34: 432 | E34: 0 | F34: -3173.9648 | G34: -0.087362 | H34: 182 | I34: 679.98314 | J34: -0.154504 | K34: 250 | L34: -5982.5792 | M34: -0.050055 | N34: 0 | O34: 0 | P34: 0
C35: 30 a 34 años | D35: -35 | E35: 0 | F35: -14036.13 | G35: -0.116941 | H35: 7 | I35: -5719.3305 | J35: -0.16421 | K35: -42 | L35: -18509.331 | M35: -0.094586 | N35: 0 | O35: 0 | P35: 0
C36: 35 a 39 años | D36: -326 | E36: 0 | F36: -20092.403 | G36: -0.236708 | H36: -122 | I36: -9900.2115 | J36: -0.139409 | K36: -204 | L36: -25307.876 | M36: -0.287916 | N36: 0 | O36: 0 | P36: 0
C37: 40 a 44 años | D37: -314 | E37: 0 | F37: -27743.748 | G37: -0.298295 | H37: -85 | I37: -18200.188 | J37: -0.164242 | K37: -229 | L37: -32043.61 | M37: -0.354792 | N37: 0 | O37: 0 | P37: 0
C38: 45 a 49 años | D38: -231 | E38: 0 | F38: -32226.145 | G38: -0.396704 | H38: -48 | I38: -10452.672 | J38: -0.108512 | K38: -183 | L38: -40067.011 | M38: -0.494646 | N38: 0 | O38: 0 | P38: 0
C39: 50 a 54 años | D39: -255 | E39: 0 | F39: -35967.409 | G39: -0.37894 | H39: -95 | I39: -23324.637 | J39: -0.204943 | K39: -160 | L39: -43858.007 | M39: -0.479603 | N39: 0 | O39: 0 | P39: 0
C40: 55 a 59 años | D40: -266 | E40: 0 | F40: -34290.346 | G40: -0.373082 | H40: -62 | I40: -11898.008 | J40: -0.103668 | K40: -204 | L40: -40705.716 | M40: -0.449981 | N40: 0 | O40: 0 | P40: 0
C41: 60 a 64 años | D41: -332 | E41: 0 | F41: -18446.238 | G41: -0.319912 | H41: -103 | I41: -44609.682 | J41: -0.191304 | K41: -229 | L41: -14552.822 | M41: -0.414126 | N41: 0 | O41: 0 | P41: 0
C42: 65 y más años | D42: -400 | E42: 0 | F42: -101782.37 | G42: -0.452519 | H42: -80 | I42: -76298.791 | J42: -0.090565 | K42: -320 | L42: 639.69558 | M42: -0.266802 | N42: 0 | O42: 0 | P42: 0
C43: Total | D43: -1502 | E43: 0 | F43: -39940.513 | G43: -0.317184 | H43: -322 | I43: -22043.619 | J43: -0.16537 | K43: -1180 | L43: -48125.941 | M43: -0.38225 | N43: 0 | O43: 0 | P43: 0
...

Sheet III
A2: III - REGIÓN DE ATACAMA
A3: =+Notas!C6 -> AGOSTO 2025 Y AGOSTO 2026
A6: N° | B6: Cuadro | C6: Tramo de Edad | D6: Sistema Isapre | H6: Sexo Femenino | K6: Sexo Masculino | N6: Sin Información Sexo
D7: N° Cotizantes | E7: % de Cotizantes Vigentes | F7: Cotización Pactada Promedio por Cotizante ($) | G7: N° Cargas Promedio por Cotizante | H7: N° Cotizantes | I7: Cotización Pactada Promedio por Cotizante ($) | J7: N° Cargas Promedio por Cotizante | K7: N° Cotizantes | L7: Cotización Pactada Promedio por Cotizante ($) | M7: N° Cargas Promedio por Cotizante | N7: N° Cotizantes | O7: Cotización Pactada Promedio por Cotizante ($) | P7: N° Cargas Promedio por Cotizante
A8: 1 | B8: Cotizantes que abandonan el Sistema Isapre | C8: 0 a 19 años | D8: 3 | E8: 0.142857 | F8: 60734.732 | G8: 0 | H8: 2 | I8: 71824.633 | J8: 0 | K8: 1 | L8: 38554.931 | M8: 0 | N8: 0 | O8: 0 | P8: 0
C9: 20 a 24 años | D9: 14 | E9: 0.147368 | F9: 124174.4 | G9: 0 | H9: 0 | I9: 0 | J9: 0 | K9: 14 | L9: 124174.4 | M9: 0 | N9: 0 | O9: 0 | P9: 0
C10: 25 a 29 años | D10: 93 | E10: 0.138599 | F10: 147382.53 | G10: 0.16129 | H10: 25 | I10: 143672.72 | J10: 0.12 | K10: 68 | L10: 148746.43 | M10: 0.176471 | N10: 0 | O10: 0 | P10: 0
C11: 30 a 34 años | D11: 209 | E11: 0.103057 | F11: 172231.85 | G11: 0.272727 | H11: 66 | I11: 174735.27 | J11: 0.378788 | K11: 143 | L11: 171076.42 | M11: 0.223776 | N11: 0 | O11: 0 | P11: 0
C12: 35 a 39 años | D12: 274 | E12: 0.096275 | F12: 200542.82 | G12: 0.529197 | H12: 68 | I12: 205008.22 | J12: 0.602941 | K12: 206 | L12: 199068.8 | M12: 0.504854 | N12: 0 | O12: 0 | P12: 0
C13: 40 a 44 años | D13: 236 | E13: 0.092296 | F13: 222979.07 | G13: 0.733051 | H13: 62 | I13: 219450.86 | J13: 0.612903 | K13: 174 | L13: 224236.24 | M13: 0.775862 | N13: 0 | O13: 0 | P13: 0
C14: 45 a 49 años | D14: 171 | E14: 0.072396 | F14: 230439.33 | G14: 0.807018 | H14: 38 | I14: 226714.56 | J14: 0.578947 | K14: 133 | L14: 231503.55 | M14: 0.87218 | N14: 0 | O14: 0 | P14: 0
C15: 50 a 54 años | D15: 135 | E15: 0.069124 | F15: 235108.78 | G15: 0.844444 | H15: 29 | I15: 202947.5 | J15: 0.37931 | K15: 106 | L15: 243907.62 | M15: 0.971698 | N15: 0 | O15: 0 | P15: 0
C16: 55 a 59 años | D16: 120 | E16: 0.077922 | F16: 239539.83 | G16: 0.65 | H16: 26 | I16: 220929.62 | J16: 0.423077 | K16: 94 | L16: 244687.33 | M16: 0.712766 | N16: 0 | O16: 0 | P16: 0
C17: 60 a 64 años | D17: 124 | E17: 0.107732 | F17: 265086.83 | G17: 0.774194 | H17: 28 | I17: 199549.23 | J17: 0.178571 | K17: 96 | L17: 284201.97 | M17: 0.947917 | N17: 0 | O17: 0 | P17: 0
C18: 65 y más años | D18: 135 | E18: 0.096913 | F18: 254129.48 | G18: 0.614815 | H18: 32 | I18: 209651.29 | J18: 0.15625 | K18: 103 | L18: 267947.95 | M18: 0.757282 | N18: 0 | O18: 0 | P18: 0
C19: Total | D19: 1514 | E19: 0.091112 | F19: 215497.56 | G19: 0.593791 | H19: 376 | I19: 200413.64 | J19: 0.428191 | K19: 1138 | L19: 220481.35 | M19: 0.648506 | N19: 0 | O19: 0 | P19: 0
A20: 2 | B20: Cotizantes que ingresan al Sistema Isapre | C20: 0 a 19 años | D20: 6 | E20: 0.285714 | F20: 68470.833 | G20: 0.333333 | H20: 2 | I20: 47904.5 | J20: 0.5 | K20: 4 | L20: 78754 | M20: 0.25 | N20: 0 | O20: 0 | P20: 0
C21: 20 a 24 años | D21: 49 | E21: 0.515789 | F21: 128657.35 | G21: 0.081633 | H21: 11 | I21: 147792.36 | J21: 0 | K21: 38 | L21: 123118.26 | M21: 0.105263 | N21: 0 | O21: 0 | P21: 0
C22: 25 a 29 años | D22: 201 | E22: 0.299553 | F22: 158458.81 | G22: 0.124378 | H22: 62 | I22: 176245.4 | J22: 0.16129 | K22: 139 | L22: 150525.22 | M22: 0.107914 | N22: 0 | O22: 0 | P22: 0
C23: 30 a 34 años | D23: 242 | E23: 0.119329 | F23: 172527.09 | G23: 0.210744 | H23: 76 | I23: 184025.67 | J23: 0.25 | K23: 166 | L23: 167262.68 | M23: 0.192771 | N23: 0 | O23: 0 | P23: 0
C24: 35 a 39 años | D24: 180 | E24: 0.063247 | F24: 192401.28 | G24: 0.394444 | H24: 57 | I24: 208841.74 | J24: 0.578947 | K24: 123 | L24: 184782.54 | M24: 0.308943 | N24: 0 | O24: 0 | P24: 0
C25: 40 a 44 años | D25: 120 | E25: 0.04693 | F25: 201048.4 | G25: 0.516667 | H25: 28 | I25: 206515.89 | J25: 0.5 | K25: 92 | L25: 199384.38 | M25: 0.521739 | N25: 0 | O25: 0 | P25: 0
C26: 45 a 49 años | D26: 92 | E26: 0.03895 | F26: 219314.5 | G26: 0.565217 | H26: 28 | I26: 214539.21 | J26: 0.607143 | K26: 64 | L26: 221403.69 | M26: 0.546875 | N26: 0 | O26: 0 | P26: 0
C27: 50 a 54 años | D27: 65 | E27: 0.033282 | F27: 207125.91 | G27: 0.507692 | H27: 15 | I27: 183714.4 | J27: 0.266667 | K27: 50 | L27: 214149.36 | M27: 0.58 | N27: 0 | O27: 0 | P27: 0
C28: 55 a 59 años | D28: 28 | E28: 0.018182 | F28: 207148.75 | G28: 0.357143 | H28: 4 | I28: 136864.5 | J28: 0 | K28: 24 | L28: 218862.79 | M28: 0.416667 | N28: 0 | O28: 0 | P28: 0
C29: 60 a 64 años | D29: 13 | E29: 0.011295 | F29: 213913.54 | G29: 0.461538 | H29: 5 | I29: 153682.6 | J29: 0.2 | K29: 8 | L29: 251557.88 | M29: 0.625 | N29: 0 | O29: 0 | P29: 0
C30: 65 y más años | D30: 10 | E30: 0.007179 | F30: 164185.2 | G30: 0 | H30: 6 | I30: 98921.5 | J30: 0 | K30: 4 | L30: 262080.75 | M30: 0 | N30: 0 | O30: 0 | P30: 0
C31: Total | D31: 1006 | E31: 0.06054 | F31: 181846.78 | G31: 0.314115 | H31: 294 | I31: 187052.14 | J31: 0.336735 | K31: 712 | L31: 179697.38 | M31: 0.304775 | N31: 0 | O31: 0 | P31: 0
A32: 3 | B32: Diferencia de Cotizantes | C32: 0 a 19 años | D32: 3 | E32: 0 | F32: 7736.1008 | G32: 0.333333 | H32: 0 | I32: -23920.133 | J32: 0.5 | K32: 3 | L32: 40199.069 | M32: 0.25 | N32: 0 | O32: 0 | P32: 0
C33: 20 a 24 años | D33: 35 | E33: 0 | F33: 4482.95 | G33: 0.081633 | H33: 11 | I33: 147792.36 | J33: 0 | K33: 24 | L33: -1056.1337 | M33: 0.105263 | N33: 0 | O33: 0 | P33: 0
C34: 25 a 29 años | D34: 108 | E34: 0 | F34: 11076.278 | G34: -0.036912 | H34: 37 | I34: 32572.686 | J34: 0.04129 | K34: 71 | L34: 1778.787 | M34: -0.068557 | N34: 0 | O34: 0 | P34: 0
C35: 30 a 34 años | D35: 33 | E35: 0 | F35: 295.2413 | G35: -0.061983 | H35: 10 | I35: 9290.3997 | J35: -0.128788 | K35: 23 | L35: -3813.7435 | M35: -0.031005 | N35: 0 | O35: 0 | P35: 0
C36: 35 a 39 años | D36: -94 | E36: 0 | F36: -8141.533 | G36: -0.134753 | H36: -11 | I36: 3833.5161 | J36: -0.023994 | K36: -83 | L36: -14286.263 | M36: -0.195911 | N36: 0 | O36: 0 | P36: 0
C37: 40 a 44 años | D37: -116 | E37: 0 | F37: -21930.667 | G37: -0.216384 | H37: -34 | I37: -12934.966 | J37: -0.112903 | K37: -82 | L37: -24851.864 | M37: -0.254123 | N37: 0 | O37: 0 | P37: 0
C38: 45 a 49 años | D38: -79 | E38: 0 | F38: -11124.832 | G38: -0.2418 | H38: -10 | I38: -12175.341 | J38: 0.028195 | K38: -69 | L38: -10099.867 | M38: -0.325305 | N38: 0 | O38: 0 | P38: 0
C39: 50 a 54 años | D39: -70 | E39: 0 | F39: -27982.87 | G39: -0.336752 | H39: -14 | I39: -19233.102 | J39: -0.112644 | K39: -56 | L39: -29758.258 | M39: -0.391698 | N39: 0 | O39: 0 | P39: 0
C40: 55 a 59 años | D40: -92 | E40: 0 | F40: -32391.081 | G40: -0.292857 | H40: -22 | I40: -84065.124 | J40: -0.423077 | K40: -70 | L40: -25824.543 | M40: -0.296099 | N40: 0 | O40: 0 | P40: 0
C41: 60 a 64 años | D41: -111 | E41: 0 | F41: -51173.296 | G41: -0.312655 | H41: -23 | I41: -45866.63 | J41: 0.021429 | K41: -88 | L41: -32644.094 | M41: -0.322917 | N41: 0 | O41: 0 | P41: 0
C42: 65 y más años | D42: -125 | E42: 0 | F42: -89944.28 | G42: -0.614815 | H42: -26 | I42: -110729.79 | J42: -0.15625 | K42: -99 | L42: -5867.1987 | M42: -0.757282 | N42: 0 | O42: 0 | P42: 0
C43: Total | D43: -508 | E43: 0 | F43: -33650.78 | G43: -0.279676 | H43: -82 | I43: -13361.498 | J43: -0.091457 | K43: -426 | L43: -40783.976 | M43: -0.343731 | N43: 0 | O43: 0 | P43: 0
...

Sheet IV
A2: IV - REGIÓN DE COQUIMBO
A3: =+Notas!C6 -> AGOSTO 2025 Y AGOSTO 2026
A6: N° | B6: Cuadro | C6: Tramo de Edad | D6: Sistema Isapre | H6: Sexo Femenino | K6: Sexo Masculino | N6: Sin Información Sexo
D7: N° Cotizantes | E7: % de Cotizantes Vigentes | F7: Cotización Pactada Promedio por Cotizante ($) | G7: N° Cargas Promedio por Cotizante | H7: N° Cotizantes | I7: Cotización Pactada Promedio por Cotizante ($) | J7: N° Cargas Promedio por Cotizante | K7: N° Cotizantes | L7: Cotización Pactada Promedio por Cotizante ($) | M7: N° Cargas Promedio por Cotizante | N7: N° Cotizantes | O7: Cotización Pactada Promedio por Cotizante ($) | P7: N° Cargas Promedio por Cotizante
A8: 1 | B8: Cotizantes que abandonan el Sistema Isapre | C8: 0 a 19 años | D8: 8 | E8: 0.285714 | F8: 81519.728 | G8: 0.125 | H8: 7 | I8: 78351.711 | J8: 0.142857 | K8: 1 | L8: 103695.84 | M8: 0 | N8: 0 | O8: 0 | P8: 0
C9: 20 a 24 años | D9: 37 | E9: 0.159483 | F9: 116975.22 | G9: 0.054054 | H9: 14 | I9: 118913.94 | J9: 0.071429 | K9: 23 | L9: 115795.14 | M9: 0.043478 | N9: 0 | O9: 0 | P9: 0
C10: 25 a 29 años | D10: 189 | E10: 0.120844 | F10: 149754.45 | G10: 0.148148 | H10: 74 | I10: 151015.35 | J10: 0.216216 | K10: 115 | L10: 148943.08 | M10: 0.104348 | N10: 0 | O10: 0 | P10: 0
C11: 30 a 34 años | D11: 428 | E11: 0.111749 | F11: 177355.48 | G11: 0.308411 | H11: 149 | I11: 189523.32 | J11: 0.442953 | K11: 279 | L11: 170857.24 | M11: 0.236559 | N11: 0 | O11: 0 | P11: 0
C12: 35 a 39 años | D12: 561 | E12: 0.097667 | F12: 209673.86 | G12: 0.579323 | H12: 174 | I12: 211873.41 | J12: 0.597701 | K12: 387 | L12: 208684.91 | M12: 0.571059 | N12: 0 | O12: 0 | P12: 0
C13: 40 a 44 años | D13: 451 | E13: 0.085417 | F13: 224146.54 | G13: 0.75388 | H13: 129 | I13: 211612.64 | J13: 0.511628 | K13: 322 | L13: 229167.89 | M13: 0.850932 | N13: 0 | O13: 0 | P13: 0
C14: 45 a 49 años | D14: 356 | E14: 0.075169 | F14: 249921.97 | G14: 0.969101 | H14: 75 | I14: 233361.12 | J14: 0.666667 | K14: 281 | L14: 254342.13 | M14: 1.049822 | N14: 0 | O14: 0 | P14: 0
C15: 50 a 54 años | D15: 285 | E15: 0.068052 | F15: 253083.94 | G15: 0.968421 | H15: 74 | I15: 205140.84 | J15: 0.432432 | K15: 211 | L15: 269898.11 | M15: 1.156398 | N15: 0 | O15: 0 | P15: 0
C16: 55 a 59 años | D16: 204 | E16: 0.065197 | F16: 259362.62 | G16: 0.926471 | H16: 48 | I16: 217716.73 | J16: 0.416667 | K16: 156 | L16: 272176.74 | M16: 1.083333 | N16: 0 | O16: 0 | P16: 0
C17: 60 a 64 años | D17: 244 | E17: 0.099796 | F17: 260822.92 | G17: 0.72541 | H17: 74 | I17: 226833.73 | J17: 0.256757 | K17: 170 | L17: 275618.21 | M17: 0.929412 | N17: 0 | O17: 0 | P17: 0
C18: 65 y más años | D18: 303 | E18: 0.072436 | F18: 246444.98 | G18: 0.541254 | H18: 102 | I18: 201370.81 | J18: 0.107843 | K18: 201 | L18: 269318.43 | M18: 0.761194 | N18: 0 | O18: 0 | P18: 0
C19: Total | D19: 3066 | E19: 0.086711 | F19: 221863.61 | G19: 0.645466 | H19: 920 | I19: 202445.43 | J19: 0.419565 | K19: 2146 | L19: 230188.28 | M19: 0.742311 | N19: 0 | O19: 0 | P19: 0
A20: 2 | B20: Cotizantes que ingresan al Sistema Isapre | C20: 0 a 19 años | D20: 17 | E20: 0.607143 | F20: 78464.882 | G20: 0 | H20: 4 | I20: 110041.25 | J20: 0 | K20: 13 | L20: 68749.077 | M20: 0 | N20: 0 | O20: 0 | P20: 0
C21: 20 a 24 años | D21: 125 | E21: 0.538793 | F21: 134133.57 | G21: 0.088 | H21: 27 | I21: 143520.22 | J21: 0.111111 | K21: 98 | L21: 131547.45 | M21: 0.081633 | N21: 0 | O21: 0 | P21: 0
C22: 25 a 29 años | D22: 533 | E22: 0.340793 | F22: 160612.1 | G22: 0.120075 | H22: 168 | I22: 172271.33 | J22: 0.130952 | K22: 365 | L22: 155245.66 | M22: 0.115068 | N22: 0 | O22: 0 | P22: 0
C23: 30 a 34 años | D23: 584 | E23: 0.15248 | F23: 173932.16 | G23: 0.282534 | H23: 202 | I23: 182969.04 | J23: 0.242574 | K23: 382 | L23: 169153.49 | M23: 0.303665 | N23: 0 | O23: 0 | P23: 0
C24: 35 a 39 años | D24: 472 | E24: 0.082173 | F24: 190202.75 | G24: 0.411017 | H24: 127 | I24: 186154.41 | J24: 0.370079 | K24: 345 | L24: 191693 | M24: 0.426087 | N24: 0 | O24: 0 | P24: 0
C25: 40 a 44 años | D25: 342 | E25: 0.064773 | F25: 206379.08 | G25: 0.549708 | H25: 80 | I25: 205888.15 | J25: 0.475 | K25: 262 | L25: 206528.98 | M25: 0.572519 | N25: 0 | O25: 0 | P25: 0
C26: 45 a 49 años | D26: 237 | E26: 0.050042 | F26: 210187.42 | G26: 0.611814 | H26: 70 | I26: 212721.01 | J26: 0.585714 | K26: 167 | L26: 209125.44 | M26: 0.622754 | N26: 0 | O26: 0 | P26: 0
C27: 50 a 54 años | D27: 159 | E27: 0.037966 | F27: 210289.11 | G27: 0.509434 | H27: 51 | I27: 192594.49 | J27: 0.333333 | K27: 108 | L27: 218644.91 | M27: 0.592593 | N27: 0 | O27: 0 | P27: 0
C28: 55 a 59 años | D28: 73 | E28: 0.02333 | F28: 237569.9 | G28: 0.547945 | H28: 16 | I28: 246712.81 | J28: 0.5 | K28: 57 | L28: 235003.47 | M28: 0.561404 | N28: 0 | O28: 0 | P28: 0
C29: 60 a 64 años | D29: 39 | E29: 0.015951 | F29: 227425.44 | G29: 0.333333 | H29: 8 | I29: 206692.62 | J29: 0.25 | K29: 31 | L29: 232775.84 | M29: 0.354839 | N29: 0 | O29: 0 | P29: 0
C30: 65 y más años | D30: 29 | E30: 0.006933 | F30: 184446.45 | G30: 0.068966 | H30: 20 | I30: 115324.95 | J30: 0 | K30: 9 | L30: 338049.78 | M30: 0.222222 | N30: 0 | O30: 0 | P30: 0
C31: Total | D31: 2610 | E31: 0.073814 | F31: 184081.26 | G31: 0.345977 | H31: 773 | I31: 184928.12 | J31: 0.293661 | K31: 1837 | L31: 183724.91 | M31: 0.367991 | N31: 0 | O31: 0 | P31: 0
A32: 3 | B32: Diferencia de Cotizantes | C32: 0 a 19 años | D32: 9 | E32: 0 | F32: -3054.8453 | G32: -0.125 | H32: -3 | I32: 31689.539 | J32: -0.142857 | K32: 12 | L32: -34946.765 | M32: 0 | N32: 0 | O32: 0 | P32: 0
C33: 20 a 24 años | D33: 88 | E33: 0 | F33: 17158.344 | G33: 0.033946 | H33: 13 | I33: 24606.284 | J33: 0.039683 | K33: 75 | L33: 15752.311 | M33: 0.038154 | N33: 0 | O33: 0 | P33: 0
C34: 25 a 29 años | D34: 344 | E34: 0 | F34: 10857.65 | G34: -0.028073 | H34: 94 | I34: 21255.977 | J34: -0.085264 | K34: 250 | L34: 6302.5744 | M34: 0.010721 | N34: 0 | O34: 0 | P34: 0
C35: 30 a 34 años | D35: 156 | E35: 0 | F35: -3423.3166 | G35: -0.025877 | H35: 53 | I35: -6554.2786 | J35: -0.200379 | K35: 103 | L35: -1703.7427 | M35: 0.067106 | N35: 0 | O35: 0 | P35: 0
C36: 35 a 39 años | D36: -89 | E36: 0 | F36: -19471.11 | G36: -0.168306 | H36: -47 | I36: -25718.996 | J36: -0.227622 | K36: -42 | L36: -16991.908 | M36: -0.144972 | N36: 0 | O36: 0 | P36: 0
C37: 40 a 44 años | D37: -109 | E37: 0 | F37: -17767.466 | G37: -0.204173 | H37: -49 | I37: -5724.4858 | J37: -0.036628 | K37: -60 | L37: -22638.912 | M37: -0.278413 | N37: 0 | O37: 0 | P37: 0
C38: 45 a 49 años | D38: -119 | E38: 0 | F38: -39734.551 | G38: -0.357287 | H38: -5 | I38: -20640.104 | J38: -0.080952 | K38: -114 | L38: -45216.693 | M38: -0.427068 | N38: 0 | O38: 0 | P38: 0
C39: 50 a 54 años | D39: -126 | E39: 0 | F39: -42794.824 | G39: -0.458987 | H39: -23 | I39: -12546.348 | J39: -0.099099 | K39: -103 | L39: -51253.198 | M39: -0.563806 | N39: 0 | O39: 0 | P39: 0
C40: 55 a 59 años | D40: -131 | E40: 0 | F40: -21792.714 | G40: -0.378525 | H40: -32 | I40: 28996.079 | J40: 0.083333 | K40: -99 | L40: -37173.262 | M40: -0.52193 | N40: 0 | O40: 0 | P40: 0
C41: 60 a 64 años | D41: -205 | E41: 0 | F41: -33397.485 | G41: -0.392077 | H41: -66 | I41: -20141.109 | J41: -0.006757 | K41: -139 | L41: -42842.375 | M41: -0.574573 | N41: 0 | O41: 0 | P41: 0
C42: 65 y más años | D42: -274 | E42: 0 | F42: -61998.529 | G42: -0.472289 | H42: -82 | I42: -86045.863 | J42: -0.107843 | K42: -192 | L42: 68731.344 | M42: -0.538972 | N42: 0 | O42: 0 | P42: 0
C43: Total | D43: -456 | E43: 0 | F43: -37782.35 | G43: -0.299489 | H43: -147 | I43: -17517.313 | J43: -0.125904 | K43: -309 | L43: -46463.365 | M43: -0.37432 | N43: 0 | O43: 0 | P43: 0
...

Sheet V
A2: V - REGIÓN DE VALPARAISO
A3: =+Notas!C6 -> AGOSTO 2025 Y AGOSTO 2026
A6: N° | B6: Cuadro | C6: Tramo de Edad | D6: Sistema Isapre | H6: Sexo Femenino | K6: Sexo Masculino | N6: Sin Información Sexo
D7: N° Cotizantes | E7: % de Cotizantes Vigentes | F7: Cotización Pactada Promedio por Cotizante ($) | G7: N° Cargas Promedio por Cotizante | H7: N° Cotizantes | I7: Cotización Pactada Promedio por Cotizante ($) | J7: N° Cargas Promedio por Cotizante | K7: N° Cotizantes | L7: Cotización Pactada Promedio por Cotizante ($) | M7: N° Cargas Promedio por Cotizante | N7: N° Cotizantes | O7: Cotización Pactada Promedio por Cotizante ($) | P7: N° Cargas Promedio por Cotizante
A8: 1 | B8: Cotizantes que abandonan el Sistema Isapre | C8: 0 a 19 años | D8: 7 | E8: 0.055118 | F8: 106937.03 | G8: 0.428571 | H8: 2 | I8: 81718.23 | J8: 0 | K8: 5 | L8: 117024.55 | M8: 0.6 | N8: 0 | O8: 0 | P8: 0
C9: 20 a 24 años | D9: 101 | E9: 0.17265 | F9: 133720.89 | G9: 0.138614 | H9: 43 | I9: 133274.1 | J9: 0.186047 | K9: 58 | L9: 134052.14 | M9: 0.103448 | N9: 0 | O9: 0 | P9: 0
C10: 25 a 29 años | D10: 544 | E10: 0.12291 | F10: 150114.83 | G10: 0.117647 | H10: 215 | I10: 153837.68 | J10: 0.162791 | K10: 329 | L10: 147681.96 | M10: 0.088146 | N10: 0 | O10: 0 | P10: 0
C11: 30 a 34 años | D11: 1198 | E11: 0.107569 | F11: 178790.84 | G11: 0.297997 | H11: 507 | I11: 193987.33 | J11: 0.447732 | K11: 691 | L11: 167640.88 | M11: 0.188133 | N11: 0 | O11: 0 | P11: 0
C12: 35 a 39 años | D12: 1463 | E12: 0.08663 | F12: 198603.56 | G12: 0.456596 | H12: 554 | I12: 212934.97 | J12: 0.575812 | K12: 909 | L12: 189869.12 | M12: 0.383938 | N12: 0 | O12: 0 | P12: 0
C13: 40 a 44 años | D13: 1175 | E13: 0.074698 | F13: 231532.67 | G13: 0.730213 | H13: 426 | I13: 233062.99 | J13: 0.71831 | K13: 749 | L13: 230662.29 | M13: 0.736983 | N13: 0 | O13: 0 | P13: 0
C14: 45 a 49 años | D14: 943 | E14: 0.067808 | F14: 232043.6 | G14: 0.794274 | H14: 300 | I14: 222217.63 | J14: 0.573333 | K14: 643 | L14: 236628.03 | M14: 0.897356 | N14: 0 | O14: 0 | P14: 0
C15: 50 a 54 años | D15: 778 | E15: 0.063578 | F15: 235779.15 | G15: 0.787918 | H15: 228 | I15: 226579.53 | J15: 0.675439 | K15: 550 | L15: 239592.81 | M15: 0.834545 | N15: 0 | O15: 0 | P15: 0
C16: 55 a 59 años | D16: 622 | E16: 0.061226 | F16: 240004.29 | G16: 0.733119 | H16: 186 | I16: 208109.34 | J16: 0.387097 | K16: 436 | L16: 253610.84 | M16: 0.880734 | N16: 0 | O16: 0 | P16: 0
C17: 60 a 64 años | D17: 692 | E17: 0.080418 | F17: 240848.11 | G17: 0.611272 | H17: 254 | I17: 211969.82 | J17: 0.208661 | K17: 438 | L17: 257594.88 | M17: 0.844749 | N17: 0 | O17: 0 | P17: 0
C18: 65 y más años | D18: 1173 | E18: 0.056429 | F18: 253895.53 | G18: 0.436488 | H18: 418 | I18: 204667.63 | J18: 0.098086 | K18: 755 | L18: 281150.18 | M18: 0.623841 | N18: 0 | O18: 0 | P18: 0
C19: Total | D19: 8696 | E19: 0.075889 | F19: 217196.23 | G19: 0.542433 | H19: 3133 | I19: 207787.06 | J19: 0.442707 | K19: 5563 | L19: 222495.34 | M19: 0.598598 | N19: 0 | O19: 0 | P19: 0
A20: 2 | B20: Cotizantes que ingresan al Sistema Isapre | C20: 0 a 19 años | D20: 43 | E20: 0.338583 | F20: 102421.53 | G20: 0.209302 | H20: 18 | I20: 77918.5 | J20: 0.055556 | K20: 25 | L20: 120063.72 | M20: 0.32 | N20: 0 | O20: 0 | P20: 0
C21: 20 a 24 años | D21: 316 | E21: 0.540171 | F21: 128505.88 | G21: 0.050633 | H21: 124 | I21: 126973.42 | J21: 0.040323 | K21: 192 | L21: 129495.59 | M21: 0.057292 | N21: 0 | O21: 0 | P21: 0
C22: 25 a 29 años | D22: 1457 | E22: 0.329191 | F22: 153038.68 | G22: 0.096774 | H22: 661 | I22: 155631.74 | J22: 0.077156 | K22: 796 | L22: 150885.4 | M22: 0.113065 | N22: 0 | O22: 0 | P22: 0
C23: 30 a 34 años | D23: 1291 | E23: 0.11592 | F23: 167097.53 | G23: 0.192874 | H23: 513 | I23: 167196.39 | J23: 0.181287 | K23: 778 | L23: 167032.35 | M23: 0.200514 | N23: 0 | O23: 0 | P23: 0
C24: 35 a 39 años | D24: 1030 | E24: 0.06099 | F24: 187765.16 | G24: 0.334951 | H24: 395 | I24: 194508.49 | J24: 0.359494 | K24: 635 | L24: 183570.49 | M24: 0.319685 | N24: 0 | O24: 0 | P24: 0
C25: 40 a 44 años | D25: 739 | E25: 0.04698 | F25: 200546.13 | G25: 0.447903 | H25: 251 | I25: 200258.89 | J25: 0.438247 | K25: 488 | L25: 200693.87 | M25: 0.452869 | N25: 0 | O25: 0 | P25: 0
C26: 45 a 49 años | D26: 541 | E26: 0.038901 | F26: 208373.9 | G26: 0.502773 | H26: 196 | I26: 199037.81 | J26: 0.408163 | K26: 345 | L26: 213677.88 | M26: 0.556522 | N26: 0 | O26: 0 | P26: 0
C27: 50 a 54 años | D27: 381 | E27: 0.031135 | F27: 202647.91 | G27: 0.509186 | H27: 131 | I27: 182805.5 | J27: 0.335878 | K27: 250 | L27: 213045.33 | M27: 0.6 | N27: 0 | O27: 0 | P27: 0
C28: 55 a 59 años | D28: 180 | E28: 0.017718 | F28: 240299.01 | G28: 0.555556 | H28: 66 | I28: 228859.94 | J28: 0.393939 | K28: 114 | L28: 246921.63 | M28: 0.649123 | N28: 0 | O28: 0 | P28: 0
C29: 60 a 64 años | D29: 79 | E29: 0.009181 | F29: 242062.84 | G29: 0.417722 | H29: 33 | I29: 207973.12 | J29: 0.121212 | K29: 46 | L29: 266518.5 | M29: 0.630435 | N29: 0 | O29: 0 | P29: 0
C30: 65 y más años | D30: 144 | E30: 0.006927 | F30: 157732.06 | G30: 0.125 | H30: 121 | I30: 132809.28 | J30: 0.090909 | K30: 23 | L30: 288847.52 | M30: 0.304348 | N30: 0 | O30: 0 | P30: 0
C31: Total | D31: 6201 | E31: 0.054116 | F31: 177446.1 | G31: 0.275439 | H31: 2509 | I31: 172931.1 | J31: 0.225986 | K31: 3692 | L31: 180514.4 | M31: 0.309047 | N31: 0 | O31: 0 | P31: 0
A32: 3 | B32: Diferencia de Cotizantes | C32: 0 a 19 años | D32: 36 | E32: 0 | F32: -4515.4944 | G32: -0.219269 | H32: 16 | I32: -3799.7296 | J32: 0.055556 | K32: 20 | L32: 3039.1708 | M32: -0.28 | N32: 0 | O32: 0 | P32: 0
C33: 20 a 24 años | D33: 215 | E33: 0 | F33: -5215.0183 | G33: -0.087981 | H33: 81 | I33: -6300.6767 | J33: -0.145724 | K33: 134 | L33: -4556.5538 | M33: -0.046157 | N33: 0 | O33: 0 | P33: 0
C34: 25 a 29 años | D34: 913 | E34: 0 | F34: 2923.8501 | G34: -0.020873 | H34: 446 | I34: 1794.0616 | J34: -0.085635 | K34: 467 | L34: 3203.4322 | M34: 0.024919 | N34: 0 | O34: 0 | P34: 0
C35: 30 a 34 años | D35: 93 | E35: 0 | F35: -11693.307 | G35: -0.105123 | H35: 6 | I35: -26790.942 | J35: -0.266445 | K35: 87 | L35: -608.53301 | M35: 0.012381 | N35: 0 | O35: 0 | P35: 0
C36: 35 a 39 años | D36: -433 | E36: 0 | F36: -10838.396 | G36: -0.121645 | H36: -159 | I36: -18426.482 | J36: -0.216319 | K36: -274 | L36: -6298.6278 | M36: -0.064253 | N36: 0 | O36: 0 | P36: 0
C37: 40 a 44 años | D37: -436 | E37: 0 | F37: -30986.543 | G37: -0.28231 | H37: -175 | I37: -32804.099 | J37: -0.280063 | K37: -261 | L37: -29968.423 | M37: -0.284114 | N37: 0 | O37: 0 | P37: 0
C38: 45 a 49 años | D38: -402 | E38: 0 | F38: -23669.698 | G38: -0.291501 | H38: -104 | I38: -23179.828 | J38: -0.16517 | K38: -298 | L38: -22950.145 | M38: -0.340834 | N38: 0 | O38: 0 | P38: 0
C39: 50 a 54 años | D39: -397 | E39: 0 | F39: -33131.245 | G39: -0.278731 | H39: -97 | I39: -43774.027 | J39: -0.339561 | K39: -300 | L39: -26547.486 | M39: -0.234545 | N39: 0 | O39: 0 | P39: 0
C40: 55 a 59 años | D40: -442 | E40: 0 | F40: 294.72559 | G40: -0.177563 | H40: -120 | I40: 20750.595 | J40: 0.006843 | K40: -322 | L40: -6689.2115 | M40: -0.231611 | N40: 0 | O40: 0 | P40: 0
C41: 60 a 64 años | D41: -613 | E41: 0 | F41: 1214.7261 | G41: -0.19355 | H41: -221 | I41: -3996.7035 | J41: -0.087449 | K41: -392 | L41: 8923.6229 | M41: -0.214314 | N41: 0 | O41: 0 | P41: 0
C42: 65 y más años | D42: -1029 | E42: 0 | F42: -96163.47 | G42: -0.311488 | H42: -297 | I42: -71858.347 | J42: -0.007177 | K42: -732 | L42: 7697.3461 | M42: -0.319493 | N42: 0 | O42: 0 | P42: 0
C43: Total | D43: -2495 | E43: 0 | F43: -39750.131 | G43: -0.266994 | H43: -624 | I43: -34855.967 | J43: -0.21672 | K43: -1871 | L43: -41980.94 | M43: -0.289551 | N43: 0 | O43: 0 | P43: 0
...

Sheet VI
A2: VI - REGIÓN DEL LIBERTADOR BERNARDO O´HIGGINS
A3: =+Notas!C6 -> AGOSTO 2025 Y AGOSTO 2026
A6: N° | B6: Cuadro | C6: Tramo de Edad | D6: Sistema Isapre | H6: Sexo Femenino | K6: Sexo Masculino | N6: Sin Información Sexo
D7: N° Cotizantes | E7: % de Cotizantes Vigentes | F7: Cotización Pactada Promedio por Cotizante ($) | G7: N° Cargas Promedio por Cotizante | H7: N° Cotizantes | I7: Cotización Pactada Promedio por Cotizante ($) | J7: N° Cargas Promedio por Cotizante | K7: N° Cotizantes | L7: Cotización Pactada Promedio por Cotizante ($) | M7: N° Cargas Promedio por Cotizante | N7: N° Cotizantes | O7: Cotización Pactada Promedio por Cotizante ($) | P7: N° Cargas Promedio por Cotizante
A8: 1 | B8: Cotizantes que abandonan el Sistema Isapre | C8: 0 a 19 años | D8: 11 | E8: 0.152778 | F8: 80366.926 | G8: 0.181818 | H8: 7 | I8: 86318.714 | J8: 0.285714 | K8: 4 | L8: 69951.296 | M8: 0 | N8: 0 | O8: 0 | P8: 0
